BEGIN:VCALENDAR
VERSION:2.0
PRODID:-//Nicole Johnston - ECPv6.15.20//NONSGML v1.0//EN
CALSCALE:GREGORIAN
METHOD:PUBLISH
X-ORIGINAL-URL:https://nicolejohnston.com.au
X-WR-CALDESC:Events for Nicole Johnston
REFRESH-INTERVAL;VALUE=DURATION:PT1H
X-Robots-Tag:noindex
X-PUBLISHED-TTL:PT1H
BEGIN:VTIMEZONE
TZID:Australia/Brisbane
BEGIN:STANDARD
TZOFFSETFROM:+1000
TZOFFSETTO:+1000
TZNAME:AEST
DTSTART:20150101T000000
END:STANDARD
END:VTIMEZONE
BEGIN:VEVENT
DTSTART;TZID=Australia/Brisbane:20160420T153000
DTEND;TZID=Australia/Brisbane:20160420T163000
DTSTAMP:20260424T215305
CREATED:20151015T074156Z
LAST-MODIFIED:20160331T194036Z
UID:4450-1461166200-1461169800@nicolejohnston.com.au
SUMMARY:Sherwood | Clublink
DESCRIPTION:Not sure what local sports club your child should join?  Come along and experience a different sport each week.  Find the sport that’s right before signing up. \nParents are encouraged to join in.  Bookings are not required\, however sun protection and water bottles are. \nSuitable for children aged 6 – 12 years.
URL:https://nicolejohnston.com.au/event/clublink/2016-04-20/
LOCATION:Sherwood Arboretum\, 57 Dewar Terrace\, Sherwood\, Queensland\, 4075\, Australia
GEO:-27.532253;152.977305
X-APPLE-STRUCTURED-LOCATION;VALUE=URI;X-ADDRESS=Sherwood Arboretum 57 Dewar Terrace Sherwood Queensland 4075 Australia;X-APPLE-RADIUS=500;X-TITLE=57 Dewar Terrace:geo:152.977305,-27.532253
END:VEVENT
END:VCALENDAR