BEGIN:VCALENDAR
VERSION:2.0
PRODID:-//Nicole Johnston - ECPv6.15.20//NONSGML v1.0//EN
CALSCALE:GREGORIAN
METHOD:PUBLISH
X-ORIGINAL-URL:https://nicolejohnston.com.au
X-WR-CALDESC:Events for Nicole Johnston
REFRESH-INTERVAL;VALUE=DURATION:PT1H
X-Robots-Tag:noindex
X-PUBLISHED-TTL:PT1H
BEGIN:VTIMEZONE
TZID:Australia/Brisbane
BEGIN:STANDARD
TZOFFSETFROM:+1000
TZOFFSETTO:+1000
TZNAME:AEST
DTSTART:20240101T000000
END:STANDARD
END:VTIMEZONE
BEGIN:VEVENT
DTSTART;TZID=Australia/Brisbane:20250405T120000
DTEND;TZID=Australia/Brisbane:20250405T124500
DTSTAMP:20260424T181757
CREATED:20241212T005229Z
LAST-MODIFIED:20241212T005229Z
UID:29038-1743854400-1743857100@nicolejohnston.com.au
SUMMARY:Corinda | Aqua Aerobics
DESCRIPTION:Experience an excellent\, low-impact cross-training workout in the water. Feel the benefits of exercise without the pain. Using minimum impact movements\, participants will develop strength\, mobility and movement in a fun environment. This class will be conducted in the outdoor 25m/50m pool. \nFor more information phone or text Aqua English on 0406 063 737.
URL:https://nicolejohnston.com.au/event/corinda-aqua-aerobics-2/2025-04-05/
LOCATION:Dunlop Park Memorial Pool\, 794 Oxley Rd\, Corinda\, Qld\, 4075\, Australia
GEO:-27.5473096;152.9806407
X-APPLE-STRUCTURED-LOCATION;VALUE=URI;X-ADDRESS=Dunlop Park Memorial Pool 794 Oxley Rd Corinda Qld 4075 Australia;X-APPLE-RADIUS=500;X-TITLE=794 Oxley Rd:geo:152.9806407,-27.5473096
END:VEVENT
BEGIN:VEVENT
DTSTART;TZID=Australia/Brisbane:20250329T120000
DTEND;TZID=Australia/Brisbane:20250329T124500
DTSTAMP:20260424T181757
CREATED:20241212T005229Z
LAST-MODIFIED:20241212T005229Z
UID:29037-1743249600-1743252300@nicolejohnston.com.au
SUMMARY:Corinda | Aqua Aerobics
DESCRIPTION:Experience an excellent\, low-impact cross-training workout in the water. Feel the benefits of exercise without the pain. Using minimum impact movements\, participants will develop strength\, mobility and movement in a fun environment. This class will be conducted in the outdoor 25m/50m pool. \nFor more information phone or text Aqua English on 0406 063 737.
URL:https://nicolejohnston.com.au/event/corinda-aqua-aerobics-2/2025-03-29/
LOCATION:Dunlop Park Memorial Pool\, 794 Oxley Rd\, Corinda\, Qld\, 4075\, Australia
GEO:-27.5473096;152.9806407
X-APPLE-STRUCTURED-LOCATION;VALUE=URI;X-ADDRESS=Dunlop Park Memorial Pool 794 Oxley Rd Corinda Qld 4075 Australia;X-APPLE-RADIUS=500;X-TITLE=794 Oxley Rd:geo:152.9806407,-27.5473096
END:VEVENT
BEGIN:VEVENT
DTSTART;TZID=Australia/Brisbane:20250322T120000
DTEND;TZID=Australia/Brisbane:20250322T124500
DTSTAMP:20260424T181757
CREATED:20241212T005229Z
LAST-MODIFIED:20250113T034100Z
UID:28731-1742644800-1742647500@nicolejohnston.com.au
SUMMARY:Corinda | Aqua Aerobics
DESCRIPTION:Experience an excellent\, low-impact cross-training workout in the water. Feel the benefits of exercise without the pain. Using minimum impact movements\, participants will develop strength\, mobility and movement in a fun environment. This class will be conducted in the outdoor 25m/50m pool. \nFor more information phone or text Aqua English on 0406 063 737.
URL:https://nicolejohnston.com.au/event/corinda-aqua-aerobics-2/2025-03-22/
LOCATION:Dunlop Park Memorial Pool\, 794 Oxley Rd\, Corinda\, Qld\, 4075\, Australia
GEO:-27.5473096;152.9806407
X-APPLE-STRUCTURED-LOCATION;VALUE=URI;X-ADDRESS=Dunlop Park Memorial Pool 794 Oxley Rd Corinda Qld 4075 Australia;X-APPLE-RADIUS=500;X-TITLE=794 Oxley Rd:geo:152.9806407,-27.5473096
END:VEVENT
BEGIN:VEVENT
DTSTART;TZID=Australia/Brisbane:20250315T120000
DTEND;TZID=Australia/Brisbane:20250315T124500
DTSTAMP:20260424T181757
CREATED:20241212T005229Z
LAST-MODIFIED:20250113T034100Z
UID:28730-1742040000-1742042700@nicolejohnston.com.au
SUMMARY:Corinda | Aqua Aerobics
DESCRIPTION:Experience an excellent\, low-impact cross-training workout in the water. Feel the benefits of exercise without the pain. Using minimum impact movements\, participants will develop strength\, mobility and movement in a fun environment. This class will be conducted in the outdoor 25m/50m pool. \nFor more information phone or text Aqua English on 0406 063 737.
URL:https://nicolejohnston.com.au/event/corinda-aqua-aerobics-2/2025-03-15/
LOCATION:Dunlop Park Memorial Pool\, 794 Oxley Rd\, Corinda\, Qld\, 4075\, Australia
GEO:-27.5473096;152.9806407
X-APPLE-STRUCTURED-LOCATION;VALUE=URI;X-ADDRESS=Dunlop Park Memorial Pool 794 Oxley Rd Corinda Qld 4075 Australia;X-APPLE-RADIUS=500;X-TITLE=794 Oxley Rd:geo:152.9806407,-27.5473096
END:VEVENT
BEGIN:VEVENT
DTSTART;TZID=Australia/Brisbane:20250308T120000
DTEND;TZID=Australia/Brisbane:20250308T124500
DTSTAMP:20260424T181757
CREATED:20241212T005229Z
LAST-MODIFIED:20250113T034059Z
UID:28729-1741435200-1741437900@nicolejohnston.com.au
SUMMARY:Corinda | Aqua Aerobics
DESCRIPTION:Experience an excellent\, low-impact cross-training workout in the water. Feel the benefits of exercise without the pain. Using minimum impact movements\, participants will develop strength\, mobility and movement in a fun environment. This class will be conducted in the outdoor 25m/50m pool. \nFor more information phone or text Aqua English on 0406 063 737.
URL:https://nicolejohnston.com.au/event/corinda-aqua-aerobics-2/2025-03-08/
LOCATION:Dunlop Park Memorial Pool\, 794 Oxley Rd\, Corinda\, Qld\, 4075\, Australia
GEO:-27.5473096;152.9806407
X-APPLE-STRUCTURED-LOCATION;VALUE=URI;X-ADDRESS=Dunlop Park Memorial Pool 794 Oxley Rd Corinda Qld 4075 Australia;X-APPLE-RADIUS=500;X-TITLE=794 Oxley Rd:geo:152.9806407,-27.5473096
END:VEVENT
BEGIN:VEVENT
DTSTART;TZID=Australia/Brisbane:20250301T120000
DTEND;TZID=Australia/Brisbane:20250301T124500
DTSTAMP:20260424T181757
CREATED:20241212T005229Z
LAST-MODIFIED:20250113T034059Z
UID:28728-1740830400-1740833100@nicolejohnston.com.au
SUMMARY:Corinda | Aqua Aerobics
DESCRIPTION:Experience an excellent\, low-impact cross-training workout in the water. Feel the benefits of exercise without the pain. Using minimum impact movements\, participants will develop strength\, mobility and movement in a fun environment. This class will be conducted in the outdoor 25m/50m pool. \nFor more information phone or text Aqua English on 0406 063 737.
URL:https://nicolejohnston.com.au/event/corinda-aqua-aerobics-2/2025-03-01/
LOCATION:Dunlop Park Memorial Pool\, 794 Oxley Rd\, Corinda\, Qld\, 4075\, Australia
GEO:-27.5473096;152.9806407
X-APPLE-STRUCTURED-LOCATION;VALUE=URI;X-ADDRESS=Dunlop Park Memorial Pool 794 Oxley Rd Corinda Qld 4075 Australia;X-APPLE-RADIUS=500;X-TITLE=794 Oxley Rd:geo:152.9806407,-27.5473096
END:VEVENT
BEGIN:VEVENT
DTSTART;TZID=Australia/Brisbane:20250222T120000
DTEND;TZID=Australia/Brisbane:20250222T124500
DTSTAMP:20260424T181757
CREATED:20241212T005229Z
LAST-MODIFIED:20250113T034058Z
UID:28727-1740225600-1740228300@nicolejohnston.com.au
SUMMARY:Corinda | Aqua Aerobics
DESCRIPTION:Experience an excellent\, low-impact cross-training workout in the water. Feel the benefits of exercise without the pain. Using minimum impact movements\, participants will develop strength\, mobility and movement in a fun environment. This class will be conducted in the outdoor 25m/50m pool. \nFor more information phone or text Aqua English on 0406 063 737.
URL:https://nicolejohnston.com.au/event/corinda-aqua-aerobics-2/2025-02-22/
LOCATION:Dunlop Park Memorial Pool\, 794 Oxley Rd\, Corinda\, Qld\, 4075\, Australia
GEO:-27.5473096;152.9806407
X-APPLE-STRUCTURED-LOCATION;VALUE=URI;X-ADDRESS=Dunlop Park Memorial Pool 794 Oxley Rd Corinda Qld 4075 Australia;X-APPLE-RADIUS=500;X-TITLE=794 Oxley Rd:geo:152.9806407,-27.5473096
END:VEVENT
BEGIN:VEVENT
DTSTART;TZID=Australia/Brisbane:20250215T120000
DTEND;TZID=Australia/Brisbane:20250215T124500
DTSTAMP:20260424T181757
CREATED:20241212T005229Z
LAST-MODIFIED:20250113T034058Z
UID:28726-1739620800-1739623500@nicolejohnston.com.au
SUMMARY:Corinda | Aqua Aerobics
DESCRIPTION:Experience an excellent\, low-impact cross-training workout in the water. Feel the benefits of exercise without the pain. Using minimum impact movements\, participants will develop strength\, mobility and movement in a fun environment. This class will be conducted in the outdoor 25m/50m pool. \nFor more information phone or text Aqua English on 0406 063 737.
URL:https://nicolejohnston.com.au/event/corinda-aqua-aerobics-2/2025-02-15/
LOCATION:Dunlop Park Memorial Pool\, 794 Oxley Rd\, Corinda\, Qld\, 4075\, Australia
GEO:-27.5473096;152.9806407
X-APPLE-STRUCTURED-LOCATION;VALUE=URI;X-ADDRESS=Dunlop Park Memorial Pool 794 Oxley Rd Corinda Qld 4075 Australia;X-APPLE-RADIUS=500;X-TITLE=794 Oxley Rd:geo:152.9806407,-27.5473096
END:VEVENT
BEGIN:VEVENT
DTSTART;TZID=Australia/Brisbane:20250208T120000
DTEND;TZID=Australia/Brisbane:20250208T124500
DTSTAMP:20260424T181757
CREATED:20241212T005229Z
LAST-MODIFIED:20250113T034057Z
UID:28725-1739016000-1739018700@nicolejohnston.com.au
SUMMARY:Corinda | Aqua Aerobics
DESCRIPTION:Experience an excellent\, low-impact cross-training workout in the water. Feel the benefits of exercise without the pain. Using minimum impact movements\, participants will develop strength\, mobility and movement in a fun environment. This class will be conducted in the outdoor 25m/50m pool. \nFor more information phone or text Aqua English on 0406 063 737.
URL:https://nicolejohnston.com.au/event/corinda-aqua-aerobics-2/2025-02-08/
LOCATION:Dunlop Park Memorial Pool\, 794 Oxley Rd\, Corinda\, Qld\, 4075\, Australia
GEO:-27.5473096;152.9806407
X-APPLE-STRUCTURED-LOCATION;VALUE=URI;X-ADDRESS=Dunlop Park Memorial Pool 794 Oxley Rd Corinda Qld 4075 Australia;X-APPLE-RADIUS=500;X-TITLE=794 Oxley Rd:geo:152.9806407,-27.5473096
END:VEVENT
BEGIN:VEVENT
DTSTART;TZID=Australia/Brisbane:20250201T120000
DTEND;TZID=Australia/Brisbane:20250201T124500
DTSTAMP:20260424T181757
CREATED:20241212T005229Z
LAST-MODIFIED:20250113T034056Z
UID:28724-1738411200-1738413900@nicolejohnston.com.au
SUMMARY:Corinda | Aqua Aerobics
DESCRIPTION:Experience an excellent\, low-impact cross-training workout in the water. Feel the benefits of exercise without the pain. Using minimum impact movements\, participants will develop strength\, mobility and movement in a fun environment. This class will be conducted in the outdoor 25m/50m pool. \nFor more information phone or text Aqua English on 0406 063 737.
URL:https://nicolejohnston.com.au/event/corinda-aqua-aerobics-2/2025-02-01/
LOCATION:Dunlop Park Memorial Pool\, 794 Oxley Rd\, Corinda\, Qld\, 4075\, Australia
GEO:-27.5473096;152.9806407
X-APPLE-STRUCTURED-LOCATION;VALUE=URI;X-ADDRESS=Dunlop Park Memorial Pool 794 Oxley Rd Corinda Qld 4075 Australia;X-APPLE-RADIUS=500;X-TITLE=794 Oxley Rd:geo:152.9806407,-27.5473096
END:VEVENT
END:VCALENDAR