BEGIN:VCALENDAR
VERSION:2.0
PRODID:-//Nicole Johnston - ECPv6.15.20//NONSGML v1.0//EN
CALSCALE:GREGORIAN
METHOD:PUBLISH
X-ORIGINAL-URL:https://nicolejohnston.com.au
X-WR-CALDESC:Events for Nicole Johnston
REFRESH-INTERVAL;VALUE=DURATION:PT1H
X-Robots-Tag:noindex
X-PUBLISHED-TTL:PT1H
BEGIN:VTIMEZONE
TZID:Australia/Brisbane
BEGIN:STANDARD
TZOFFSETFROM:+1000
TZOFFSETTO:+1000
TZNAME:AEST
DTSTART:20190101T000000
END:STANDARD
END:VTIMEZONE
BEGIN:VEVENT
DTSTART;TZID=Australia/Brisbane:20200108T090000
DTEND;TZID=Australia/Brisbane:20200108T110000
DTSTAMP:20260424T154756
CREATED:20191202T021750Z
LAST-MODIFIED:20191202T021750Z
UID:19992-1578474000-1578481200@nicolejohnston.com.au
SUMMARY:Corinda | Community Immunisation Clinics
DESCRIPTION:Brisbane City Council is helping to grow your Brisbane lifestyle by supporting our community with free immunisation clinics in line with the National Immunisation Program Schedule for Queensland. Some vaccines are not free to everyone.
URL:https://nicolejohnston.com.au/event/corinda-community-immunisation-clinics/2020-01-08/
LOCATION:Corinda Bowls Club\, 60 Hall St\, Corinda\, Qld\, 4075\, Australia
GEO:-27.5314721;152.986358
X-APPLE-STRUCTURED-LOCATION;VALUE=URI;X-ADDRESS=Corinda Bowls Club 60 Hall St Corinda Qld 4075 Australia;X-APPLE-RADIUS=500;X-TITLE=60 Hall St:geo:152.986358,-27.5314721
END:VEVENT
END:VCALENDAR