BEGIN:VCALENDAR
VERSION:2.0
PRODID:-//Nicole Johnston - ECPv6.15.20//NONSGML v1.0//EN
CALSCALE:GREGORIAN
METHOD:PUBLISH
X-ORIGINAL-URL:https://nicolejohnston.com.au
X-WR-CALDESC:Events for Nicole Johnston
REFRESH-INTERVAL;VALUE=DURATION:PT1H
X-Robots-Tag:noindex
X-PUBLISHED-TTL:PT1H
BEGIN:VTIMEZONE
TZID:Australia/Brisbane
BEGIN:STANDARD
TZOFFSETFROM:+1000
TZOFFSETTO:+1000
TZNAME:AEST
DTSTART:20250101T000000
END:STANDARD
END:VTIMEZONE
BEGIN:VEVENT
DTSTART;TZID=Australia/Brisbane:20260730T070000
DTEND;TZID=Australia/Brisbane:20260730T090000
DTSTAMP:20260424T043016
CREATED:20260119T015104Z
LAST-MODIFIED:20260119T015104Z
UID:31802-1785394800-1785402000@nicolejohnston.com.au
SUMMARY:Corinda | Creekcare: Cliveden Ave Reserve
DESCRIPTION:OCCA’s CreekCare Team is a roving group of volunteers that assists both OCCA Bushcare and Habitat Brisbane groups in Oxley Creek Catchment. The group meets at different regeneration sites each Thursday morning from 7 am to 9 am. \nCome along and enjoy the company of this hard working group of volunteers\, contribute to the maintenance of some significant sites in the catchment and share in morning tea. \nIf you are interested in being involved\, please contact the coordinator: Trevor Armstrong on 0414 691 264 or trevor.r.armstrong@gmail.com to confirm details of the next group.
URL:https://nicolejohnston.com.au/event/corinda-creekcare-cliveden-ave-reserve/2026-07-30/
LOCATION:Cliveden Avenue Reserve\, 449 Cliveden Ave\, Oxley\, Queensland\, 4075\, Australia
ORGANIZER;CN="Cliveden Reserve Bushcare Group":MAILTO:bristowc@bigpond.net.au
END:VEVENT
BEGIN:VEVENT
DTSTART;TZID=Australia/Brisbane:20261105T070000
DTEND;TZID=Australia/Brisbane:20261105T090000
DTSTAMP:20260424T043016
CREATED:20260119T015104Z
LAST-MODIFIED:20260119T015104Z
UID:31803-1793862000-1793869200@nicolejohnston.com.au
SUMMARY:Corinda | Creekcare: Cliveden Ave Reserve
DESCRIPTION:OCCA’s CreekCare Team is a roving group of volunteers that assists both OCCA Bushcare and Habitat Brisbane groups in Oxley Creek Catchment. The group meets at different regeneration sites each Thursday morning from 7 am to 9 am. \nCome along and enjoy the company of this hard working group of volunteers\, contribute to the maintenance of some significant sites in the catchment and share in morning tea. \nIf you are interested in being involved\, please contact the coordinator: Trevor Armstrong on 0414 691 264 or trevor.r.armstrong@gmail.com to confirm details of the next group.
URL:https://nicolejohnston.com.au/event/corinda-creekcare-cliveden-ave-reserve/2026-11-05/
LOCATION:Cliveden Avenue Reserve\, 449 Cliveden Ave\, Oxley\, Queensland\, 4075\, Australia
ORGANIZER;CN="Cliveden Reserve Bushcare Group":MAILTO:bristowc@bigpond.net.au
END:VEVENT
END:VCALENDAR