BEGIN:VCALENDAR
VERSION:2.0
PRODID:-//Nicole Johnston - ECPv6.15.20//NONSGML v1.0//EN
CALSCALE:GREGORIAN
METHOD:PUBLISH
X-WR-CALNAME:Nicole Johnston
X-ORIGINAL-URL:https://nicolejohnston.com.au
X-WR-CALDESC:Events for Nicole Johnston
REFRESH-INTERVAL;VALUE=DURATION:PT1H
X-Robots-Tag:noindex
X-PUBLISHED-TTL:PT1H
BEGIN:VTIMEZONE
TZID:Australia/Brisbane
BEGIN:STANDARD
TZOFFSETFROM:+1000
TZOFFSETTO:+1000
TZNAME:AEST
DTSTART:20250101T000000
END:STANDARD
END:VTIMEZONE
BEGIN:VEVENT
DTSTART;TZID=Australia/Brisbane:20260430T070000
DTEND;TZID=Australia/Brisbane:20260430T090000
DTSTAMP:20260424T043015
CREATED:20260119T015335Z
LAST-MODIFIED:20260119T020539Z
UID:31780-1777532400-1777539600@nicolejohnston.com.au
SUMMARY:Corinda | Creekcare: Fifteen Mile Corner
DESCRIPTION:OCCA’s CreekCare Team is a roving group of volunteers that assists both OCCA Bushcare and Habitat Brisbane groups in Oxley Creek Catchment. The group meets at different regeneration sites each Thursday morning from 7 am to 9 am. \nCome along and enjoy the company of this hard working group of volunteers\, contribute to the maintenance of some significant sites in the catchment and share in morning tea. \nIf you are interested in being involved\, please contact the coordinator: Trevor Armstrong on 0414 691 264 or trevor.r.armstrong@gmail.com to confirm details of the next group.
URL:https://nicolejohnston.com.au/event/corinda-creekcare-fifteen-mile-corner/2026-04-30/
LOCATION:15 Mile Corner Park\, Corinda\, Cnr Teesdale St and Tapley St\, Corinda\, Queensland\, 4075\, Australia
ORGANIZER;CN="15 Mile Corner Park Bushcare Group":MAILTO:jeffreyjbm@gmail.com
END:VEVENT
BEGIN:VEVENT
DTSTART;TZID=Australia/Brisbane:20260806T070000
DTEND;TZID=Australia/Brisbane:20260806T090000
DTSTAMP:20260424T043015
CREATED:20260119T015335Z
LAST-MODIFIED:20260119T015335Z
UID:31804-1785999600-1786006800@nicolejohnston.com.au
SUMMARY:Corinda | Creekcare: Fifteen Mile Corner
DESCRIPTION:OCCA’s CreekCare Team is a roving group of volunteers that assists both OCCA Bushcare and Habitat Brisbane groups in Oxley Creek Catchment. The group meets at different regeneration sites each Thursday morning from 7 am to 9 am. \nCome along and enjoy the company of this hard working group of volunteers\, contribute to the maintenance of some significant sites in the catchment and share in morning tea. \nIf you are interested in being involved\, please contact the coordinator: Trevor Armstrong on 0414 691 264 or trevor.r.armstrong@gmail.com to confirm details of the next group.
URL:https://nicolejohnston.com.au/event/corinda-creekcare-fifteen-mile-corner/2026-08-06/
LOCATION:15 Mile Corner Park\, Corinda\, Cnr Teesdale St and Tapley St\, Corinda\, Queensland\, 4075\, Australia
ORGANIZER;CN="15 Mile Corner Park Bushcare Group":MAILTO:jeffreyjbm@gmail.com
END:VEVENT
BEGIN:VEVENT
DTSTART;TZID=Australia/Brisbane:20261112T070000
DTEND;TZID=Australia/Brisbane:20261112T090000
DTSTAMP:20260424T043015
CREATED:20260119T015335Z
LAST-MODIFIED:20260119T015335Z
UID:31805-1794466800-1794474000@nicolejohnston.com.au
SUMMARY:Corinda | Creekcare: Fifteen Mile Corner
DESCRIPTION:OCCA’s CreekCare Team is a roving group of volunteers that assists both OCCA Bushcare and Habitat Brisbane groups in Oxley Creek Catchment. The group meets at different regeneration sites each Thursday morning from 7 am to 9 am. \nCome along and enjoy the company of this hard working group of volunteers\, contribute to the maintenance of some significant sites in the catchment and share in morning tea. \nIf you are interested in being involved\, please contact the coordinator: Trevor Armstrong on 0414 691 264 or trevor.r.armstrong@gmail.com to confirm details of the next group.
URL:https://nicolejohnston.com.au/event/corinda-creekcare-fifteen-mile-corner/2026-11-12/
LOCATION:15 Mile Corner Park\, Corinda\, Cnr Teesdale St and Tapley St\, Corinda\, Queensland\, 4075\, Australia
ORGANIZER;CN="15 Mile Corner Park Bushcare Group":MAILTO:jeffreyjbm@gmail.com
END:VEVENT
END:VCALENDAR