BEGIN:VCALENDAR
VERSION:2.0
PRODID:-//Nicole Johnston - ECPv6.15.20//NONSGML v1.0//EN
CALSCALE:GREGORIAN
METHOD:PUBLISH
X-WR-CALNAME:Nicole Johnston
X-ORIGINAL-URL:https://nicolejohnston.com.au
X-WR-CALDESC:Events for Nicole Johnston
REFRESH-INTERVAL;VALUE=DURATION:PT1H
X-Robots-Tag:noindex
X-PUBLISHED-TTL:PT1H
BEGIN:VTIMEZONE
TZID:Australia/Brisbane
BEGIN:STANDARD
TZOFFSETFROM:+1000
TZOFFSETTO:+1000
TZNAME:AEST
DTSTART:20230101T000000
END:STANDARD
END:VTIMEZONE
BEGIN:VEVENT
DTSTART;TZID=Australia/Brisbane:20241207T130000
DTEND;TZID=Australia/Brisbane:20241207T140000
DTSTAMP:20260424T160914
CREATED:20240820T014859Z
LAST-MODIFIED:20240820T014859Z
UID:27924-1733576400-1733580000@nicolejohnston.com.au
SUMMARY:Corinda | Deep Water Running
DESCRIPTION:This is an aquatic workout that uses all major muscle groups. Participants wear a buoyancy belt so there’s no need to worry about being in deep water however you do require basic swimming skills. Classes will be held in the outdoor 50m pool. \nBring a buoyancy belt and towel.
URL:https://nicolejohnston.com.au/event/corinda-deep-water-running-2/2024-12-07/
LOCATION:Dunlop Park Memorial Pool\, 794 Oxley Rd\, Corinda\, Qld\, 4075\, Australia
ORGANIZER;CN="Aqua English":MAILTO:info@aquaenglish.com.au
GEO:-27.5473096;152.9806407
X-APPLE-STRUCTURED-LOCATION;VALUE=URI;X-ADDRESS=Dunlop Park Memorial Pool 794 Oxley Rd Corinda Qld 4075 Australia;X-APPLE-RADIUS=500;X-TITLE=794 Oxley Rd:geo:152.9806407,-27.5473096
END:VEVENT
BEGIN:VEVENT
DTSTART;TZID=Australia/Brisbane:20241130T130000
DTEND;TZID=Australia/Brisbane:20241130T140000
DTSTAMP:20260424T160914
CREATED:20240820T014859Z
LAST-MODIFIED:20240820T014859Z
UID:27923-1732971600-1732975200@nicolejohnston.com.au
SUMMARY:Corinda | Deep Water Running
DESCRIPTION:This is an aquatic workout that uses all major muscle groups. Participants wear a buoyancy belt so there’s no need to worry about being in deep water however you do require basic swimming skills. Classes will be held in the outdoor 50m pool. \nBring a buoyancy belt and towel.
URL:https://nicolejohnston.com.au/event/corinda-deep-water-running-2/2024-11-30/
LOCATION:Dunlop Park Memorial Pool\, 794 Oxley Rd\, Corinda\, Qld\, 4075\, Australia
ORGANIZER;CN="Aqua English":MAILTO:info@aquaenglish.com.au
GEO:-27.5473096;152.9806407
X-APPLE-STRUCTURED-LOCATION;VALUE=URI;X-ADDRESS=Dunlop Park Memorial Pool 794 Oxley Rd Corinda Qld 4075 Australia;X-APPLE-RADIUS=500;X-TITLE=794 Oxley Rd:geo:152.9806407,-27.5473096
END:VEVENT
BEGIN:VEVENT
DTSTART;TZID=Australia/Brisbane:20241123T130000
DTEND;TZID=Australia/Brisbane:20241123T140000
DTSTAMP:20260424T160914
CREATED:20240820T014859Z
LAST-MODIFIED:20240820T014859Z
UID:27922-1732366800-1732370400@nicolejohnston.com.au
SUMMARY:Corinda | Deep Water Running
DESCRIPTION:This is an aquatic workout that uses all major muscle groups. Participants wear a buoyancy belt so there’s no need to worry about being in deep water however you do require basic swimming skills. Classes will be held in the outdoor 50m pool. \nBring a buoyancy belt and towel.
URL:https://nicolejohnston.com.au/event/corinda-deep-water-running-2/2024-11-23/
LOCATION:Dunlop Park Memorial Pool\, 794 Oxley Rd\, Corinda\, Qld\, 4075\, Australia
ORGANIZER;CN="Aqua English":MAILTO:info@aquaenglish.com.au
GEO:-27.5473096;152.9806407
X-APPLE-STRUCTURED-LOCATION;VALUE=URI;X-ADDRESS=Dunlop Park Memorial Pool 794 Oxley Rd Corinda Qld 4075 Australia;X-APPLE-RADIUS=500;X-TITLE=794 Oxley Rd:geo:152.9806407,-27.5473096
END:VEVENT
BEGIN:VEVENT
DTSTART;TZID=Australia/Brisbane:20241116T130000
DTEND;TZID=Australia/Brisbane:20241116T140000
DTSTAMP:20260424T160914
CREATED:20240820T014859Z
LAST-MODIFIED:20240820T014859Z
UID:27921-1731762000-1731765600@nicolejohnston.com.au
SUMMARY:Corinda | Deep Water Running
DESCRIPTION:This is an aquatic workout that uses all major muscle groups. Participants wear a buoyancy belt so there’s no need to worry about being in deep water however you do require basic swimming skills. Classes will be held in the outdoor 50m pool. \nBring a buoyancy belt and towel.
URL:https://nicolejohnston.com.au/event/corinda-deep-water-running-2/2024-11-16/
LOCATION:Dunlop Park Memorial Pool\, 794 Oxley Rd\, Corinda\, Qld\, 4075\, Australia
ORGANIZER;CN="Aqua English":MAILTO:info@aquaenglish.com.au
GEO:-27.5473096;152.9806407
X-APPLE-STRUCTURED-LOCATION;VALUE=URI;X-ADDRESS=Dunlop Park Memorial Pool 794 Oxley Rd Corinda Qld 4075 Australia;X-APPLE-RADIUS=500;X-TITLE=794 Oxley Rd:geo:152.9806407,-27.5473096
END:VEVENT
BEGIN:VEVENT
DTSTART;TZID=Australia/Brisbane:20241109T130000
DTEND;TZID=Australia/Brisbane:20241109T140000
DTSTAMP:20260424T160914
CREATED:20240820T014859Z
LAST-MODIFIED:20240820T014859Z
UID:27920-1731157200-1731160800@nicolejohnston.com.au
SUMMARY:Corinda | Deep Water Running
DESCRIPTION:This is an aquatic workout that uses all major muscle groups. Participants wear a buoyancy belt so there’s no need to worry about being in deep water however you do require basic swimming skills. Classes will be held in the outdoor 50m pool. \nBring a buoyancy belt and towel.
URL:https://nicolejohnston.com.au/event/corinda-deep-water-running-2/2024-11-09/
LOCATION:Dunlop Park Memorial Pool\, 794 Oxley Rd\, Corinda\, Qld\, 4075\, Australia
ORGANIZER;CN="Aqua English":MAILTO:info@aquaenglish.com.au
GEO:-27.5473096;152.9806407
X-APPLE-STRUCTURED-LOCATION;VALUE=URI;X-ADDRESS=Dunlop Park Memorial Pool 794 Oxley Rd Corinda Qld 4075 Australia;X-APPLE-RADIUS=500;X-TITLE=794 Oxley Rd:geo:152.9806407,-27.5473096
END:VEVENT
BEGIN:VEVENT
DTSTART;TZID=Australia/Brisbane:20241102T130000
DTEND;TZID=Australia/Brisbane:20241102T140000
DTSTAMP:20260424T160914
CREATED:20240820T014859Z
LAST-MODIFIED:20240820T014859Z
UID:27919-1730552400-1730556000@nicolejohnston.com.au
SUMMARY:Corinda | Deep Water Running
DESCRIPTION:This is an aquatic workout that uses all major muscle groups. Participants wear a buoyancy belt so there’s no need to worry about being in deep water however you do require basic swimming skills. Classes will be held in the outdoor 50m pool. \nBring a buoyancy belt and towel.
URL:https://nicolejohnston.com.au/event/corinda-deep-water-running-2/2024-11-02/
LOCATION:Dunlop Park Memorial Pool\, 794 Oxley Rd\, Corinda\, Qld\, 4075\, Australia
ORGANIZER;CN="Aqua English":MAILTO:info@aquaenglish.com.au
GEO:-27.5473096;152.9806407
X-APPLE-STRUCTURED-LOCATION;VALUE=URI;X-ADDRESS=Dunlop Park Memorial Pool 794 Oxley Rd Corinda Qld 4075 Australia;X-APPLE-RADIUS=500;X-TITLE=794 Oxley Rd:geo:152.9806407,-27.5473096
END:VEVENT
BEGIN:VEVENT
DTSTART;TZID=Australia/Brisbane:20241026T130000
DTEND;TZID=Australia/Brisbane:20241026T140000
DTSTAMP:20260424T160914
CREATED:20240820T014859Z
LAST-MODIFIED:20240820T014859Z
UID:27918-1729947600-1729951200@nicolejohnston.com.au
SUMMARY:Corinda | Deep Water Running
DESCRIPTION:This is an aquatic workout that uses all major muscle groups. Participants wear a buoyancy belt so there’s no need to worry about being in deep water however you do require basic swimming skills. Classes will be held in the outdoor 50m pool. \nBring a buoyancy belt and towel.
URL:https://nicolejohnston.com.au/event/corinda-deep-water-running-2/2024-10-26/
LOCATION:Dunlop Park Memorial Pool\, 794 Oxley Rd\, Corinda\, Qld\, 4075\, Australia
ORGANIZER;CN="Aqua English":MAILTO:info@aquaenglish.com.au
GEO:-27.5473096;152.9806407
X-APPLE-STRUCTURED-LOCATION;VALUE=URI;X-ADDRESS=Dunlop Park Memorial Pool 794 Oxley Rd Corinda Qld 4075 Australia;X-APPLE-RADIUS=500;X-TITLE=794 Oxley Rd:geo:152.9806407,-27.5473096
END:VEVENT
BEGIN:VEVENT
DTSTART;TZID=Australia/Brisbane:20241019T130000
DTEND;TZID=Australia/Brisbane:20241019T140000
DTSTAMP:20260424T160914
CREATED:20240820T014859Z
LAST-MODIFIED:20240820T014859Z
UID:27917-1729342800-1729346400@nicolejohnston.com.au
SUMMARY:Corinda | Deep Water Running
DESCRIPTION:This is an aquatic workout that uses all major muscle groups. Participants wear a buoyancy belt so there’s no need to worry about being in deep water however you do require basic swimming skills. Classes will be held in the outdoor 50m pool. \nBring a buoyancy belt and towel.
URL:https://nicolejohnston.com.au/event/corinda-deep-water-running-2/2024-10-19/
LOCATION:Dunlop Park Memorial Pool\, 794 Oxley Rd\, Corinda\, Qld\, 4075\, Australia
ORGANIZER;CN="Aqua English":MAILTO:info@aquaenglish.com.au
GEO:-27.5473096;152.9806407
X-APPLE-STRUCTURED-LOCATION;VALUE=URI;X-ADDRESS=Dunlop Park Memorial Pool 794 Oxley Rd Corinda Qld 4075 Australia;X-APPLE-RADIUS=500;X-TITLE=794 Oxley Rd:geo:152.9806407,-27.5473096
END:VEVENT
BEGIN:VEVENT
DTSTART;TZID=Australia/Brisbane:20241012T130000
DTEND;TZID=Australia/Brisbane:20241012T140000
DTSTAMP:20260424T160914
CREATED:20240820T014859Z
LAST-MODIFIED:20240820T014859Z
UID:27916-1728738000-1728741600@nicolejohnston.com.au
SUMMARY:Corinda | Deep Water Running
DESCRIPTION:This is an aquatic workout that uses all major muscle groups. Participants wear a buoyancy belt so there’s no need to worry about being in deep water however you do require basic swimming skills. Classes will be held in the outdoor 50m pool. \nBring a buoyancy belt and towel.
URL:https://nicolejohnston.com.au/event/corinda-deep-water-running-2/2024-10-12/
LOCATION:Dunlop Park Memorial Pool\, 794 Oxley Rd\, Corinda\, Qld\, 4075\, Australia
ORGANIZER;CN="Aqua English":MAILTO:info@aquaenglish.com.au
GEO:-27.5473096;152.9806407
X-APPLE-STRUCTURED-LOCATION;VALUE=URI;X-ADDRESS=Dunlop Park Memorial Pool 794 Oxley Rd Corinda Qld 4075 Australia;X-APPLE-RADIUS=500;X-TITLE=794 Oxley Rd:geo:152.9806407,-27.5473096
END:VEVENT
BEGIN:VEVENT
DTSTART;TZID=Australia/Brisbane:20241005T130000
DTEND;TZID=Australia/Brisbane:20241005T140000
DTSTAMP:20260424T160914
CREATED:20240820T014859Z
LAST-MODIFIED:20240820T014900Z
UID:27914-1728133200-1728136800@nicolejohnston.com.au
SUMMARY:Corinda | Deep Water Running
DESCRIPTION:This is an aquatic workout that uses all major muscle groups. Participants wear a buoyancy belt so there’s no need to worry about being in deep water however you do require basic swimming skills. Classes will be held in the outdoor 50m pool. \nBring a buoyancy belt and towel.
URL:https://nicolejohnston.com.au/event/corinda-deep-water-running-2/2024-10-05/
LOCATION:Dunlop Park Memorial Pool\, 794 Oxley Rd\, Corinda\, Qld\, 4075\, Australia
ORGANIZER;CN="Aqua English":MAILTO:info@aquaenglish.com.au
GEO:-27.5473096;152.9806407
X-APPLE-STRUCTURED-LOCATION;VALUE=URI;X-ADDRESS=Dunlop Park Memorial Pool 794 Oxley Rd Corinda Qld 4075 Australia;X-APPLE-RADIUS=500;X-TITLE=794 Oxley Rd:geo:152.9806407,-27.5473096
END:VEVENT
END:VCALENDAR