BEGIN:VCALENDAR
VERSION:2.0
PRODID:-//Nicole Johnston - ECPv6.15.20//NONSGML v1.0//EN
CALSCALE:GREGORIAN
METHOD:PUBLISH
X-WR-CALNAME:Nicole Johnston
X-ORIGINAL-URL:https://nicolejohnston.com.au
X-WR-CALDESC:Events for Nicole Johnston
REFRESH-INTERVAL;VALUE=DURATION:PT1H
X-Robots-Tag:noindex
X-PUBLISHED-TTL:PT1H
BEGIN:VTIMEZONE
TZID:Australia/Brisbane
BEGIN:STANDARD
TZOFFSETFROM:+1000
TZOFFSETTO:+1000
TZNAME:AEST
DTSTART:20220101T000000
END:STANDARD
END:VTIMEZONE
BEGIN:VEVENT
DTSTART;TZID=Australia/Brisbane:20230722T100000
DTEND;TZID=Australia/Brisbane:20230722T110000
DTSTAMP:20260425T024414
CREATED:20230627T014423Z
LAST-MODIFIED:20230627T014821Z
UID:26402-1690020000-1690023600@nicolejohnston.com.au
SUMMARY:Corinda | Deep Water Running
DESCRIPTION:Deep Water Running is an all over body workout suitable for those looking to add to their current fitness routine\, or those who are pregnant\, post or pre operative. The health benefits of the water are amazing. Come and enjoy great music and people in a wonderful pool. Everyone is welcome. \nFor more information phone or text Aqua English on 0406 063 737.
URL:https://nicolejohnston.com.au/event/corinda-deep-water-running/2023-07-22/
LOCATION:Dunlop Park Memorial Pool\, 794 Oxley Rd\, Corinda\, Qld\, 4075\, Australia
GEO:-27.5473096;152.9806407
X-APPLE-STRUCTURED-LOCATION;VALUE=URI;X-ADDRESS=Dunlop Park Memorial Pool 794 Oxley Rd Corinda Qld 4075 Australia;X-APPLE-RADIUS=500;X-TITLE=794 Oxley Rd:geo:152.9806407,-27.5473096
END:VEVENT
END:VCALENDAR