BEGIN:VCALENDAR
VERSION:2.0
PRODID:-//Nicole Johnston - ECPv6.15.20//NONSGML v1.0//EN
CALSCALE:GREGORIAN
METHOD:PUBLISH
X-WR-CALNAME:Nicole Johnston
X-ORIGINAL-URL:https://nicolejohnston.com.au
X-WR-CALDESC:Events for Nicole Johnston
REFRESH-INTERVAL;VALUE=DURATION:PT1H
X-Robots-Tag:noindex
X-PUBLISHED-TTL:PT1H
BEGIN:VTIMEZONE
TZID:Australia/Brisbane
BEGIN:STANDARD
TZOFFSETFROM:+1000
TZOFFSETTO:+1000
TZNAME:AEST
DTSTART:20230101T000000
END:STANDARD
END:VTIMEZONE
BEGIN:VEVENT
DTSTART;TZID=Australia/Brisbane:20240925T091500
DTEND;TZID=Australia/Brisbane:20240925T094500
DTSTAMP:20260424T195704
CREATED:20240807T042234Z
LAST-MODIFIED:20240807T060509Z
UID:27647-1727255700-1727257500@nicolejohnston.com.au
SUMMARY:Corinda Library | Toddler Time
DESCRIPTION:Meet other parents and toddlers for a fun session of singing\, clapping and dancing. Learn action rhymes and songs which will help your child’s pre-literacy\, communication\, language and social skills. Ideal for babies and toddlers aged 1-2 years. \nThe First 5 Forever initiative is funded by the Queensland Government.
URL:https://nicolejohnston.com.au/event/corinda-library-toddler-time/2024-09-25/
LOCATION:Corinda Library\, 641 Oxley Road\, Corinda\, Queensland\, 4075\, Australia
GEO:-27.538881;152.98142
X-APPLE-STRUCTURED-LOCATION;VALUE=URI;X-ADDRESS=Corinda Library 641 Oxley Road Corinda Queensland 4075 Australia;X-APPLE-RADIUS=500;X-TITLE=641 Oxley Road:geo:152.98142,-27.538881
END:VEVENT
BEGIN:VEVENT
DTSTART;TZID=Australia/Brisbane:20240918T091500
DTEND;TZID=Australia/Brisbane:20240918T094500
DTSTAMP:20260424T195704
CREATED:20240807T042234Z
LAST-MODIFIED:20240807T060509Z
UID:27646-1726650900-1726652700@nicolejohnston.com.au
SUMMARY:Corinda Library | Toddler Time
DESCRIPTION:Meet other parents and toddlers for a fun session of singing\, clapping and dancing. Learn action rhymes and songs which will help your child’s pre-literacy\, communication\, language and social skills. Ideal for babies and toddlers aged 1-2 years. \nThe First 5 Forever initiative is funded by the Queensland Government.
URL:https://nicolejohnston.com.au/event/corinda-library-toddler-time/2024-09-18/
LOCATION:Corinda Library\, 641 Oxley Road\, Corinda\, Queensland\, 4075\, Australia
GEO:-27.538881;152.98142
X-APPLE-STRUCTURED-LOCATION;VALUE=URI;X-ADDRESS=Corinda Library 641 Oxley Road Corinda Queensland 4075 Australia;X-APPLE-RADIUS=500;X-TITLE=641 Oxley Road:geo:152.98142,-27.538881
END:VEVENT
BEGIN:VEVENT
DTSTART;TZID=Australia/Brisbane:20240911T091500
DTEND;TZID=Australia/Brisbane:20240911T094500
DTSTAMP:20260424T195704
CREATED:20240807T042234Z
LAST-MODIFIED:20240807T060507Z
UID:27645-1726046100-1726047900@nicolejohnston.com.au
SUMMARY:Corinda Library | Toddler Time
DESCRIPTION:Meet other parents and toddlers for a fun session of singing\, clapping and dancing. Learn action rhymes and songs which will help your child’s pre-literacy\, communication\, language and social skills. Ideal for babies and toddlers aged 1-2 years. \nThe First 5 Forever initiative is funded by the Queensland Government.
URL:https://nicolejohnston.com.au/event/corinda-library-toddler-time/2024-09-11/
LOCATION:Corinda Library\, 641 Oxley Road\, Corinda\, Queensland\, 4075\, Australia
GEO:-27.538881;152.98142
X-APPLE-STRUCTURED-LOCATION;VALUE=URI;X-ADDRESS=Corinda Library 641 Oxley Road Corinda Queensland 4075 Australia;X-APPLE-RADIUS=500;X-TITLE=641 Oxley Road:geo:152.98142,-27.538881
END:VEVENT
BEGIN:VEVENT
DTSTART;TZID=Australia/Brisbane:20240904T091500
DTEND;TZID=Australia/Brisbane:20240904T094500
DTSTAMP:20260424T195704
CREATED:20240807T042234Z
LAST-MODIFIED:20240807T060507Z
UID:27644-1725441300-1725443100@nicolejohnston.com.au
SUMMARY:Corinda Library | Toddler Time
DESCRIPTION:Meet other parents and toddlers for a fun session of singing\, clapping and dancing. Learn action rhymes and songs which will help your child’s pre-literacy\, communication\, language and social skills. Ideal for babies and toddlers aged 1-2 years. \nThe First 5 Forever initiative is funded by the Queensland Government.
URL:https://nicolejohnston.com.au/event/corinda-library-toddler-time/2024-09-04/
LOCATION:Corinda Library\, 641 Oxley Road\, Corinda\, Queensland\, 4075\, Australia
GEO:-27.538881;152.98142
X-APPLE-STRUCTURED-LOCATION;VALUE=URI;X-ADDRESS=Corinda Library 641 Oxley Road Corinda Queensland 4075 Australia;X-APPLE-RADIUS=500;X-TITLE=641 Oxley Road:geo:152.98142,-27.538881
END:VEVENT
BEGIN:VEVENT
DTSTART;TZID=Australia/Brisbane:20240828T091500
DTEND;TZID=Australia/Brisbane:20240828T094500
DTSTAMP:20260424T195704
CREATED:20240807T042234Z
LAST-MODIFIED:20240807T060506Z
UID:27643-1724836500-1724838300@nicolejohnston.com.au
SUMMARY:Corinda Library | Toddler Time
DESCRIPTION:Meet other parents and toddlers for a fun session of singing\, clapping and dancing. Learn action rhymes and songs which will help your child’s pre-literacy\, communication\, language and social skills. Ideal for babies and toddlers aged 1-2 years. \nThe First 5 Forever initiative is funded by the Queensland Government.
URL:https://nicolejohnston.com.au/event/corinda-library-toddler-time/2024-08-28/
LOCATION:Corinda Library\, 641 Oxley Road\, Corinda\, Queensland\, 4075\, Australia
GEO:-27.538881;152.98142
X-APPLE-STRUCTURED-LOCATION;VALUE=URI;X-ADDRESS=Corinda Library 641 Oxley Road Corinda Queensland 4075 Australia;X-APPLE-RADIUS=500;X-TITLE=641 Oxley Road:geo:152.98142,-27.538881
END:VEVENT
BEGIN:VEVENT
DTSTART;TZID=Australia/Brisbane:20240821T091500
DTEND;TZID=Australia/Brisbane:20240821T094500
DTSTAMP:20260424T195704
CREATED:20240807T042234Z
LAST-MODIFIED:20240807T060506Z
UID:27642-1724231700-1724233500@nicolejohnston.com.au
SUMMARY:Corinda Library | Toddler Time
DESCRIPTION:Meet other parents and toddlers for a fun session of singing\, clapping and dancing. Learn action rhymes and songs which will help your child’s pre-literacy\, communication\, language and social skills. Ideal for babies and toddlers aged 1-2 years. \nThe First 5 Forever initiative is funded by the Queensland Government.
URL:https://nicolejohnston.com.au/event/corinda-library-toddler-time/2024-08-21/
LOCATION:Corinda Library\, 641 Oxley Road\, Corinda\, Queensland\, 4075\, Australia
GEO:-27.538881;152.98142
X-APPLE-STRUCTURED-LOCATION;VALUE=URI;X-ADDRESS=Corinda Library 641 Oxley Road Corinda Queensland 4075 Australia;X-APPLE-RADIUS=500;X-TITLE=641 Oxley Road:geo:152.98142,-27.538881
END:VEVENT
END:VCALENDAR