BEGIN:VCALENDAR
VERSION:2.0
PRODID:-//Nicole Johnston - ECPv6.15.20//NONSGML v1.0//EN
CALSCALE:GREGORIAN
METHOD:PUBLISH
X-WR-CALNAME:Nicole Johnston
X-ORIGINAL-URL:https://nicolejohnston.com.au
X-WR-CALDESC:Events for Nicole Johnston
REFRESH-INTERVAL;VALUE=DURATION:PT1H
X-Robots-Tag:noindex
X-PUBLISHED-TTL:PT1H
BEGIN:VTIMEZONE
TZID:Australia/Brisbane
BEGIN:STANDARD
TZOFFSETFROM:+1000
TZOFFSETTO:+1000
TZNAME:AEST
DTSTART:20140101T000000
END:STANDARD
END:VTIMEZONE
BEGIN:VEVENT
DTSTART;TZID=Australia/Brisbane:20150304T093000
DTEND;TZID=Australia/Brisbane:20150304T100000
DTSTAMP:20260424T215643
CREATED:20150226T065912Z
LAST-MODIFIED:20160329T193041Z
UID:1619-1425461400-1425463200@nicolejohnston.com.au
SUMMARY:Corinda | Toddler Time
DESCRIPTION:Meet other parents and toddlers for a fun session of singing\, clapping and dancing.  Learn action rhymes and songs that will help your child’s pre-literacy\, communication\, language and social skills. \nIdeal for children aged 1 – 3 years.
URL:https://nicolejohnston.com.au/event/corinda-toddler-time/2015-03-04/
LOCATION:Corinda Library\, 641 Oxley Road\, Corinda\, Queensland\, 4075\, Australia
GEO:-27.538881;152.98142
X-APPLE-STRUCTURED-LOCATION;VALUE=URI;X-ADDRESS=Corinda Library 641 Oxley Road Corinda Queensland 4075 Australia;X-APPLE-RADIUS=500;X-TITLE=641 Oxley Road:geo:152.98142,-27.538881
END:VEVENT
END:VCALENDAR