BEGIN:VCALENDAR
VERSION:2.0
PRODID:-//Nicole Johnston - ECPv6.15.20//NONSGML v1.0//EN
CALSCALE:GREGORIAN
METHOD:PUBLISH
X-ORIGINAL-URL:https://nicolejohnston.com.au
X-WR-CALDESC:Events for Nicole Johnston
REFRESH-INTERVAL;VALUE=DURATION:PT1H
X-Robots-Tag:noindex
X-PUBLISHED-TTL:PT1H
BEGIN:VTIMEZONE
TZID:Australia/Brisbane
BEGIN:STANDARD
TZOFFSETFROM:+1000
TZOFFSETTO:+1000
TZNAME:AEST
DTSTART:20240101T000000
END:STANDARD
END:VTIMEZONE
BEGIN:VEVENT
DTSTART;TZID=Australia/Brisbane:20250608T080000
DTEND;TZID=Australia/Brisbane:20250608T090000
DTSTAMP:20260424T145102
CREATED:20250113T034335Z
LAST-MODIFIED:20250113T034335Z
UID:29062-1749369600-1749373200@nicolejohnston.com.au
SUMMARY:Fairfield | GOLD Tai Chi Qigong
DESCRIPTION:This dynamic activity is invigorating and will help you feel relaxed\, refreshed and calm. Rejuvenate your body and learn to create a tranquil mind. Join any week. \nThis is a GOLD event suitable for seniors. Meet near the playground\, off Sydney Street. \nFor more information phone Julian from Australian Academy of Tai Chi on 0439 073 860.
URL:https://nicolejohnston.com.au/event/fairfield-gold-tai-chi-qigong-2/2025-06-08/
LOCATION:Robinson Park\, 221 Fairfield Road\, Fairfield\, Queensland\, 4103\, Australia
GEO:-27.5099948;153.023042
X-APPLE-STRUCTURED-LOCATION;VALUE=URI;X-ADDRESS=Robinson Park 221 Fairfield Road Fairfield Queensland 4103 Australia;X-APPLE-RADIUS=500;X-TITLE=221 Fairfield Road:geo:153.023042,-27.5099948
END:VEVENT
BEGIN:VEVENT
DTSTART;TZID=Australia/Brisbane:20250601T080000
DTEND;TZID=Australia/Brisbane:20250601T090000
DTSTAMP:20260424T145102
CREATED:20250113T034335Z
LAST-MODIFIED:20250113T034335Z
UID:29061-1748764800-1748768400@nicolejohnston.com.au
SUMMARY:Fairfield | GOLD Tai Chi Qigong
DESCRIPTION:This dynamic activity is invigorating and will help you feel relaxed\, refreshed and calm. Rejuvenate your body and learn to create a tranquil mind. Join any week. \nThis is a GOLD event suitable for seniors. Meet near the playground\, off Sydney Street. \nFor more information phone Julian from Australian Academy of Tai Chi on 0439 073 860.
URL:https://nicolejohnston.com.au/event/fairfield-gold-tai-chi-qigong-2/2025-06-01/
LOCATION:Robinson Park\, 221 Fairfield Road\, Fairfield\, Queensland\, 4103\, Australia
GEO:-27.5099948;153.023042
X-APPLE-STRUCTURED-LOCATION;VALUE=URI;X-ADDRESS=Robinson Park 221 Fairfield Road Fairfield Queensland 4103 Australia;X-APPLE-RADIUS=500;X-TITLE=221 Fairfield Road:geo:153.023042,-27.5099948
END:VEVENT
BEGIN:VEVENT
DTSTART;TZID=Australia/Brisbane:20250525T080000
DTEND;TZID=Australia/Brisbane:20250525T090000
DTSTAMP:20260424T145102
CREATED:20250113T034335Z
LAST-MODIFIED:20250113T034335Z
UID:29060-1748160000-1748163600@nicolejohnston.com.au
SUMMARY:Fairfield | GOLD Tai Chi Qigong
DESCRIPTION:This dynamic activity is invigorating and will help you feel relaxed\, refreshed and calm. Rejuvenate your body and learn to create a tranquil mind. Join any week. \nThis is a GOLD event suitable for seniors. Meet near the playground\, off Sydney Street. \nFor more information phone Julian from Australian Academy of Tai Chi on 0439 073 860.
URL:https://nicolejohnston.com.au/event/fairfield-gold-tai-chi-qigong-2/2025-05-25/
LOCATION:Robinson Park\, 221 Fairfield Road\, Fairfield\, Queensland\, 4103\, Australia
GEO:-27.5099948;153.023042
X-APPLE-STRUCTURED-LOCATION;VALUE=URI;X-ADDRESS=Robinson Park 221 Fairfield Road Fairfield Queensland 4103 Australia;X-APPLE-RADIUS=500;X-TITLE=221 Fairfield Road:geo:153.023042,-27.5099948
END:VEVENT
BEGIN:VEVENT
DTSTART;TZID=Australia/Brisbane:20250518T080000
DTEND;TZID=Australia/Brisbane:20250518T090000
DTSTAMP:20260424T145102
CREATED:20250113T034335Z
LAST-MODIFIED:20250113T034335Z
UID:29059-1747555200-1747558800@nicolejohnston.com.au
SUMMARY:Fairfield | GOLD Tai Chi Qigong
DESCRIPTION:This dynamic activity is invigorating and will help you feel relaxed\, refreshed and calm. Rejuvenate your body and learn to create a tranquil mind. Join any week. \nThis is a GOLD event suitable for seniors. Meet near the playground\, off Sydney Street. \nFor more information phone Julian from Australian Academy of Tai Chi on 0439 073 860.
URL:https://nicolejohnston.com.au/event/fairfield-gold-tai-chi-qigong-2/2025-05-18/
LOCATION:Robinson Park\, 221 Fairfield Road\, Fairfield\, Queensland\, 4103\, Australia
GEO:-27.5099948;153.023042
X-APPLE-STRUCTURED-LOCATION;VALUE=URI;X-ADDRESS=Robinson Park 221 Fairfield Road Fairfield Queensland 4103 Australia;X-APPLE-RADIUS=500;X-TITLE=221 Fairfield Road:geo:153.023042,-27.5099948
END:VEVENT
BEGIN:VEVENT
DTSTART;TZID=Australia/Brisbane:20250511T080000
DTEND;TZID=Australia/Brisbane:20250511T090000
DTSTAMP:20260424T145102
CREATED:20250113T034335Z
LAST-MODIFIED:20250113T034335Z
UID:29058-1746950400-1746954000@nicolejohnston.com.au
SUMMARY:Fairfield | GOLD Tai Chi Qigong
DESCRIPTION:This dynamic activity is invigorating and will help you feel relaxed\, refreshed and calm. Rejuvenate your body and learn to create a tranquil mind. Join any week. \nThis is a GOLD event suitable for seniors. Meet near the playground\, off Sydney Street. \nFor more information phone Julian from Australian Academy of Tai Chi on 0439 073 860.
URL:https://nicolejohnston.com.au/event/fairfield-gold-tai-chi-qigong-2/2025-05-11/
LOCATION:Robinson Park\, 221 Fairfield Road\, Fairfield\, Queensland\, 4103\, Australia
GEO:-27.5099948;153.023042
X-APPLE-STRUCTURED-LOCATION;VALUE=URI;X-ADDRESS=Robinson Park 221 Fairfield Road Fairfield Queensland 4103 Australia;X-APPLE-RADIUS=500;X-TITLE=221 Fairfield Road:geo:153.023042,-27.5099948
END:VEVENT
BEGIN:VEVENT
DTSTART;TZID=Australia/Brisbane:20250504T080000
DTEND;TZID=Australia/Brisbane:20250504T090000
DTSTAMP:20260424T145102
CREATED:20250113T034335Z
LAST-MODIFIED:20250113T034335Z
UID:29056-1746345600-1746349200@nicolejohnston.com.au
SUMMARY:Fairfield | GOLD Tai Chi Qigong
DESCRIPTION:This dynamic activity is invigorating and will help you feel relaxed\, refreshed and calm. Rejuvenate your body and learn to create a tranquil mind. Join any week. \nThis is a GOLD event suitable for seniors. Meet near the playground\, off Sydney Street. \nFor more information phone Julian from Australian Academy of Tai Chi on 0439 073 860.
URL:https://nicolejohnston.com.au/event/fairfield-gold-tai-chi-qigong-2/2025-05-04/
LOCATION:Robinson Park\, 221 Fairfield Road\, Fairfield\, Queensland\, 4103\, Australia
GEO:-27.5099948;153.023042
X-APPLE-STRUCTURED-LOCATION;VALUE=URI;X-ADDRESS=Robinson Park 221 Fairfield Road Fairfield Queensland 4103 Australia;X-APPLE-RADIUS=500;X-TITLE=221 Fairfield Road:geo:153.023042,-27.5099948
END:VEVENT
BEGIN:VEVENT
DTSTART;TZID=Australia/Brisbane:20250427T080000
DTEND;TZID=Australia/Brisbane:20250427T090000
DTSTAMP:20260424T145102
CREATED:20250113T034335Z
LAST-MODIFIED:20250113T034335Z
UID:29055-1745740800-1745744400@nicolejohnston.com.au
SUMMARY:Fairfield | GOLD Tai Chi Qigong
DESCRIPTION:This dynamic activity is invigorating and will help you feel relaxed\, refreshed and calm. Rejuvenate your body and learn to create a tranquil mind. Join any week. \nThis is a GOLD event suitable for seniors. Meet near the playground\, off Sydney Street. \nFor more information phone Julian from Australian Academy of Tai Chi on 0439 073 860.
URL:https://nicolejohnston.com.au/event/fairfield-gold-tai-chi-qigong-2/2025-04-27/
LOCATION:Robinson Park\, 221 Fairfield Road\, Fairfield\, Queensland\, 4103\, Australia
GEO:-27.5099948;153.023042
X-APPLE-STRUCTURED-LOCATION;VALUE=URI;X-ADDRESS=Robinson Park 221 Fairfield Road Fairfield Queensland 4103 Australia;X-APPLE-RADIUS=500;X-TITLE=221 Fairfield Road:geo:153.023042,-27.5099948
END:VEVENT
BEGIN:VEVENT
DTSTART;TZID=Australia/Brisbane:20250330T080000
DTEND;TZID=Australia/Brisbane:20250330T090000
DTSTAMP:20260424T145102
CREATED:20250113T034335Z
LAST-MODIFIED:20250113T034335Z
UID:29054-1743321600-1743325200@nicolejohnston.com.au
SUMMARY:Fairfield | GOLD Tai Chi Qigong
DESCRIPTION:This dynamic activity is invigorating and will help you feel relaxed\, refreshed and calm. Rejuvenate your body and learn to create a tranquil mind. Join any week. \nThis is a GOLD event suitable for seniors. Meet near the playground\, off Sydney Street. \nFor more information phone Julian from Australian Academy of Tai Chi on 0439 073 860.
URL:https://nicolejohnston.com.au/event/fairfield-gold-tai-chi-qigong-2/2025-03-30/
LOCATION:Robinson Park\, 221 Fairfield Road\, Fairfield\, Queensland\, 4103\, Australia
GEO:-27.5099948;153.023042
X-APPLE-STRUCTURED-LOCATION;VALUE=URI;X-ADDRESS=Robinson Park 221 Fairfield Road Fairfield Queensland 4103 Australia;X-APPLE-RADIUS=500;X-TITLE=221 Fairfield Road:geo:153.023042,-27.5099948
END:VEVENT
BEGIN:VEVENT
DTSTART;TZID=Australia/Brisbane:20250323T080000
DTEND;TZID=Australia/Brisbane:20250323T090000
DTSTAMP:20260424T145102
CREATED:20250113T034335Z
LAST-MODIFIED:20250113T034335Z
UID:29053-1742716800-1742720400@nicolejohnston.com.au
SUMMARY:Fairfield | GOLD Tai Chi Qigong
DESCRIPTION:This dynamic activity is invigorating and will help you feel relaxed\, refreshed and calm. Rejuvenate your body and learn to create a tranquil mind. Join any week. \nThis is a GOLD event suitable for seniors. Meet near the playground\, off Sydney Street. \nFor more information phone Julian from Australian Academy of Tai Chi on 0439 073 860.
URL:https://nicolejohnston.com.au/event/fairfield-gold-tai-chi-qigong-2/2025-03-23/
LOCATION:Robinson Park\, 221 Fairfield Road\, Fairfield\, Queensland\, 4103\, Australia
GEO:-27.5099948;153.023042
X-APPLE-STRUCTURED-LOCATION;VALUE=URI;X-ADDRESS=Robinson Park 221 Fairfield Road Fairfield Queensland 4103 Australia;X-APPLE-RADIUS=500;X-TITLE=221 Fairfield Road:geo:153.023042,-27.5099948
END:VEVENT
BEGIN:VEVENT
DTSTART;TZID=Australia/Brisbane:20250316T080000
DTEND;TZID=Australia/Brisbane:20250316T090000
DTSTAMP:20260424T145102
CREATED:20250113T034335Z
LAST-MODIFIED:20250113T034335Z
UID:29052-1742112000-1742115600@nicolejohnston.com.au
SUMMARY:Fairfield | GOLD Tai Chi Qigong
DESCRIPTION:This dynamic activity is invigorating and will help you feel relaxed\, refreshed and calm. Rejuvenate your body and learn to create a tranquil mind. Join any week. \nThis is a GOLD event suitable for seniors. Meet near the playground\, off Sydney Street. \nFor more information phone Julian from Australian Academy of Tai Chi on 0439 073 860.
URL:https://nicolejohnston.com.au/event/fairfield-gold-tai-chi-qigong-2/2025-03-16/
LOCATION:Robinson Park\, 221 Fairfield Road\, Fairfield\, Queensland\, 4103\, Australia
GEO:-27.5099948;153.023042
X-APPLE-STRUCTURED-LOCATION;VALUE=URI;X-ADDRESS=Robinson Park 221 Fairfield Road Fairfield Queensland 4103 Australia;X-APPLE-RADIUS=500;X-TITLE=221 Fairfield Road:geo:153.023042,-27.5099948
END:VEVENT
BEGIN:VEVENT
DTSTART;TZID=Australia/Brisbane:20250309T080000
DTEND;TZID=Australia/Brisbane:20250309T090000
DTSTAMP:20260424T145102
CREATED:20250113T034335Z
LAST-MODIFIED:20250113T034335Z
UID:29051-1741507200-1741510800@nicolejohnston.com.au
SUMMARY:Fairfield | GOLD Tai Chi Qigong
DESCRIPTION:This dynamic activity is invigorating and will help you feel relaxed\, refreshed and calm. Rejuvenate your body and learn to create a tranquil mind. Join any week. \nThis is a GOLD event suitable for seniors. Meet near the playground\, off Sydney Street. \nFor more information phone Julian from Australian Academy of Tai Chi on 0439 073 860.
URL:https://nicolejohnston.com.au/event/fairfield-gold-tai-chi-qigong-2/2025-03-09/
LOCATION:Robinson Park\, 221 Fairfield Road\, Fairfield\, Queensland\, 4103\, Australia
GEO:-27.5099948;153.023042
X-APPLE-STRUCTURED-LOCATION;VALUE=URI;X-ADDRESS=Robinson Park 221 Fairfield Road Fairfield Queensland 4103 Australia;X-APPLE-RADIUS=500;X-TITLE=221 Fairfield Road:geo:153.023042,-27.5099948
END:VEVENT
BEGIN:VEVENT
DTSTART;TZID=Australia/Brisbane:20250302T080000
DTEND;TZID=Australia/Brisbane:20250302T090000
DTSTAMP:20260424T145102
CREATED:20250113T034335Z
LAST-MODIFIED:20250113T034335Z
UID:29050-1740902400-1740906000@nicolejohnston.com.au
SUMMARY:Fairfield | GOLD Tai Chi Qigong
DESCRIPTION:This dynamic activity is invigorating and will help you feel relaxed\, refreshed and calm. Rejuvenate your body and learn to create a tranquil mind. Join any week. \nThis is a GOLD event suitable for seniors. Meet near the playground\, off Sydney Street. \nFor more information phone Julian from Australian Academy of Tai Chi on 0439 073 860.
URL:https://nicolejohnston.com.au/event/fairfield-gold-tai-chi-qigong-2/2025-03-02/
LOCATION:Robinson Park\, 221 Fairfield Road\, Fairfield\, Queensland\, 4103\, Australia
GEO:-27.5099948;153.023042
X-APPLE-STRUCTURED-LOCATION;VALUE=URI;X-ADDRESS=Robinson Park 221 Fairfield Road Fairfield Queensland 4103 Australia;X-APPLE-RADIUS=500;X-TITLE=221 Fairfield Road:geo:153.023042,-27.5099948
END:VEVENT
BEGIN:VEVENT
DTSTART;TZID=Australia/Brisbane:20250223T080000
DTEND;TZID=Australia/Brisbane:20250223T090000
DTSTAMP:20260424T145102
CREATED:20250113T034335Z
LAST-MODIFIED:20250113T034335Z
UID:29049-1740297600-1740301200@nicolejohnston.com.au
SUMMARY:Fairfield | GOLD Tai Chi Qigong
DESCRIPTION:This dynamic activity is invigorating and will help you feel relaxed\, refreshed and calm. Rejuvenate your body and learn to create a tranquil mind. Join any week. \nThis is a GOLD event suitable for seniors. Meet near the playground\, off Sydney Street. \nFor more information phone Julian from Australian Academy of Tai Chi on 0439 073 860.
URL:https://nicolejohnston.com.au/event/fairfield-gold-tai-chi-qigong-2/2025-02-23/
LOCATION:Robinson Park\, 221 Fairfield Road\, Fairfield\, Queensland\, 4103\, Australia
GEO:-27.5099948;153.023042
X-APPLE-STRUCTURED-LOCATION;VALUE=URI;X-ADDRESS=Robinson Park 221 Fairfield Road Fairfield Queensland 4103 Australia;X-APPLE-RADIUS=500;X-TITLE=221 Fairfield Road:geo:153.023042,-27.5099948
END:VEVENT
BEGIN:VEVENT
DTSTART;TZID=Australia/Brisbane:20250216T080000
DTEND;TZID=Australia/Brisbane:20250216T090000
DTSTAMP:20260424T145102
CREATED:20250113T034335Z
LAST-MODIFIED:20250113T034335Z
UID:29048-1739692800-1739696400@nicolejohnston.com.au
SUMMARY:Fairfield | GOLD Tai Chi Qigong
DESCRIPTION:This dynamic activity is invigorating and will help you feel relaxed\, refreshed and calm. Rejuvenate your body and learn to create a tranquil mind. Join any week. \nThis is a GOLD event suitable for seniors. Meet near the playground\, off Sydney Street. \nFor more information phone Julian from Australian Academy of Tai Chi on 0439 073 860.
URL:https://nicolejohnston.com.au/event/fairfield-gold-tai-chi-qigong-2/2025-02-16/
LOCATION:Robinson Park\, 221 Fairfield Road\, Fairfield\, Queensland\, 4103\, Australia
GEO:-27.5099948;153.023042
X-APPLE-STRUCTURED-LOCATION;VALUE=URI;X-ADDRESS=Robinson Park 221 Fairfield Road Fairfield Queensland 4103 Australia;X-APPLE-RADIUS=500;X-TITLE=221 Fairfield Road:geo:153.023042,-27.5099948
END:VEVENT
BEGIN:VEVENT
DTSTART;TZID=Australia/Brisbane:20250209T080000
DTEND;TZID=Australia/Brisbane:20250209T090000
DTSTAMP:20260424T145102
CREATED:20250113T034335Z
LAST-MODIFIED:20250113T034335Z
UID:29047-1739088000-1739091600@nicolejohnston.com.au
SUMMARY:Fairfield | GOLD Tai Chi Qigong
DESCRIPTION:This dynamic activity is invigorating and will help you feel relaxed\, refreshed and calm. Rejuvenate your body and learn to create a tranquil mind. Join any week. \nThis is a GOLD event suitable for seniors. Meet near the playground\, off Sydney Street. \nFor more information phone Julian from Australian Academy of Tai Chi on 0439 073 860.
URL:https://nicolejohnston.com.au/event/fairfield-gold-tai-chi-qigong-2/2025-02-09/
LOCATION:Robinson Park\, 221 Fairfield Road\, Fairfield\, Queensland\, 4103\, Australia
GEO:-27.5099948;153.023042
X-APPLE-STRUCTURED-LOCATION;VALUE=URI;X-ADDRESS=Robinson Park 221 Fairfield Road Fairfield Queensland 4103 Australia;X-APPLE-RADIUS=500;X-TITLE=221 Fairfield Road:geo:153.023042,-27.5099948
END:VEVENT
BEGIN:VEVENT
DTSTART;TZID=Australia/Brisbane:20250202T080000
DTEND;TZID=Australia/Brisbane:20250202T090000
DTSTAMP:20260424T145102
CREATED:20250113T034335Z
LAST-MODIFIED:20250113T034335Z
UID:29046-1738483200-1738486800@nicolejohnston.com.au
SUMMARY:Fairfield | GOLD Tai Chi Qigong
DESCRIPTION:This dynamic activity is invigorating and will help you feel relaxed\, refreshed and calm. Rejuvenate your body and learn to create a tranquil mind. Join any week. \nThis is a GOLD event suitable for seniors. Meet near the playground\, off Sydney Street. \nFor more information phone Julian from Australian Academy of Tai Chi on 0439 073 860.
URL:https://nicolejohnston.com.au/event/fairfield-gold-tai-chi-qigong-2/2025-02-02/
LOCATION:Robinson Park\, 221 Fairfield Road\, Fairfield\, Queensland\, 4103\, Australia
GEO:-27.5099948;153.023042
X-APPLE-STRUCTURED-LOCATION;VALUE=URI;X-ADDRESS=Robinson Park 221 Fairfield Road Fairfield Queensland 4103 Australia;X-APPLE-RADIUS=500;X-TITLE=221 Fairfield Road:geo:153.023042,-27.5099948
END:VEVENT
END:VCALENDAR