BEGIN:VCALENDAR
VERSION:2.0
PRODID:-//Nicole Johnston - ECPv6.15.20//NONSGML v1.0//EN
CALSCALE:GREGORIAN
METHOD:PUBLISH
X-WR-CALNAME:Nicole Johnston
X-ORIGINAL-URL:https://nicolejohnston.com.au
X-WR-CALDESC:Events for Nicole Johnston
REFRESH-INTERVAL;VALUE=DURATION:PT1H
X-Robots-Tag:noindex
X-PUBLISHED-TTL:PT1H
BEGIN:VTIMEZONE
TZID:Australia/Brisbane
BEGIN:STANDARD
TZOFFSETFROM:+1000
TZOFFSETTO:+1000
TZNAME:AEST
DTSTART:20190101T000000
END:STANDARD
END:VTIMEZONE
BEGIN:VEVENT
DTSTART;TZID=Australia/Brisbane:20200722T153000
DTEND;TZID=Australia/Brisbane:20200722T170000
DTSTAMP:20260424T144940
CREATED:20200708T025217Z
LAST-MODIFIED:20200708T025217Z
UID:22146-1595431800-1595437200@nicolejohnston.com.au
SUMMARY:Fairfield | Revolutions Skateboarding Workshop
DESCRIPTION:Gain confidence\, get comfortable with your balance and learn a whole new set of skateboarding skills with excellent coaching. Bring your family members and friends and we’ll help you get up and skate on your own. \nThis is a Chillout event suitable for young people 3-17 years. \nBookings essential. To book visit ASCI. For more information email office@australianskateboarding.com \nSkateboard\, helmet\, safety gear and water.
URL:https://nicolejohnston.com.au/event/fairfield-revolutions-skateboarding-workshop-3/2020-07-22/
LOCATION:J.F. O’Grady Memorial Park\, Brougham St\, Fairfield\, Qld\, 4103\, Australia
GEO:-27.507678;153.0226066
X-APPLE-STRUCTURED-LOCATION;VALUE=URI;X-ADDRESS=J.F. O’Grady Memorial Park Brougham St Fairfield Qld 4103 Australia;X-APPLE-RADIUS=500;X-TITLE=Brougham St:geo:153.0226066,-27.507678
END:VEVENT
END:VCALENDAR