BEGIN:VCALENDAR
VERSION:2.0
PRODID:-//Nicole Johnston - ECPv6.15.20//NONSGML v1.0//EN
CALSCALE:GREGORIAN
METHOD:PUBLISH
X-WR-CALNAME:Nicole Johnston
X-ORIGINAL-URL:https://nicolejohnston.com.au
X-WR-CALDESC:Events for Nicole Johnston
REFRESH-INTERVAL;VALUE=DURATION:PT1H
X-Robots-Tag:noindex
X-PUBLISHED-TTL:PT1H
BEGIN:VTIMEZONE
TZID:Australia/Brisbane
BEGIN:STANDARD
TZOFFSETFROM:+1000
TZOFFSETTO:+1000
TZNAME:AEST
DTSTART:20150101T000000
END:STANDARD
END:VTIMEZONE
BEGIN:VEVENT
DTSTART;TZID=Australia/Brisbane:20160409T103000
DTEND;TZID=Australia/Brisbane:20160409T120000
DTSTAMP:20260425T015255
CREATED:20160331T142729Z
LAST-MODIFIED:20160331T142729Z
UID:8533-1460197800-1460203200@nicolejohnston.com.au
SUMMARY:Fairfield Writer's Group
DESCRIPTION:New members welcome.
URL:https://nicolejohnston.com.au/event/fairfield-writers-group-4/2016-04-09/
LOCATION:Fairfield Library\, Fairfield Gardens\, 180 Fairfield Rd\, Fairfield\, Queensland\, 4103\, Australia
GEO:-27.508752;153.025501
X-APPLE-STRUCTURED-LOCATION;VALUE=URI;X-ADDRESS=Fairfield Library Fairfield Gardens 180 Fairfield Rd Fairfield Queensland 4103 Australia;X-APPLE-RADIUS=500;X-TITLE=Fairfield Gardens\, 180 Fairfield Rd:geo:153.025501,-27.508752
END:VEVENT
END:VCALENDAR