BEGIN:VCALENDAR
VERSION:2.0
PRODID:-//Nicole Johnston - ECPv6.15.20//NONSGML v1.0//EN
CALSCALE:GREGORIAN
METHOD:PUBLISH
X-WR-CALNAME:Nicole Johnston
X-ORIGINAL-URL:https://nicolejohnston.com.au
X-WR-CALDESC:Events for Nicole Johnston
REFRESH-INTERVAL;VALUE=DURATION:PT1H
X-Robots-Tag:noindex
X-PUBLISHED-TTL:PT1H
BEGIN:VTIMEZONE
TZID:Australia/Brisbane
BEGIN:STANDARD
TZOFFSETFROM:+1000
TZOFFSETTO:+1000
TZNAME:AEST
DTSTART:20140101T000000
END:STANDARD
END:VTIMEZONE
BEGIN:VEVENT
DTSTART;TZID=Australia/Brisbane:20151110T110000
DTEND;TZID=Australia/Brisbane:20151110T113000
DTSTAMP:20260424T190752
CREATED:20151109T135927Z
LAST-MODIFIED:20160331T103812Z
UID:4926-1447153200-1447155000@nicolejohnston.com.au
SUMMARY:Fairfield | First 5 Forever Babies\, Books & Rhymes
DESCRIPTION:Meet other parents and babies for a fun session of singing\, clapping and dancing. Learn songs and action rhymes to nurture your baby’s pre-literacy\, communication\, language and social skills. \nIdeal for babies and toddlers aged up to one year. Bookings not required. \nThe First 5 Forever initiative is funded by the Queensland Government.
URL:https://nicolejohnston.com.au/event/first-5-forever-babies-books-rhymes-fairfield-library/2015-11-10/
LOCATION:Fairfield Library\, Fairfield Gardens\, 180 Fairfield Rd\, Fairfield\, Queensland\, 4103\, Australia
GEO:-27.508752;153.025501
X-APPLE-STRUCTURED-LOCATION;VALUE=URI;X-ADDRESS=Fairfield Library Fairfield Gardens 180 Fairfield Rd Fairfield Queensland 4103 Australia;X-APPLE-RADIUS=500;X-TITLE=Fairfield Gardens\, 180 Fairfield Rd:geo:153.025501,-27.508752
END:VEVENT
END:VCALENDAR