BEGIN:VCALENDAR
VERSION:2.0
PRODID:-//Nicole Johnston - ECPv6.15.20//NONSGML v1.0//EN
CALSCALE:GREGORIAN
METHOD:PUBLISH
X-ORIGINAL-URL:https://nicolejohnston.com.au
X-WR-CALDESC:Events for Nicole Johnston
REFRESH-INTERVAL;VALUE=DURATION:PT1H
X-Robots-Tag:noindex
X-PUBLISHED-TTL:PT1H
BEGIN:VTIMEZONE
TZID:Australia/Brisbane
BEGIN:STANDARD
TZOFFSETFROM:+1000
TZOFFSETTO:+1000
TZNAME:AEST
DTSTART:20250101T000000
END:STANDARD
END:VTIMEZONE
BEGIN:VEVENT
DTSTART;TZID=Australia/Brisbane:20260224T160000
DTEND;TZID=Australia/Brisbane:20260224T170000
DTSTAMP:20260424T081426
CREATED:20260128T044810Z
LAST-MODIFIED:20260128T044810Z
UID:31838-1771948800-1771952400@nicolejohnston.com.au
SUMMARY:Graceville | Hockey for Juniors
DESCRIPTION:4 action‑packed junior hockey sessions are kicking off this February – the perfect chance for young players to build skills\, make friends\, and fall in love with the game. \nKids who enjoy the February sessions can join the club and play in the full season from March to September\, gaining even more time on the field and being part of a great club community. \nWhether they’re brand new or already hockey‑mad\, everyone’s welcome. \nGet them involved and watch their confidence grow! \nBookings required via the South West United Hockey Club website.
URL:https://nicolejohnston.com.au/event/graceville-hockey-for-juniors/2026-02-24/
LOCATION:Graceville Memorial Park\, 173 Oxley Rd\, Graceville\, Qld\, 4075\, Australia
ORGANIZER;CN="South West United Hockey Club":MAILTO:secretary@swu.au
GEO:-27.5176118;152.9764956
X-APPLE-STRUCTURED-LOCATION;VALUE=URI;X-ADDRESS=Graceville Memorial Park 173 Oxley Rd Graceville Qld 4075 Australia;X-APPLE-RADIUS=500;X-TITLE=173 Oxley Rd:geo:152.9764956,-27.5176118
END:VEVENT
BEGIN:VEVENT
DTSTART;TZID=Australia/Brisbane:20260217T160000
DTEND;TZID=Australia/Brisbane:20260217T170000
DTSTAMP:20260424T081426
CREATED:20260128T044810Z
LAST-MODIFIED:20260128T044810Z
UID:31837-1771344000-1771347600@nicolejohnston.com.au
SUMMARY:Graceville | Hockey for Juniors
DESCRIPTION:4 action‑packed junior hockey sessions are kicking off this February – the perfect chance for young players to build skills\, make friends\, and fall in love with the game. \nKids who enjoy the February sessions can join the club and play in the full season from March to September\, gaining even more time on the field and being part of a great club community. \nWhether they’re brand new or already hockey‑mad\, everyone’s welcome. \nGet them involved and watch their confidence grow! \nBookings required via the South West United Hockey Club website.
URL:https://nicolejohnston.com.au/event/graceville-hockey-for-juniors/2026-02-17/
LOCATION:Graceville Memorial Park\, 173 Oxley Rd\, Graceville\, Qld\, 4075\, Australia
ORGANIZER;CN="South West United Hockey Club":MAILTO:secretary@swu.au
GEO:-27.5176118;152.9764956
X-APPLE-STRUCTURED-LOCATION;VALUE=URI;X-ADDRESS=Graceville Memorial Park 173 Oxley Rd Graceville Qld 4075 Australia;X-APPLE-RADIUS=500;X-TITLE=173 Oxley Rd:geo:152.9764956,-27.5176118
END:VEVENT
BEGIN:VEVENT
DTSTART;TZID=Australia/Brisbane:20260210T160000
DTEND;TZID=Australia/Brisbane:20260210T170000
DTSTAMP:20260424T081426
CREATED:20260128T044810Z
LAST-MODIFIED:20260128T044810Z
UID:31836-1770739200-1770742800@nicolejohnston.com.au
SUMMARY:Graceville | Hockey for Juniors
DESCRIPTION:4 action‑packed junior hockey sessions are kicking off this February – the perfect chance for young players to build skills\, make friends\, and fall in love with the game. \nKids who enjoy the February sessions can join the club and play in the full season from March to September\, gaining even more time on the field and being part of a great club community. \nWhether they’re brand new or already hockey‑mad\, everyone’s welcome. \nGet them involved and watch their confidence grow! \nBookings required via the South West United Hockey Club website.
URL:https://nicolejohnston.com.au/event/graceville-hockey-for-juniors/2026-02-10/
LOCATION:Graceville Memorial Park\, 173 Oxley Rd\, Graceville\, Qld\, 4075\, Australia
ORGANIZER;CN="South West United Hockey Club":MAILTO:secretary@swu.au
GEO:-27.5176118;152.9764956
X-APPLE-STRUCTURED-LOCATION;VALUE=URI;X-ADDRESS=Graceville Memorial Park 173 Oxley Rd Graceville Qld 4075 Australia;X-APPLE-RADIUS=500;X-TITLE=173 Oxley Rd:geo:152.9764956,-27.5176118
END:VEVENT
BEGIN:VEVENT
DTSTART;TZID=Australia/Brisbane:20260203T160000
DTEND;TZID=Australia/Brisbane:20260203T170000
DTSTAMP:20260424T081426
CREATED:20260128T044810Z
LAST-MODIFIED:20260128T044810Z
UID:31834-1770134400-1770138000@nicolejohnston.com.au
SUMMARY:Graceville | Hockey for Juniors
DESCRIPTION:4 action‑packed junior hockey sessions are kicking off this February – the perfect chance for young players to build skills\, make friends\, and fall in love with the game. \nKids who enjoy the February sessions can join the club and play in the full season from March to September\, gaining even more time on the field and being part of a great club community. \nWhether they’re brand new or already hockey‑mad\, everyone’s welcome. \nGet them involved and watch their confidence grow! \nBookings required via the South West United Hockey Club website.
URL:https://nicolejohnston.com.au/event/graceville-hockey-for-juniors/2026-02-03/
LOCATION:Graceville Memorial Park\, 173 Oxley Rd\, Graceville\, Qld\, 4075\, Australia
ORGANIZER;CN="South West United Hockey Club":MAILTO:secretary@swu.au
GEO:-27.5176118;152.9764956
X-APPLE-STRUCTURED-LOCATION;VALUE=URI;X-ADDRESS=Graceville Memorial Park 173 Oxley Rd Graceville Qld 4075 Australia;X-APPLE-RADIUS=500;X-TITLE=173 Oxley Rd:geo:152.9764956,-27.5176118
END:VEVENT
END:VCALENDAR