BEGIN:VCALENDAR
VERSION:2.0
PRODID:-//Nicole Johnston - ECPv6.15.20//NONSGML v1.0//EN
CALSCALE:GREGORIAN
METHOD:PUBLISH
X-WR-CALNAME:Nicole Johnston
X-ORIGINAL-URL:https://nicolejohnston.com.au
X-WR-CALDESC:Events for Nicole Johnston
REFRESH-INTERVAL;VALUE=DURATION:PT1H
X-Robots-Tag:noindex
X-PUBLISHED-TTL:PT1H
BEGIN:VTIMEZONE
TZID:Australia/Brisbane
BEGIN:STANDARD
TZOFFSETFROM:+1000
TZOFFSETTO:+1000
TZNAME:AEST
DTSTART:20150101T000000
END:STANDARD
END:VTIMEZONE
BEGIN:VEVENT
DTSTART;TZID=Australia/Brisbane:20161027T091500
DTEND;TZID=Australia/Brisbane:20161027T101500
DTSTAMP:20260424T184333
CREATED:20161026T034028Z
LAST-MODIFIED:20161026T034028Z
UID:10496-1477559700-1477563300@nicolejohnston.com.au
SUMMARY:Graceville | Low Impact Fitness and Pilates
DESCRIPTION:Easy movement and fitness exercises including warm-up\, strength\, pilates and warm down.
URL:https://nicolejohnston.com.au/event/graceville-low-impact-fitness-and-pilates/2016-10-27/
LOCATION:Graceville Riverside Parklands\, Graceville Avenue\, Graceville\, Queensland\, 4075\, Australia
GEO:-27.5228793;152.9875616
X-APPLE-STRUCTURED-LOCATION;VALUE=URI;X-ADDRESS=Graceville Riverside Parklands Graceville Avenue Graceville Queensland 4075 Australia;X-APPLE-RADIUS=500;X-TITLE=Graceville Avenue:geo:152.9875616,-27.5228793
END:VEVENT
END:VCALENDAR