BEGIN:VCALENDAR
VERSION:2.0
PRODID:-//Nicole Johnston - ECPv6.15.20//NONSGML v1.0//EN
CALSCALE:GREGORIAN
METHOD:PUBLISH
X-WR-CALNAME:Nicole Johnston
X-ORIGINAL-URL:https://nicolejohnston.com.au
X-WR-CALDESC:Events for Nicole Johnston
REFRESH-INTERVAL;VALUE=DURATION:PT1H
X-Robots-Tag:noindex
X-PUBLISHED-TTL:PT1H
BEGIN:VTIMEZONE
TZID:Australia/Brisbane
BEGIN:STANDARD
TZOFFSETFROM:+1000
TZOFFSETTO:+1000
TZNAME:AEST
DTSTART:20150101T000000
END:STANDARD
END:VTIMEZONE
BEGIN:VEVENT
DTSTART;TZID=Australia/Brisbane:20161027T093000
DTEND;TZID=Australia/Brisbane:20161027T103000
DTSTAMP:20260424T182909
CREATED:20161026T033250Z
LAST-MODIFIED:20161026T033250Z
UID:10468-1477560600-1477564200@nicolejohnston.com.au
SUMMARY:Graceville | Mums Fit Camp
DESCRIPTION:Join this fun yet challenging session to tone your arms\, abs and thighs.  Socialise with other mums and recharge your batteries while getting fit.  You are welcome to bring your babies and toddlers along or just come on your own!
URL:https://nicolejohnston.com.au/event/graceville-mums-fit-camp/2016-10-27/
LOCATION:Graceville Riverside Parklands\, Graceville Avenue\, Graceville\, Queensland\, 4075\, Australia
GEO:-27.5228793;152.9875616
X-APPLE-STRUCTURED-LOCATION;VALUE=URI;X-ADDRESS=Graceville Riverside Parklands Graceville Avenue Graceville Queensland 4075 Australia;X-APPLE-RADIUS=500;X-TITLE=Graceville Avenue:geo:152.9875616,-27.5228793
END:VEVENT
END:VCALENDAR