BEGIN:VCALENDAR
VERSION:2.0
PRODID:-//Nicole Johnston - ECPv6.15.20//NONSGML v1.0//EN
CALSCALE:GREGORIAN
METHOD:PUBLISH
X-WR-CALNAME:Nicole Johnston
X-ORIGINAL-URL:https://nicolejohnston.com.au
X-WR-CALDESC:Events for Nicole Johnston
REFRESH-INTERVAL;VALUE=DURATION:PT1H
X-Robots-Tag:noindex
X-PUBLISHED-TTL:PT1H
BEGIN:VTIMEZONE
TZID:Australia/Brisbane
BEGIN:STANDARD
TZOFFSETFROM:+1000
TZOFFSETTO:+1000
TZNAME:AEST
DTSTART:20140101T000000
END:STANDARD
END:VTIMEZONE
BEGIN:VEVENT
DTSTART;TZID=Australia/Brisbane:20150524T070000
DTEND;TZID=Australia/Brisbane:20150524T080000
DTSTAMP:20260424T195920
CREATED:20150518T060144Z
LAST-MODIFIED:20150518T060144Z
UID:2974-1432450800-1432454400@nicolejohnston.com.au
SUMMARY:Graceville Community Garden
DESCRIPTION:A shared space in which people gather to strengthen community and grow food.
URL:https://nicolejohnston.com.au/event/graceville_community_garden/2015-05-24/
LOCATION:Benarrawa Community Development Assn.\, 79 Waratah Avenue\, Graceville\, Queensland\, 4075\, Australia
ORGANIZER;CN="Benarrawa Community Development Assn.":MAILTO:benarrawa@westnet.com.au
GEO:-27.518651;152.985055
X-APPLE-STRUCTURED-LOCATION;VALUE=URI;X-ADDRESS=Benarrawa Community Development Assn. 79 Waratah Avenue Graceville Queensland 4075 Australia;X-APPLE-RADIUS=500;X-TITLE=79 Waratah Avenue:geo:152.985055,-27.518651
END:VEVENT
END:VCALENDAR