BEGIN:VCALENDAR
VERSION:2.0
PRODID:-//Nicole Johnston - ECPv6.15.20//NONSGML v1.0//EN
CALSCALE:GREGORIAN
METHOD:PUBLISH
X-WR-CALNAME:Nicole Johnston
X-ORIGINAL-URL:https://nicolejohnston.com.au
X-WR-CALDESC:Events for Nicole Johnston
REFRESH-INTERVAL;VALUE=DURATION:PT1H
X-Robots-Tag:noindex
X-PUBLISHED-TTL:PT1H
BEGIN:VTIMEZONE
TZID:Australia/Brisbane
BEGIN:STANDARD
TZOFFSETFROM:+1000
TZOFFSETTO:+1000
TZNAME:AEST
DTSTART:20170101T000000
END:STANDARD
END:VTIMEZONE
BEGIN:VEVENT
DTSTART;TZID=Australia/Brisbane:20180507T100000
DTEND;TZID=Australia/Brisbane:20180507T110000
DTSTAMP:20260424T200149
CREATED:20180504T015313Z
LAST-MODIFIED:20180504T015313Z
UID:16617-1525687200-1525690800@nicolejohnston.com.au
SUMMARY:Indoor Lawn Bowls | Yeronga Community Centre
DESCRIPTION:Come and have some fun on the ‘bowling green’ at the community centre at Yeronga. Every Monday at 10:00am. Everyone is welcome\, and best of all – it’s free!
URL:https://nicolejohnston.com.au/event/indoor-lawn-bowls-yeronga-community-centre/2018-05-07/
LOCATION:Yeronga Community Centre\, 62 Park Rd\, Yeronga\, Queensland\, 4103\, Australia
GEO:-27.5178214;153.0308084
X-APPLE-STRUCTURED-LOCATION;VALUE=URI;X-ADDRESS=Yeronga Community Centre 62 Park Rd Yeronga Queensland 4103 Australia;X-APPLE-RADIUS=500;X-TITLE=62 Park Rd:geo:153.0308084,-27.5178214
END:VEVENT
END:VCALENDAR