BEGIN:VCALENDAR
VERSION:2.0
PRODID:-//Nicole Johnston - ECPv6.15.20//NONSGML v1.0//EN
CALSCALE:GREGORIAN
METHOD:PUBLISH
X-WR-CALNAME:Nicole Johnston
X-ORIGINAL-URL:https://nicolejohnston.com.au
X-WR-CALDESC:Events for Nicole Johnston
REFRESH-INTERVAL;VALUE=DURATION:PT1H
X-Robots-Tag:noindex
X-PUBLISHED-TTL:PT1H
BEGIN:VTIMEZONE
TZID:Australia/Brisbane
BEGIN:STANDARD
TZOFFSETFROM:+1000
TZOFFSETTO:+1000
TZNAME:AEST
DTSTART:20140101T000000
END:STANDARD
END:VTIMEZONE
BEGIN:VEVENT
DTSTART;TZID=Australia/Brisbane:20151206T101500
DTEND;TZID=Australia/Brisbane:20151206T104500
DTSTAMP:20260424T215643
CREATED:20151205T174204Z
LAST-MODIFIED:20151205T174204Z
UID:5667-1449396900-1449398700@nicolejohnston.com.au
SUMMARY:Indooroopilly First 5 Toddler Time
DESCRIPTION:Meet other parents and toddlers for a fun session of singing\, clapping and dancing.  Learn action rhymes to nurture your child’s pre-literacy\, communication\, language and social skills. \nIdeal for babies and toddlers aged 1 – 3 years. \nBookings not required. \nThe First 5 Forever initiative is funded by the Queensland Government.
URL:https://nicolejohnston.com.au/event/indooroopilly-first-5-toddler-time/2015-12-06/
LOCATION:Indooroopilly Library\, Lvl 4\, Indooroopilly Shopping Centre\,  322 Moggill Road\, Indooroopilly\, Queensland\, 4068\, Australia
GEO:-27.4995022;152.9728456
X-APPLE-STRUCTURED-LOCATION;VALUE=URI;X-ADDRESS=Indooroopilly Library Lvl 4 Indooroopilly Shopping Centre  322 Moggill Road Indooroopilly Queensland 4068 Australia;X-APPLE-RADIUS=500;X-TITLE=Lvl 4\, Indooroopilly Shopping Centre\,  322 Moggill Road:geo:152.9728456,-27.4995022
END:VEVENT
END:VCALENDAR