BEGIN:VCALENDAR
VERSION:2.0
PRODID:-//Nicole Johnston - ECPv6.15.20//NONSGML v1.0//EN
CALSCALE:GREGORIAN
METHOD:PUBLISH
X-WR-CALNAME:Nicole Johnston
X-ORIGINAL-URL:https://nicolejohnston.com.au
X-WR-CALDESC:Events for Nicole Johnston
REFRESH-INTERVAL;VALUE=DURATION:PT1H
X-Robots-Tag:noindex
X-PUBLISHED-TTL:PT1H
BEGIN:VTIMEZONE
TZID:Australia/Brisbane
BEGIN:STANDARD
TZOFFSETFROM:+1000
TZOFFSETTO:+1000
TZNAME:AEST
DTSTART:20140101T000000
END:STANDARD
END:VTIMEZONE
BEGIN:VEVENT
DTSTART;TZID=Australia/Brisbane:20151130T090000
DTEND;TZID=Australia/Brisbane:20151130T111500
DTSTAMP:20260424T145103
CREATED:20151109T121431Z
LAST-MODIFIED:20151111T073212Z
UID:4760-1448874000-1448882100@nicolejohnston.com.au
SUMMARY:Lord Mayor's Senior Christmas Party - AM
DESCRIPTION:Bookings required.  Tickets on sale from Monday 2 November at 9am.\nCall Ticketek on 13 28 49 or book via Ticketek’s website. \nExperience the Wonder of Christmas with a musical celebration. \nWith high tea see our city’s finest musicians\, dancers and performers including multiple Golden Guitar winner Michael Fix and stunning songstresses Kacey Patrick and Andrea Kirwi. Join the Evoke Dance & Theatre Company\, your hilarious host and international man of mimicry\, John Reid and enjoy musical direction by renowned composer/guitarist Andrew Veivers.
URL:https://nicolejohnston.com.au/event/lord-mayors-senior-christmas-party-am/2015-11-30/
LOCATION:Brisbane City Hall\, King George Square\, Brisbane\, Queensland\, 4000\, Australia
GEO:-27.468239;153.023736
X-APPLE-STRUCTURED-LOCATION;VALUE=URI;X-ADDRESS=Brisbane City Hall King George Square Brisbane Queensland 4000 Australia;X-APPLE-RADIUS=500;X-TITLE=King George Square:geo:153.023736,-27.468239
END:VEVENT
END:VCALENDAR