BEGIN:VCALENDAR
VERSION:2.0
PRODID:-//Nicole Johnston - ECPv6.15.20//NONSGML v1.0//EN
CALSCALE:GREGORIAN
METHOD:PUBLISH
X-ORIGINAL-URL:https://nicolejohnston.com.au
X-WR-CALDESC:Events for Nicole Johnston
REFRESH-INTERVAL;VALUE=DURATION:PT1H
X-Robots-Tag:noindex
X-PUBLISHED-TTL:PT1H
BEGIN:VTIMEZONE
TZID:Australia/Brisbane
BEGIN:STANDARD
TZOFFSETFROM:+1000
TZOFFSETTO:+1000
TZNAME:AEST
DTSTART:20150101T000000
END:STANDARD
END:VTIMEZONE
BEGIN:VEVENT
DTSTART;TZID=Australia/Brisbane:20160414T091500
DTEND;TZID=Australia/Brisbane:20160414T101500
DTSTAMP:20260424T183021
CREATED:20151015T075014Z
LAST-MODIFIED:20160331T192744Z
UID:4474-1460625300-1460628900@nicolejohnston.com.au
SUMMARY:Graceville | Low Impact Fitness & Pilates
DESCRIPTION:Bookings required. \nEasy movement and fitness exercises including warm up\, strength\, pilates and warm down. \nSuitable for all ages.  Please bring towel and water bottle and wear suitable exercise clothes and shoes.  Small dumbbells optional.
URL:https://nicolejohnston.com.au/event/low-impact-fitness-pilates/2016-04-14/
LOCATION:Graceville Riverside Parklands\, Graceville Avenue\, Graceville\, Queensland\, 4075\, Australia
GEO:-27.5228793;152.9875616
X-APPLE-STRUCTURED-LOCATION;VALUE=URI;X-ADDRESS=Graceville Riverside Parklands Graceville Avenue Graceville Queensland 4075 Australia;X-APPLE-RADIUS=500;X-TITLE=Graceville Avenue:geo:152.9875616,-27.5228793
END:VEVENT
END:VCALENDAR