BEGIN:VCALENDAR
VERSION:2.0
PRODID:-//Nicole Johnston - ECPv6.15.20//NONSGML v1.0//EN
CALSCALE:GREGORIAN
METHOD:PUBLISH
X-ORIGINAL-URL:https://nicolejohnston.com.au
X-WR-CALDESC:Events for Nicole Johnston
REFRESH-INTERVAL;VALUE=DURATION:PT1H
X-Robots-Tag:noindex
X-PUBLISHED-TTL:PT1H
BEGIN:VTIMEZONE
TZID:Australia/Brisbane
BEGIN:STANDARD
TZOFFSETFROM:+1000
TZOFFSETTO:+1000
TZNAME:AEST
DTSTART:20190101T000000
END:STANDARD
END:VTIMEZONE
BEGIN:VEVENT
DTSTART;TZID=Australia/Brisbane:20200208T100000
DTEND;TZID=Australia/Brisbane:20200208T110000
DTSTAMP:20260424T204113
CREATED:20200203T020223Z
LAST-MODIFIED:20200203T020413Z
UID:21408-1581156000-1581159600@nicolejohnston.com.au
SUMMARY:Oxley | Yoga for Mobility
DESCRIPTION:A gentle movement class blended with yoga to build strength\, improve balance and posture\, for maintaining independence and healthy ageing. No floor work involved – suitable for all levels.
URL:https://nicolejohnston.com.au/event/oxley-yoga-for-mobility/2020-02-08/
LOCATION:Cawonga Park\, Oxley\, Oxley Station Rd\, Oxley\, QLD\, 4075\, Australia
END:VEVENT
END:VCALENDAR