BEGIN:VCALENDAR
VERSION:2.0
PRODID:-//Nicole Johnston - ECPv6.15.20//NONSGML v1.0//EN
CALSCALE:GREGORIAN
METHOD:PUBLISH
X-WR-CALNAME:Nicole Johnston
X-ORIGINAL-URL:https://nicolejohnston.com.au
X-WR-CALDESC:Events for Nicole Johnston
REFRESH-INTERVAL;VALUE=DURATION:PT1H
X-Robots-Tag:noindex
X-PUBLISHED-TTL:PT1H
BEGIN:VTIMEZONE
TZID:Australia/Brisbane
BEGIN:STANDARD
TZOFFSETFROM:+1000
TZOFFSETTO:+1000
TZNAME:AEST
DTSTART:20250101T000000
END:STANDARD
END:VTIMEZONE
BEGIN:VEVENT
DTSTART;TZID=Australia/Brisbane:20260419T140000
DTEND;TZID=Australia/Brisbane:20260419T160000
DTSTAMP:20260424T063413
CREATED:20260119T012316Z
LAST-MODIFIED:20260119T012316Z
UID:31711-1776607200-1776614400@nicolejohnston.com.au
SUMMARY:Rocklea | OCCA Bushcare and Beer
DESCRIPTION:Bush care at the Oxley Creek Common followed by a free drink at Helios Brewing\, Palomar Road\, Yeerongpilly.
URL:https://nicolejohnston.com.au/event/rocklea-occa-bushcare-and-beer/2026-04-19/
LOCATION:Oxley Creek Common\, 271 Sherwood Rd\, Rocklea\, Qld\, 4106\, Australia
GEO:-27.535636;152.993047
X-APPLE-STRUCTURED-LOCATION;VALUE=URI;X-ADDRESS=Oxley Creek Common 271 Sherwood Rd Rocklea Qld 4106 Australia;X-APPLE-RADIUS=500;X-TITLE=271 Sherwood Rd:geo:152.993047,-27.535636
END:VEVENT
BEGIN:VEVENT
DTSTART;TZID=Australia/Brisbane:20260315T140000
DTEND;TZID=Australia/Brisbane:20260315T160000
DTSTAMP:20260424T063413
CREATED:20260119T012316Z
LAST-MODIFIED:20260119T012316Z
UID:31710-1773583200-1773590400@nicolejohnston.com.au
SUMMARY:Rocklea | OCCA Bushcare and Beer
DESCRIPTION:Bush care at the Oxley Creek Common followed by a free drink at Helios Brewing\, Palomar Road\, Yeerongpilly.
URL:https://nicolejohnston.com.au/event/rocklea-occa-bushcare-and-beer/2026-03-15/
LOCATION:Oxley Creek Common\, 271 Sherwood Rd\, Rocklea\, Qld\, 4106\, Australia
GEO:-27.535636;152.993047
X-APPLE-STRUCTURED-LOCATION;VALUE=URI;X-ADDRESS=Oxley Creek Common 271 Sherwood Rd Rocklea Qld 4106 Australia;X-APPLE-RADIUS=500;X-TITLE=271 Sherwood Rd:geo:152.993047,-27.535636
END:VEVENT
BEGIN:VEVENT
DTSTART;TZID=Australia/Brisbane:20260215T140000
DTEND;TZID=Australia/Brisbane:20260215T160000
DTSTAMP:20260424T063413
CREATED:20260119T012316Z
LAST-MODIFIED:20260119T012316Z
UID:31704-1771164000-1771171200@nicolejohnston.com.au
SUMMARY:Rocklea | OCCA Bushcare and Beer
DESCRIPTION:Bush care at the Oxley Creek Common followed by a free drink at Helios Brewing\, Palomar Road\, Yeerongpilly.
URL:https://nicolejohnston.com.au/event/rocklea-occa-bushcare-and-beer/2026-02-15/
LOCATION:Oxley Creek Common\, 271 Sherwood Rd\, Rocklea\, Qld\, 4106\, Australia
GEO:-27.535636;152.993047
X-APPLE-STRUCTURED-LOCATION;VALUE=URI;X-ADDRESS=Oxley Creek Common 271 Sherwood Rd Rocklea Qld 4106 Australia;X-APPLE-RADIUS=500;X-TITLE=271 Sherwood Rd:geo:152.993047,-27.535636
END:VEVENT
END:VCALENDAR