BEGIN:VCALENDAR
VERSION:2.0
PRODID:-//Nicole Johnston - ECPv6.15.20//NONSGML v1.0//EN
CALSCALE:GREGORIAN
METHOD:PUBLISH
X-ORIGINAL-URL:https://nicolejohnston.com.au
X-WR-CALDESC:Events for Nicole Johnston
REFRESH-INTERVAL;VALUE=DURATION:PT1H
X-Robots-Tag:noindex
X-PUBLISHED-TTL:PT1H
BEGIN:VTIMEZONE
TZID:Australia/Brisbane
BEGIN:STANDARD
TZOFFSETFROM:+1000
TZOFFSETTO:+1000
TZNAME:AEST
DTSTART:20250101T000000
END:STANDARD
END:VTIMEZONE
BEGIN:VEVENT
DTSTART;TZID=Australia/Brisbane:20260421T070000
DTEND;TZID=Australia/Brisbane:20260421T090000
DTSTAMP:20260424T063603
CREATED:20260119T012619Z
LAST-MODIFIED:20260119T012619Z
UID:31724-1776754800-1776762000@nicolejohnston.com.au
SUMMARY:Rocklea | Oxley Creek Tuesday Common Carers
DESCRIPTION:Weeding and planting to improve habitat.  Tools provided. Contact Mary Lou on 0429 911 555.
URL:https://nicolejohnston.com.au/event/rocklea-oxley-creek-tuesday-common-carers/2026-04-21/
LOCATION:Oxley Creek Common\, 271 Sherwood Rd\, Rocklea\, Qld\, 4106\, Australia
ORGANIZER;CN="Friends of Oxley Creek Common":MAILTO:friendsofoxleycreekcommon@gmail.com
GEO:-27.535636;152.993047
X-APPLE-STRUCTURED-LOCATION;VALUE=URI;X-ADDRESS=Oxley Creek Common 271 Sherwood Rd Rocklea Qld 4106 Australia;X-APPLE-RADIUS=500;X-TITLE=271 Sherwood Rd:geo:152.993047,-27.535636
END:VEVENT
BEGIN:VEVENT
DTSTART;TZID=Australia/Brisbane:20260414T070000
DTEND;TZID=Australia/Brisbane:20260414T090000
DTSTAMP:20260424T063603
CREATED:20260119T012619Z
LAST-MODIFIED:20260119T012619Z
UID:31722-1776150000-1776157200@nicolejohnston.com.au
SUMMARY:Rocklea | Oxley Creek Tuesday Common Carers
DESCRIPTION:Weeding and planting to improve habitat.  Tools provided. Contact Mary Lou on 0429 911 555.
URL:https://nicolejohnston.com.au/event/rocklea-oxley-creek-tuesday-common-carers/2026-04-14/
LOCATION:Oxley Creek Common\, 271 Sherwood Rd\, Rocklea\, Qld\, 4106\, Australia
ORGANIZER;CN="Friends of Oxley Creek Common":MAILTO:friendsofoxleycreekcommon@gmail.com
GEO:-27.535636;152.993047
X-APPLE-STRUCTURED-LOCATION;VALUE=URI;X-ADDRESS=Oxley Creek Common 271 Sherwood Rd Rocklea Qld 4106 Australia;X-APPLE-RADIUS=500;X-TITLE=271 Sherwood Rd:geo:152.993047,-27.535636
END:VEVENT
BEGIN:VEVENT
DTSTART;TZID=Australia/Brisbane:20260407T070000
DTEND;TZID=Australia/Brisbane:20260407T090000
DTSTAMP:20260424T063603
CREATED:20260119T012619Z
LAST-MODIFIED:20260119T012619Z
UID:31721-1775545200-1775552400@nicolejohnston.com.au
SUMMARY:Rocklea | Oxley Creek Tuesday Common Carers
DESCRIPTION:Weeding and planting to improve habitat.  Tools provided. Contact Mary Lou on 0429 911 555.
URL:https://nicolejohnston.com.au/event/rocklea-oxley-creek-tuesday-common-carers/2026-04-07/
LOCATION:Oxley Creek Common\, 271 Sherwood Rd\, Rocklea\, Qld\, 4106\, Australia
ORGANIZER;CN="Friends of Oxley Creek Common":MAILTO:friendsofoxleycreekcommon@gmail.com
GEO:-27.535636;152.993047
X-APPLE-STRUCTURED-LOCATION;VALUE=URI;X-ADDRESS=Oxley Creek Common 271 Sherwood Rd Rocklea Qld 4106 Australia;X-APPLE-RADIUS=500;X-TITLE=271 Sherwood Rd:geo:152.993047,-27.535636
END:VEVENT
BEGIN:VEVENT
DTSTART;TZID=Australia/Brisbane:20260331T070000
DTEND;TZID=Australia/Brisbane:20260331T090000
DTSTAMP:20260424T063603
CREATED:20260119T012619Z
LAST-MODIFIED:20260119T012619Z
UID:31720-1774940400-1774947600@nicolejohnston.com.au
SUMMARY:Rocklea | Oxley Creek Tuesday Common Carers
DESCRIPTION:Weeding and planting to improve habitat.  Tools provided. Contact Mary Lou on 0429 911 555.
URL:https://nicolejohnston.com.au/event/rocklea-oxley-creek-tuesday-common-carers/2026-03-31/
LOCATION:Oxley Creek Common\, 271 Sherwood Rd\, Rocklea\, Qld\, 4106\, Australia
ORGANIZER;CN="Friends of Oxley Creek Common":MAILTO:friendsofoxleycreekcommon@gmail.com
GEO:-27.535636;152.993047
X-APPLE-STRUCTURED-LOCATION;VALUE=URI;X-ADDRESS=Oxley Creek Common 271 Sherwood Rd Rocklea Qld 4106 Australia;X-APPLE-RADIUS=500;X-TITLE=271 Sherwood Rd:geo:152.993047,-27.535636
END:VEVENT
BEGIN:VEVENT
DTSTART;TZID=Australia/Brisbane:20260324T070000
DTEND;TZID=Australia/Brisbane:20260324T090000
DTSTAMP:20260424T063603
CREATED:20260119T012619Z
LAST-MODIFIED:20260119T012619Z
UID:31719-1774335600-1774342800@nicolejohnston.com.au
SUMMARY:Rocklea | Oxley Creek Tuesday Common Carers
DESCRIPTION:Weeding and planting to improve habitat.  Tools provided. Contact Mary Lou on 0429 911 555.
URL:https://nicolejohnston.com.au/event/rocklea-oxley-creek-tuesday-common-carers/2026-03-24/
LOCATION:Oxley Creek Common\, 271 Sherwood Rd\, Rocklea\, Qld\, 4106\, Australia
ORGANIZER;CN="Friends of Oxley Creek Common":MAILTO:friendsofoxleycreekcommon@gmail.com
GEO:-27.535636;152.993047
X-APPLE-STRUCTURED-LOCATION;VALUE=URI;X-ADDRESS=Oxley Creek Common 271 Sherwood Rd Rocklea Qld 4106 Australia;X-APPLE-RADIUS=500;X-TITLE=271 Sherwood Rd:geo:152.993047,-27.535636
END:VEVENT
BEGIN:VEVENT
DTSTART;TZID=Australia/Brisbane:20260317T070000
DTEND;TZID=Australia/Brisbane:20260317T090000
DTSTAMP:20260424T063603
CREATED:20260119T012619Z
LAST-MODIFIED:20260119T012619Z
UID:31718-1773730800-1773738000@nicolejohnston.com.au
SUMMARY:Rocklea | Oxley Creek Tuesday Common Carers
DESCRIPTION:Weeding and planting to improve habitat.  Tools provided. Contact Mary Lou on 0429 911 555.
URL:https://nicolejohnston.com.au/event/rocklea-oxley-creek-tuesday-common-carers/2026-03-17/
LOCATION:Oxley Creek Common\, 271 Sherwood Rd\, Rocklea\, Qld\, 4106\, Australia
ORGANIZER;CN="Friends of Oxley Creek Common":MAILTO:friendsofoxleycreekcommon@gmail.com
GEO:-27.535636;152.993047
X-APPLE-STRUCTURED-LOCATION;VALUE=URI;X-ADDRESS=Oxley Creek Common 271 Sherwood Rd Rocklea Qld 4106 Australia;X-APPLE-RADIUS=500;X-TITLE=271 Sherwood Rd:geo:152.993047,-27.535636
END:VEVENT
BEGIN:VEVENT
DTSTART;TZID=Australia/Brisbane:20260310T070000
DTEND;TZID=Australia/Brisbane:20260310T090000
DTSTAMP:20260424T063603
CREATED:20260119T012619Z
LAST-MODIFIED:20260119T012619Z
UID:31717-1773126000-1773133200@nicolejohnston.com.au
SUMMARY:Rocklea | Oxley Creek Tuesday Common Carers
DESCRIPTION:Weeding and planting to improve habitat.  Tools provided. Contact Mary Lou on 0429 911 555.
URL:https://nicolejohnston.com.au/event/rocklea-oxley-creek-tuesday-common-carers/2026-03-10/
LOCATION:Oxley Creek Common\, 271 Sherwood Rd\, Rocklea\, Qld\, 4106\, Australia
ORGANIZER;CN="Friends of Oxley Creek Common":MAILTO:friendsofoxleycreekcommon@gmail.com
GEO:-27.535636;152.993047
X-APPLE-STRUCTURED-LOCATION;VALUE=URI;X-ADDRESS=Oxley Creek Common 271 Sherwood Rd Rocklea Qld 4106 Australia;X-APPLE-RADIUS=500;X-TITLE=271 Sherwood Rd:geo:152.993047,-27.535636
END:VEVENT
BEGIN:VEVENT
DTSTART;TZID=Australia/Brisbane:20260303T070000
DTEND;TZID=Australia/Brisbane:20260303T090000
DTSTAMP:20260424T063603
CREATED:20260119T012619Z
LAST-MODIFIED:20260119T012619Z
UID:31716-1772521200-1772528400@nicolejohnston.com.au
SUMMARY:Rocklea | Oxley Creek Tuesday Common Carers
DESCRIPTION:Weeding and planting to improve habitat.  Tools provided. Contact Mary Lou on 0429 911 555.
URL:https://nicolejohnston.com.au/event/rocklea-oxley-creek-tuesday-common-carers/2026-03-03/
LOCATION:Oxley Creek Common\, 271 Sherwood Rd\, Rocklea\, Qld\, 4106\, Australia
ORGANIZER;CN="Friends of Oxley Creek Common":MAILTO:friendsofoxleycreekcommon@gmail.com
GEO:-27.535636;152.993047
X-APPLE-STRUCTURED-LOCATION;VALUE=URI;X-ADDRESS=Oxley Creek Common 271 Sherwood Rd Rocklea Qld 4106 Australia;X-APPLE-RADIUS=500;X-TITLE=271 Sherwood Rd:geo:152.993047,-27.535636
END:VEVENT
BEGIN:VEVENT
DTSTART;TZID=Australia/Brisbane:20260224T070000
DTEND;TZID=Australia/Brisbane:20260224T090000
DTSTAMP:20260424T063603
CREATED:20260119T012619Z
LAST-MODIFIED:20260119T012619Z
UID:31715-1771916400-1771923600@nicolejohnston.com.au
SUMMARY:Rocklea | Oxley Creek Tuesday Common Carers
DESCRIPTION:Weeding and planting to improve habitat.  Tools provided. Contact Mary Lou on 0429 911 555.
URL:https://nicolejohnston.com.au/event/rocklea-oxley-creek-tuesday-common-carers/2026-02-24/
LOCATION:Oxley Creek Common\, 271 Sherwood Rd\, Rocklea\, Qld\, 4106\, Australia
ORGANIZER;CN="Friends of Oxley Creek Common":MAILTO:friendsofoxleycreekcommon@gmail.com
GEO:-27.535636;152.993047
X-APPLE-STRUCTURED-LOCATION;VALUE=URI;X-ADDRESS=Oxley Creek Common 271 Sherwood Rd Rocklea Qld 4106 Australia;X-APPLE-RADIUS=500;X-TITLE=271 Sherwood Rd:geo:152.993047,-27.535636
END:VEVENT
BEGIN:VEVENT
DTSTART;TZID=Australia/Brisbane:20260217T070000
DTEND;TZID=Australia/Brisbane:20260217T090000
DTSTAMP:20260424T063603
CREATED:20260119T012619Z
LAST-MODIFIED:20260119T012619Z
UID:31714-1771311600-1771318800@nicolejohnston.com.au
SUMMARY:Rocklea | Oxley Creek Tuesday Common Carers
DESCRIPTION:Weeding and planting to improve habitat.  Tools provided. Contact Mary Lou on 0429 911 555.
URL:https://nicolejohnston.com.au/event/rocklea-oxley-creek-tuesday-common-carers/2026-02-17/
LOCATION:Oxley Creek Common\, 271 Sherwood Rd\, Rocklea\, Qld\, 4106\, Australia
ORGANIZER;CN="Friends of Oxley Creek Common":MAILTO:friendsofoxleycreekcommon@gmail.com
GEO:-27.535636;152.993047
X-APPLE-STRUCTURED-LOCATION;VALUE=URI;X-ADDRESS=Oxley Creek Common 271 Sherwood Rd Rocklea Qld 4106 Australia;X-APPLE-RADIUS=500;X-TITLE=271 Sherwood Rd:geo:152.993047,-27.535636
END:VEVENT
BEGIN:VEVENT
DTSTART;TZID=Australia/Brisbane:20260210T070000
DTEND;TZID=Australia/Brisbane:20260210T090000
DTSTAMP:20260424T063603
CREATED:20260119T012619Z
LAST-MODIFIED:20260119T012619Z
UID:31713-1770706800-1770714000@nicolejohnston.com.au
SUMMARY:Rocklea | Oxley Creek Tuesday Common Carers
DESCRIPTION:Weeding and planting to improve habitat.  Tools provided. Contact Mary Lou on 0429 911 555.
URL:https://nicolejohnston.com.au/event/rocklea-oxley-creek-tuesday-common-carers/2026-02-10/
LOCATION:Oxley Creek Common\, 271 Sherwood Rd\, Rocklea\, Qld\, 4106\, Australia
ORGANIZER;CN="Friends of Oxley Creek Common":MAILTO:friendsofoxleycreekcommon@gmail.com
GEO:-27.535636;152.993047
X-APPLE-STRUCTURED-LOCATION;VALUE=URI;X-ADDRESS=Oxley Creek Common 271 Sherwood Rd Rocklea Qld 4106 Australia;X-APPLE-RADIUS=500;X-TITLE=271 Sherwood Rd:geo:152.993047,-27.535636
END:VEVENT
BEGIN:VEVENT
DTSTART;TZID=Australia/Brisbane:20260203T070000
DTEND;TZID=Australia/Brisbane:20260203T090000
DTSTAMP:20260424T063603
CREATED:20260119T012619Z
LAST-MODIFIED:20260119T012619Z
UID:31712-1770102000-1770109200@nicolejohnston.com.au
SUMMARY:Rocklea | Oxley Creek Tuesday Common Carers
DESCRIPTION:Weeding and planting to improve habitat.  Tools provided. Contact Mary Lou on 0429 911 555.
URL:https://nicolejohnston.com.au/event/rocklea-oxley-creek-tuesday-common-carers/2026-02-03/
LOCATION:Oxley Creek Common\, 271 Sherwood Rd\, Rocklea\, Qld\, 4106\, Australia
ORGANIZER;CN="Friends of Oxley Creek Common":MAILTO:friendsofoxleycreekcommon@gmail.com
GEO:-27.535636;152.993047
X-APPLE-STRUCTURED-LOCATION;VALUE=URI;X-ADDRESS=Oxley Creek Common 271 Sherwood Rd Rocklea Qld 4106 Australia;X-APPLE-RADIUS=500;X-TITLE=271 Sherwood Rd:geo:152.993047,-27.535636
END:VEVENT
END:VCALENDAR