BEGIN:VCALENDAR
VERSION:2.0
PRODID:-//Nicole Johnston - ECPv6.15.20//NONSGML v1.0//EN
CALSCALE:GREGORIAN
METHOD:PUBLISH
X-ORIGINAL-URL:https://nicolejohnston.com.au
X-WR-CALDESC:Events for Nicole Johnston
REFRESH-INTERVAL;VALUE=DURATION:PT1H
X-Robots-Tag:noindex
X-PUBLISHED-TTL:PT1H
BEGIN:VTIMEZONE
TZID:Australia/Brisbane
BEGIN:STANDARD
TZOFFSETFROM:+1000
TZOFFSETTO:+1000
TZNAME:AEST
DTSTART:20150101T000000
END:STANDARD
END:VTIMEZONE
BEGIN:VEVENT
DTSTART;TZID=Australia/Brisbane:20161103T154500
DTEND;TZID=Australia/Brisbane:20161103T164500
DTSTAMP:20260425T020734
CREATED:20161028T034609Z
LAST-MODIFIED:20161028T034609Z
UID:10586-1478187900-1478191500@nicolejohnston.com.au
SUMMARY:Sherwood | ACT-ivate Children's Club
DESCRIPTION:Children will get healthy and active\, meet new friends and develop a new skill each week.  Using balls\, hoops\, parachutes\, tunnels\, jumping sacks\, puppets\, storybooks\, costumes and music\, participants will explore all the different ways their growing bodies can move.  These sessions will ACT-ivate the children and their caregivers and have a focus on creativity and fun in a safe\, relaxed and energetic environment.
URL:https://nicolejohnston.com.au/event/sherwood-act-ivate-childrens-club/2016-11-03/
LOCATION:Sherwood Arboretum\, 57 Dewar Terrace\, Sherwood\, Queensland\, 4075\, Australia
GEO:-27.532253;152.977305
X-APPLE-STRUCTURED-LOCATION;VALUE=URI;X-ADDRESS=Sherwood Arboretum 57 Dewar Terrace Sherwood Queensland 4075 Australia;X-APPLE-RADIUS=500;X-TITLE=57 Dewar Terrace:geo:152.977305,-27.532253
END:VEVENT
END:VCALENDAR