BEGIN:VCALENDAR
VERSION:2.0
PRODID:-//Nicole Johnston - ECPv6.15.20//NONSGML v1.0//EN
CALSCALE:GREGORIAN
METHOD:PUBLISH
X-WR-CALNAME:Nicole Johnston
X-ORIGINAL-URL:https://nicolejohnston.com.au
X-WR-CALDESC:Events for Nicole Johnston
REFRESH-INTERVAL;VALUE=DURATION:PT1H
X-Robots-Tag:noindex
X-PUBLISHED-TTL:PT1H
BEGIN:VTIMEZONE
TZID:Australia/Brisbane
BEGIN:STANDARD
TZOFFSETFROM:+1000
TZOFFSETTO:+1000
TZNAME:AEST
DTSTART:20210101T000000
END:STANDARD
END:VTIMEZONE
BEGIN:VEVENT
DTSTART;TZID=Australia/Brisbane:20221109T100000
DTEND;TZID=Australia/Brisbane:20221109T160000
DTSTAMP:20260424T162434
CREATED:20221108T040631Z
LAST-MODIFIED:20221108T040632Z
UID:25863-1667988000-1668009600@nicolejohnston.com.au
SUMMARY:Sherwood | Anything Goes Arts and Crafts Exhibition
DESCRIPTION:Chapel Gardens Artists and Brushstroke Friends showcase their works at their latest exhibition\, Anything Goes.
URL:https://nicolejohnston.com.au/event/sherwood-anything-goes-arts-and-crafts-exhibition/2022-11-09/
LOCATION:Sherwood Uniting Church\, cnr Thallon St and Sherwood Rd\, Sherwood\, qld\, 4075\, Australia
CATEGORIES:Community Event
ATTACH;FMTTYPE=image/png:https://nicolejohnston.com.au/wp-content/uploads/2022/11/Chapel-Gardens-Art-Show.png
GEO:-27.5320991;152.9806216
X-APPLE-STRUCTURED-LOCATION;VALUE=URI;X-ADDRESS=Sherwood Uniting Church cnr Thallon St and Sherwood Rd Sherwood qld 4075 Australia;X-APPLE-RADIUS=500;X-TITLE=cnr Thallon St and Sherwood Rd:geo:152.9806216,-27.5320991
END:VEVENT
END:VCALENDAR