BEGIN:VCALENDAR
VERSION:2.0
PRODID:-//Nicole Johnston - ECPv6.15.20//NONSGML v1.0//EN
CALSCALE:GREGORIAN
METHOD:PUBLISH
X-WR-CALNAME:Nicole Johnston
X-ORIGINAL-URL:https://nicolejohnston.com.au
X-WR-CALDESC:Events for Nicole Johnston
REFRESH-INTERVAL;VALUE=DURATION:PT1H
X-Robots-Tag:noindex
X-PUBLISHED-TTL:PT1H
BEGIN:VTIMEZONE
TZID:Australia/Brisbane
BEGIN:STANDARD
TZOFFSETFROM:+1000
TZOFFSETTO:+1000
TZNAME:AEST
DTSTART:20150101T000000
END:STANDARD
END:VTIMEZONE
BEGIN:VEVENT
DTSTART;TZID=Australia/Brisbane:20161107T100000
DTEND;TZID=Australia/Brisbane:20161107T160000
DTSTAMP:20260424T181722
CREATED:20161027T014951Z
LAST-MODIFIED:20161027T014951Z
UID:10543-1478512800-1478534400@nicolejohnston.com.au
SUMMARY:Sherwood | Art Exhibition
DESCRIPTION:Sherwood Uniting Church is providing the venue for an Art Exhibition showing the work of two groups\, Chapel Gardens Artists and Brush Stroke Friends. The Exhibition is timed to coincide with the annual Sherwood Traders Street Festival on 11th November.  The Exhibition is to be officially opened on Monday\, 7th November by Rev. David Baker\, Moderator of the Uniting Church in Queensland\, at 10:30 am where light refreshments will be served. All are welcome. On Wednesday and Friday from 10:00am to noon there will be opportunity for visitors to try out a variety of media and on Tuesday and Thursday between 10:00am and noon there will be demonstrations by artist Bettie Botha. \nVenue: Sherwood Uniting Church\, cnr. Sherwood Road and Thallon Street\, Sherwood\, 4075. \nTime: Monday to Thursday – 10.00am to 4:00pm\, Friday – 10:am to 9:00pm (Street Festival)\, Saturday 10:00am to noon. \nContacts:  Anne 0422 843 390 Rowena 0408 004 053
URL:https://nicolejohnston.com.au/event/sherwood-art-exhibition/2016-11-07/
LOCATION:Sherwood Uniting Church\, cnr Thallon St and Sherwood Rd\, Sherwood\, qld\, 4075\, Australia
GEO:-27.5320991;152.9806216
X-APPLE-STRUCTURED-LOCATION;VALUE=URI;X-ADDRESS=Sherwood Uniting Church cnr Thallon St and Sherwood Rd Sherwood qld 4075 Australia;X-APPLE-RADIUS=500;X-TITLE=cnr Thallon St and Sherwood Rd:geo:152.9806216,-27.5320991
END:VEVENT
END:VCALENDAR