BEGIN:VCALENDAR
VERSION:2.0
PRODID:-//Nicole Johnston - ECPv6.15.20//NONSGML v1.0//EN
CALSCALE:GREGORIAN
METHOD:PUBLISH
X-WR-CALNAME:Nicole Johnston
X-ORIGINAL-URL:https://nicolejohnston.com.au
X-WR-CALDESC:Events for Nicole Johnston
REFRESH-INTERVAL;VALUE=DURATION:PT1H
X-Robots-Tag:noindex
X-PUBLISHED-TTL:PT1H
BEGIN:VTIMEZONE
TZID:Australia/Brisbane
BEGIN:STANDARD
TZOFFSETFROM:+1000
TZOFFSETTO:+1000
TZNAME:AEST
DTSTART:20150101T000000
END:STANDARD
END:VTIMEZONE
BEGIN:VEVENT
DTSTART;TZID=Australia/Brisbane:20160427T093000
DTEND;TZID=Australia/Brisbane:20160427T103000
DTSTAMP:20260424T215341
CREATED:20160331T194443Z
LAST-MODIFIED:20160331T194443Z
UID:8847-1461749400-1461753000@nicolejohnston.com.au
SUMMARY:Sherwood | Balance Bikes
DESCRIPTION:Children will have fun playing games and doing challenges\, all while on two (or three) wheels. You will see their confidence and ability grow with each session they attend! \nSuitable for children aged 2 – 5 years.  Please bring along balance bike and wear exercise clothes and shoes\, sun protection and bring a water bottle. \nBookings not required.   Meet near the car park.
URL:https://nicolejohnston.com.au/event/sherwood-balance-bikes/2016-04-27/
LOCATION:Sherwood Arboretum\, 57 Dewar Terrace\, Sherwood\, Queensland\, 4075\, Australia
GEO:-27.532253;152.977305
X-APPLE-STRUCTURED-LOCATION;VALUE=URI;X-ADDRESS=Sherwood Arboretum 57 Dewar Terrace Sherwood Queensland 4075 Australia;X-APPLE-RADIUS=500;X-TITLE=57 Dewar Terrace:geo:152.977305,-27.532253
END:VEVENT
END:VCALENDAR