BEGIN:VCALENDAR
VERSION:2.0
PRODID:-//Nicole Johnston - ECPv6.15.20//NONSGML v1.0//EN
CALSCALE:GREGORIAN
METHOD:PUBLISH
X-ORIGINAL-URL:https://nicolejohnston.com.au
X-WR-CALDESC:Events for Nicole Johnston
REFRESH-INTERVAL;VALUE=DURATION:PT1H
X-Robots-Tag:noindex
X-PUBLISHED-TTL:PT1H
BEGIN:VTIMEZONE
TZID:Australia/Brisbane
BEGIN:STANDARD
TZOFFSETFROM:+1000
TZOFFSETTO:+1000
TZNAME:AEST
DTSTART:20230101T000000
END:STANDARD
END:VTIMEZONE
BEGIN:VEVENT
DTSTART;TZID=Australia/Brisbane:20241204T140000
DTEND;TZID=Australia/Brisbane:20241204T150000
DTSTAMP:20260424T195949
CREATED:20240820T020533Z
LAST-MODIFIED:20240820T021108Z
UID:27950-1733320800-1733324400@nicolejohnston.com.au
SUMMARY:Sherwood | GOLD Belly Dance
DESCRIPTION:Enjoy gentle dance focused on fitness\, co-ordination\, flexibility\, relaxation and fun. Belly dance provides physical\, emotional and psychological benefits. Suitable for all levels.  Bring a belly dance belt if you have one. \nThis is a GOLD event suitable for seniors. \nBookings essential. To book email Sherwood Neighbourhood Centre. For more information phone 3379 6963.
URL:https://nicolejohnston.com.au/event/sherwood-belly-dance-2/2024-12-04/
LOCATION:Sherwood Neighbourhood Centre\, 38 Thallon Street\, Sherwood\, Queensland\, 4075\, Australia
GEO:-27.53402;152.981098
X-APPLE-STRUCTURED-LOCATION;VALUE=URI;X-ADDRESS=Sherwood Neighbourhood Centre 38 Thallon Street Sherwood Queensland 4075 Australia;X-APPLE-RADIUS=500;X-TITLE=38 Thallon Street:geo:152.981098,-27.53402
END:VEVENT
BEGIN:VEVENT
DTSTART;TZID=Australia/Brisbane:20241127T140000
DTEND;TZID=Australia/Brisbane:20241127T150000
DTSTAMP:20260424T195949
CREATED:20240820T020533Z
LAST-MODIFIED:20240820T021105Z
UID:27949-1732716000-1732719600@nicolejohnston.com.au
SUMMARY:Sherwood | GOLD Belly Dance
DESCRIPTION:Enjoy gentle dance focused on fitness\, co-ordination\, flexibility\, relaxation and fun. Belly dance provides physical\, emotional and psychological benefits. Suitable for all levels.  Bring a belly dance belt if you have one. \nThis is a GOLD event suitable for seniors. \nBookings essential. To book email Sherwood Neighbourhood Centre. For more information phone 3379 6963.
URL:https://nicolejohnston.com.au/event/sherwood-belly-dance-2/2024-11-27/
LOCATION:Sherwood Neighbourhood Centre\, 38 Thallon Street\, Sherwood\, Queensland\, 4075\, Australia
GEO:-27.53402;152.981098
X-APPLE-STRUCTURED-LOCATION;VALUE=URI;X-ADDRESS=Sherwood Neighbourhood Centre 38 Thallon Street Sherwood Queensland 4075 Australia;X-APPLE-RADIUS=500;X-TITLE=38 Thallon Street:geo:152.981098,-27.53402
END:VEVENT
BEGIN:VEVENT
DTSTART;TZID=Australia/Brisbane:20241120T140000
DTEND;TZID=Australia/Brisbane:20241120T150000
DTSTAMP:20260424T195949
CREATED:20240820T020533Z
LAST-MODIFIED:20240820T021103Z
UID:27948-1732111200-1732114800@nicolejohnston.com.au
SUMMARY:Sherwood | GOLD Belly Dance
DESCRIPTION:Enjoy gentle dance focused on fitness\, co-ordination\, flexibility\, relaxation and fun. Belly dance provides physical\, emotional and psychological benefits. Suitable for all levels.  Bring a belly dance belt if you have one. \nThis is a GOLD event suitable for seniors. \nBookings essential. To book email Sherwood Neighbourhood Centre. For more information phone 3379 6963.
URL:https://nicolejohnston.com.au/event/sherwood-belly-dance-2/2024-11-20/
LOCATION:Sherwood Neighbourhood Centre\, 38 Thallon Street\, Sherwood\, Queensland\, 4075\, Australia
GEO:-27.53402;152.981098
X-APPLE-STRUCTURED-LOCATION;VALUE=URI;X-ADDRESS=Sherwood Neighbourhood Centre 38 Thallon Street Sherwood Queensland 4075 Australia;X-APPLE-RADIUS=500;X-TITLE=38 Thallon Street:geo:152.981098,-27.53402
END:VEVENT
BEGIN:VEVENT
DTSTART;TZID=Australia/Brisbane:20241113T140000
DTEND;TZID=Australia/Brisbane:20241113T150000
DTSTAMP:20260424T195949
CREATED:20240820T020533Z
LAST-MODIFIED:20240820T021052Z
UID:27947-1731506400-1731510000@nicolejohnston.com.au
SUMMARY:Sherwood | GOLD Belly Dance
DESCRIPTION:Enjoy gentle dance focused on fitness\, co-ordination\, flexibility\, relaxation and fun. Belly dance provides physical\, emotional and psychological benefits. Suitable for all levels.  Bring a belly dance belt if you have one. \nThis is a GOLD event suitable for seniors. \nBookings essential. To book email Sherwood Neighbourhood Centre. For more information phone 3379 6963.
URL:https://nicolejohnston.com.au/event/sherwood-belly-dance-2/2024-11-13/
LOCATION:Sherwood Neighbourhood Centre\, 38 Thallon Street\, Sherwood\, Queensland\, 4075\, Australia
GEO:-27.53402;152.981098
X-APPLE-STRUCTURED-LOCATION;VALUE=URI;X-ADDRESS=Sherwood Neighbourhood Centre 38 Thallon Street Sherwood Queensland 4075 Australia;X-APPLE-RADIUS=500;X-TITLE=38 Thallon Street:geo:152.981098,-27.53402
END:VEVENT
BEGIN:VEVENT
DTSTART;TZID=Australia/Brisbane:20241106T140000
DTEND;TZID=Australia/Brisbane:20241106T150000
DTSTAMP:20260424T195949
CREATED:20240820T020533Z
LAST-MODIFIED:20240820T021050Z
UID:27946-1730901600-1730905200@nicolejohnston.com.au
SUMMARY:Sherwood | GOLD Belly Dance
DESCRIPTION:Enjoy gentle dance focused on fitness\, co-ordination\, flexibility\, relaxation and fun. Belly dance provides physical\, emotional and psychological benefits. Suitable for all levels.  Bring a belly dance belt if you have one. \nThis is a GOLD event suitable for seniors. \nBookings essential. To book email Sherwood Neighbourhood Centre. For more information phone 3379 6963.
URL:https://nicolejohnston.com.au/event/sherwood-belly-dance-2/2024-11-06/
LOCATION:Sherwood Neighbourhood Centre\, 38 Thallon Street\, Sherwood\, Queensland\, 4075\, Australia
GEO:-27.53402;152.981098
X-APPLE-STRUCTURED-LOCATION;VALUE=URI;X-ADDRESS=Sherwood Neighbourhood Centre 38 Thallon Street Sherwood Queensland 4075 Australia;X-APPLE-RADIUS=500;X-TITLE=38 Thallon Street:geo:152.981098,-27.53402
END:VEVENT
BEGIN:VEVENT
DTSTART;TZID=Australia/Brisbane:20241030T140000
DTEND;TZID=Australia/Brisbane:20241030T150000
DTSTAMP:20260424T195949
CREATED:20240820T020533Z
LAST-MODIFIED:20240820T021048Z
UID:27945-1730296800-1730300400@nicolejohnston.com.au
SUMMARY:Sherwood | GOLD Belly Dance
DESCRIPTION:Enjoy gentle dance focused on fitness\, co-ordination\, flexibility\, relaxation and fun. Belly dance provides physical\, emotional and psychological benefits. Suitable for all levels.  Bring a belly dance belt if you have one. \nThis is a GOLD event suitable for seniors. \nBookings essential. To book email Sherwood Neighbourhood Centre. For more information phone 3379 6963.
URL:https://nicolejohnston.com.au/event/sherwood-belly-dance-2/2024-10-30/
LOCATION:Sherwood Neighbourhood Centre\, 38 Thallon Street\, Sherwood\, Queensland\, 4075\, Australia
GEO:-27.53402;152.981098
X-APPLE-STRUCTURED-LOCATION;VALUE=URI;X-ADDRESS=Sherwood Neighbourhood Centre 38 Thallon Street Sherwood Queensland 4075 Australia;X-APPLE-RADIUS=500;X-TITLE=38 Thallon Street:geo:152.981098,-27.53402
END:VEVENT
BEGIN:VEVENT
DTSTART;TZID=Australia/Brisbane:20241023T140000
DTEND;TZID=Australia/Brisbane:20241023T150000
DTSTAMP:20260424T195949
CREATED:20240820T020533Z
LAST-MODIFIED:20240820T021045Z
UID:27944-1729692000-1729695600@nicolejohnston.com.au
SUMMARY:Sherwood | GOLD Belly Dance
DESCRIPTION:Enjoy gentle dance focused on fitness\, co-ordination\, flexibility\, relaxation and fun. Belly dance provides physical\, emotional and psychological benefits. Suitable for all levels.  Bring a belly dance belt if you have one. \nThis is a GOLD event suitable for seniors. \nBookings essential. To book email Sherwood Neighbourhood Centre. For more information phone 3379 6963.
URL:https://nicolejohnston.com.au/event/sherwood-belly-dance-2/2024-10-23/
LOCATION:Sherwood Neighbourhood Centre\, 38 Thallon Street\, Sherwood\, Queensland\, 4075\, Australia
GEO:-27.53402;152.981098
X-APPLE-STRUCTURED-LOCATION;VALUE=URI;X-ADDRESS=Sherwood Neighbourhood Centre 38 Thallon Street Sherwood Queensland 4075 Australia;X-APPLE-RADIUS=500;X-TITLE=38 Thallon Street:geo:152.981098,-27.53402
END:VEVENT
BEGIN:VEVENT
DTSTART;TZID=Australia/Brisbane:20241016T140000
DTEND;TZID=Australia/Brisbane:20241016T150000
DTSTAMP:20260424T195949
CREATED:20240820T020533Z
LAST-MODIFIED:20240820T021042Z
UID:27943-1729087200-1729090800@nicolejohnston.com.au
SUMMARY:Sherwood | GOLD Belly Dance
DESCRIPTION:Enjoy gentle dance focused on fitness\, co-ordination\, flexibility\, relaxation and fun. Belly dance provides physical\, emotional and psychological benefits. Suitable for all levels.  Bring a belly dance belt if you have one. \nThis is a GOLD event suitable for seniors. \nBookings essential. To book email Sherwood Neighbourhood Centre. For more information phone 3379 6963.
URL:https://nicolejohnston.com.au/event/sherwood-belly-dance-2/2024-10-16/
LOCATION:Sherwood Neighbourhood Centre\, 38 Thallon Street\, Sherwood\, Queensland\, 4075\, Australia
GEO:-27.53402;152.981098
X-APPLE-STRUCTURED-LOCATION;VALUE=URI;X-ADDRESS=Sherwood Neighbourhood Centre 38 Thallon Street Sherwood Queensland 4075 Australia;X-APPLE-RADIUS=500;X-TITLE=38 Thallon Street:geo:152.981098,-27.53402
END:VEVENT
BEGIN:VEVENT
DTSTART;TZID=Australia/Brisbane:20241009T140000
DTEND;TZID=Australia/Brisbane:20241009T150000
DTSTAMP:20260424T195949
CREATED:20240820T020533Z
LAST-MODIFIED:20240820T021040Z
UID:27942-1728482400-1728486000@nicolejohnston.com.au
SUMMARY:Sherwood | GOLD Belly Dance
DESCRIPTION:Enjoy gentle dance focused on fitness\, co-ordination\, flexibility\, relaxation and fun. Belly dance provides physical\, emotional and psychological benefits. Suitable for all levels.  Bring a belly dance belt if you have one. \nThis is a GOLD event suitable for seniors. \nBookings essential. To book email Sherwood Neighbourhood Centre. For more information phone 3379 6963.
URL:https://nicolejohnston.com.au/event/sherwood-belly-dance-2/2024-10-09/
LOCATION:Sherwood Neighbourhood Centre\, 38 Thallon Street\, Sherwood\, Queensland\, 4075\, Australia
GEO:-27.53402;152.981098
X-APPLE-STRUCTURED-LOCATION;VALUE=URI;X-ADDRESS=Sherwood Neighbourhood Centre 38 Thallon Street Sherwood Queensland 4075 Australia;X-APPLE-RADIUS=500;X-TITLE=38 Thallon Street:geo:152.981098,-27.53402
END:VEVENT
BEGIN:VEVENT
DTSTART;TZID=Australia/Brisbane:20241002T140000
DTEND;TZID=Australia/Brisbane:20241002T150000
DTSTAMP:20260424T195949
CREATED:20240820T020533Z
LAST-MODIFIED:20240820T021038Z
UID:27941-1727877600-1727881200@nicolejohnston.com.au
SUMMARY:Sherwood | GOLD Belly Dance
DESCRIPTION:Enjoy gentle dance focused on fitness\, co-ordination\, flexibility\, relaxation and fun. Belly dance provides physical\, emotional and psychological benefits. Suitable for all levels.  Bring a belly dance belt if you have one. \nThis is a GOLD event suitable for seniors. \nBookings essential. To book email Sherwood Neighbourhood Centre. For more information phone 3379 6963.
URL:https://nicolejohnston.com.au/event/sherwood-belly-dance-2/2024-10-02/
LOCATION:Sherwood Neighbourhood Centre\, 38 Thallon Street\, Sherwood\, Queensland\, 4075\, Australia
GEO:-27.53402;152.981098
X-APPLE-STRUCTURED-LOCATION;VALUE=URI;X-ADDRESS=Sherwood Neighbourhood Centre 38 Thallon Street Sherwood Queensland 4075 Australia;X-APPLE-RADIUS=500;X-TITLE=38 Thallon Street:geo:152.981098,-27.53402
END:VEVENT
BEGIN:VEVENT
DTSTART;TZID=Australia/Brisbane:20240911T140000
DTEND;TZID=Australia/Brisbane:20240911T150000
DTSTAMP:20260424T195949
CREATED:20240820T020533Z
LAST-MODIFIED:20240820T021036Z
UID:27940-1726063200-1726066800@nicolejohnston.com.au
SUMMARY:Sherwood | GOLD Belly Dance
DESCRIPTION:Enjoy gentle dance focused on fitness\, co-ordination\, flexibility\, relaxation and fun. Belly dance provides physical\, emotional and psychological benefits. Suitable for all levels.  Bring a belly dance belt if you have one. \nThis is a GOLD event suitable for seniors. \nBookings essential. To book email Sherwood Neighbourhood Centre. For more information phone 3379 6963.
URL:https://nicolejohnston.com.au/event/sherwood-belly-dance-2/2024-09-11/
LOCATION:Sherwood Neighbourhood Centre\, 38 Thallon Street\, Sherwood\, Queensland\, 4075\, Australia
GEO:-27.53402;152.981098
X-APPLE-STRUCTURED-LOCATION;VALUE=URI;X-ADDRESS=Sherwood Neighbourhood Centre 38 Thallon Street Sherwood Queensland 4075 Australia;X-APPLE-RADIUS=500;X-TITLE=38 Thallon Street:geo:152.981098,-27.53402
END:VEVENT
BEGIN:VEVENT
DTSTART;TZID=Australia/Brisbane:20240904T140000
DTEND;TZID=Australia/Brisbane:20240904T150000
DTSTAMP:20260424T195949
CREATED:20240820T020533Z
LAST-MODIFIED:20240820T021033Z
UID:27939-1725458400-1725462000@nicolejohnston.com.au
SUMMARY:Sherwood | GOLD Belly Dance
DESCRIPTION:Enjoy gentle dance focused on fitness\, co-ordination\, flexibility\, relaxation and fun. Belly dance provides physical\, emotional and psychological benefits. Suitable for all levels.  Bring a belly dance belt if you have one. \nThis is a GOLD event suitable for seniors. \nBookings essential. To book email Sherwood Neighbourhood Centre. For more information phone 3379 6963.
URL:https://nicolejohnston.com.au/event/sherwood-belly-dance-2/2024-09-04/
LOCATION:Sherwood Neighbourhood Centre\, 38 Thallon Street\, Sherwood\, Queensland\, 4075\, Australia
GEO:-27.53402;152.981098
X-APPLE-STRUCTURED-LOCATION;VALUE=URI;X-ADDRESS=Sherwood Neighbourhood Centre 38 Thallon Street Sherwood Queensland 4075 Australia;X-APPLE-RADIUS=500;X-TITLE=38 Thallon Street:geo:152.981098,-27.53402
END:VEVENT
BEGIN:VEVENT
DTSTART;TZID=Australia/Brisbane:20240828T140000
DTEND;TZID=Australia/Brisbane:20240828T150000
DTSTAMP:20260424T195949
CREATED:20240820T020533Z
LAST-MODIFIED:20240820T021031Z
UID:27938-1724853600-1724857200@nicolejohnston.com.au
SUMMARY:Sherwood | GOLD Belly Dance
DESCRIPTION:Enjoy gentle dance focused on fitness\, co-ordination\, flexibility\, relaxation and fun. Belly dance provides physical\, emotional and psychological benefits. Suitable for all levels.  Bring a belly dance belt if you have one. \nThis is a GOLD event suitable for seniors. \nBookings essential. To book email Sherwood Neighbourhood Centre. For more information phone 3379 6963.
URL:https://nicolejohnston.com.au/event/sherwood-belly-dance-2/2024-08-28/
LOCATION:Sherwood Neighbourhood Centre\, 38 Thallon Street\, Sherwood\, Queensland\, 4075\, Australia
GEO:-27.53402;152.981098
X-APPLE-STRUCTURED-LOCATION;VALUE=URI;X-ADDRESS=Sherwood Neighbourhood Centre 38 Thallon Street Sherwood Queensland 4075 Australia;X-APPLE-RADIUS=500;X-TITLE=38 Thallon Street:geo:152.981098,-27.53402
END:VEVENT
BEGIN:VEVENT
DTSTART;TZID=Australia/Brisbane:20240821T140000
DTEND;TZID=Australia/Brisbane:20240821T150000
DTSTAMP:20260424T195949
CREATED:20240820T020533Z
LAST-MODIFIED:20240820T021030Z
UID:27936-1724248800-1724252400@nicolejohnston.com.au
SUMMARY:Sherwood | GOLD Belly Dance
DESCRIPTION:Enjoy gentle dance focused on fitness\, co-ordination\, flexibility\, relaxation and fun. Belly dance provides physical\, emotional and psychological benefits. Suitable for all levels.  Bring a belly dance belt if you have one. \nThis is a GOLD event suitable for seniors. \nBookings essential. To book email Sherwood Neighbourhood Centre. For more information phone 3379 6963.
URL:https://nicolejohnston.com.au/event/sherwood-belly-dance-2/2024-08-21/
LOCATION:Sherwood Neighbourhood Centre\, 38 Thallon Street\, Sherwood\, Queensland\, 4075\, Australia
GEO:-27.53402;152.981098
X-APPLE-STRUCTURED-LOCATION;VALUE=URI;X-ADDRESS=Sherwood Neighbourhood Centre 38 Thallon Street Sherwood Queensland 4075 Australia;X-APPLE-RADIUS=500;X-TITLE=38 Thallon Street:geo:152.981098,-27.53402
END:VEVENT
END:VCALENDAR