BEGIN:VCALENDAR
VERSION:2.0
PRODID:-//Nicole Johnston - ECPv6.15.20//NONSGML v1.0//EN
CALSCALE:GREGORIAN
METHOD:PUBLISH
X-ORIGINAL-URL:https://nicolejohnston.com.au
X-WR-CALDESC:Events for Nicole Johnston
REFRESH-INTERVAL;VALUE=DURATION:PT1H
X-Robots-Tag:noindex
X-PUBLISHED-TTL:PT1H
BEGIN:VTIMEZONE
TZID:Australia/Brisbane
BEGIN:STANDARD
TZOFFSETFROM:+1000
TZOFFSETTO:+1000
TZNAME:AEST
DTSTART:20230101T000000
END:STANDARD
END:VTIMEZONE
BEGIN:VEVENT
DTSTART;TZID=Australia/Brisbane:20241102T090000
DTEND;TZID=Australia/Brisbane:20241102T130000
DTSTAMP:20260424T162449
CREATED:20240930T000228Z
LAST-MODIFIED:20240930T000228Z
UID:28236-1730538000-1730552400@nicolejohnston.com.au
SUMMARY:Sherwood | Chapel Garden Artists and Brushstroke Friends Art and Craft Exhibition
DESCRIPTION:
URL:https://nicolejohnston.com.au/event/sherwood-chapel-garden-artists-and-brushstroke-friends-art-and-craft-exhibition/2024-11-02/
LOCATION:Sherwood Uniting Church\, cnr Thallon St and Sherwood Rd\, Sherwood\, qld\, 4075\, Australia
CATEGORIES:Community Event
ATTACH;FMTTYPE=image/jpeg:https://nicolejohnston.com.au/wp-content/uploads/2024/09/Flyer-art-craft-exhibition-1-2-Nov-2024.jpg
ORGANIZER;CN="Sherwood Uniting Church":MAILTO:refreshyourstash@gmail.com
GEO:-27.5320991;152.9806216
X-APPLE-STRUCTURED-LOCATION;VALUE=URI;X-ADDRESS=Sherwood Uniting Church cnr Thallon St and Sherwood Rd Sherwood qld 4075 Australia;X-APPLE-RADIUS=500;X-TITLE=cnr Thallon St and Sherwood Rd:geo:152.9806216,-27.5320991
END:VEVENT
BEGIN:VEVENT
DTSTART;TZID=Australia/Brisbane:20241101T090000
DTEND;TZID=Australia/Brisbane:20241101T180000
DTSTAMP:20260424T162449
CREATED:20240930T000228Z
LAST-MODIFIED:20240930T000230Z
UID:28233-1730451600-1730484000@nicolejohnston.com.au
SUMMARY:Sherwood | Chapel Garden Artists and Brushstroke Friends Art and Craft Exhibition
DESCRIPTION:
URL:https://nicolejohnston.com.au/event/sherwood-chapel-garden-artists-and-brushstroke-friends-art-and-craft-exhibition/2024-11-01/
LOCATION:Sherwood Uniting Church\, cnr Thallon St and Sherwood Rd\, Sherwood\, qld\, 4075\, Australia
CATEGORIES:Community Event
ATTACH;FMTTYPE=image/jpeg:https://nicolejohnston.com.au/wp-content/uploads/2024/09/Flyer-art-craft-exhibition-1-2-Nov-2024.jpg
ORGANIZER;CN="Sherwood Uniting Church":MAILTO:refreshyourstash@gmail.com
GEO:-27.5320991;152.9806216
X-APPLE-STRUCTURED-LOCATION;VALUE=URI;X-ADDRESS=Sherwood Uniting Church cnr Thallon St and Sherwood Rd Sherwood qld 4075 Australia;X-APPLE-RADIUS=500;X-TITLE=cnr Thallon St and Sherwood Rd:geo:152.9806216,-27.5320991
END:VEVENT
END:VCALENDAR