BEGIN:VCALENDAR
VERSION:2.0
PRODID:-//Nicole Johnston - ECPv6.15.20//NONSGML v1.0//EN
CALSCALE:GREGORIAN
METHOD:PUBLISH
X-ORIGINAL-URL:https://nicolejohnston.com.au
X-WR-CALDESC:Events for Nicole Johnston
REFRESH-INTERVAL;VALUE=DURATION:PT1H
X-Robots-Tag:noindex
X-PUBLISHED-TTL:PT1H
BEGIN:VTIMEZONE
TZID:Australia/Brisbane
BEGIN:STANDARD
TZOFFSETFROM:+1000
TZOFFSETTO:+1000
TZNAME:AEST
DTSTART:20220101T000000
END:STANDARD
END:VTIMEZONE
BEGIN:VEVENT
DTSTART;TZID=Australia/Brisbane:20230811T100000
DTEND;TZID=Australia/Brisbane:20230811T130000
DTSTAMP:20260425T024610
CREATED:20230802T015642Z
LAST-MODIFIED:20230802T015644Z
UID:26728-1691748000-1691758800@nicolejohnston.com.au
SUMMARY:Sherwood | Crafty Ladies
DESCRIPTION:Bring a craft item you are working on and stitch or knit while we chat.\nPrimarily a social group. $3 per session.
URL:https://nicolejohnston.com.au/event/sherwood-crafty-ladies/2023-08-11/
LOCATION:Sherwood Neighbourhood Centre\, 38 Thallon Street\, Sherwood\, Queensland\, 4075\, Australia
GEO:-27.53402;152.981098
X-APPLE-STRUCTURED-LOCATION;VALUE=URI;X-ADDRESS=Sherwood Neighbourhood Centre 38 Thallon Street Sherwood Queensland 4075 Australia;X-APPLE-RADIUS=500;X-TITLE=38 Thallon Street:geo:152.981098,-27.53402
END:VEVENT
END:VCALENDAR