BEGIN:VCALENDAR
VERSION:2.0
PRODID:-//Nicole Johnston - ECPv6.15.20//NONSGML v1.0//EN
CALSCALE:GREGORIAN
METHOD:PUBLISH
X-ORIGINAL-URL:https://nicolejohnston.com.au
X-WR-CALDESC:Events for Nicole Johnston
REFRESH-INTERVAL;VALUE=DURATION:PT1H
X-Robots-Tag:noindex
X-PUBLISHED-TTL:PT1H
BEGIN:VTIMEZONE
TZID:Australia/Brisbane
BEGIN:STANDARD
TZOFFSETFROM:+1000
TZOFFSETTO:+1000
TZNAME:AEST
DTSTART:20150101T000000
END:STANDARD
END:VTIMEZONE
BEGIN:VEVENT
DTSTART;TZID=Australia/Brisbane:20160404T100000
DTEND;TZID=Australia/Brisbane:20160404T123000
DTSTAMP:20260425T053131
CREATED:20160331T191537Z
LAST-MODIFIED:20160331T191537Z
UID:8748-1459764000-1459773000@nicolejohnston.com.au
SUMMARY:Sherwood | GOLD ~ Sculptural Ceramics
DESCRIPTION:Bookings required. \nWeek 1 – Learn to make and join pinch pots then make additions in day 2 to create small sculptural pieces. \nWeek 2 – Glaze and finish your product to take home. \nAll materials and equipment provided.  Please wear old shoes and clothes or bring an apron.  Please bring lunch.
URL:https://nicolejohnston.com.au/event/sherwood-gold-sculptural-ceramics/2016-04-04/
LOCATION:Sherwood Neighbourhood Centre\, 38 Thallon Street\, Sherwood\, Queensland\, 4075\, Australia
GEO:-27.53402;152.981098
X-APPLE-STRUCTURED-LOCATION;VALUE=URI;X-ADDRESS=Sherwood Neighbourhood Centre 38 Thallon Street Sherwood Queensland 4075 Australia;X-APPLE-RADIUS=500;X-TITLE=38 Thallon Street:geo:152.981098,-27.53402
END:VEVENT
END:VCALENDAR