BEGIN:VCALENDAR
VERSION:2.0
PRODID:-//Nicole Johnston - ECPv6.15.20//NONSGML v1.0//EN
CALSCALE:GREGORIAN
METHOD:PUBLISH
X-WR-CALNAME:Nicole Johnston
X-ORIGINAL-URL:https://nicolejohnston.com.au
X-WR-CALDESC:Events for Nicole Johnston
REFRESH-INTERVAL;VALUE=DURATION:PT1H
X-Robots-Tag:noindex
X-PUBLISHED-TTL:PT1H
BEGIN:VTIMEZONE
TZID:Australia/Brisbane
BEGIN:STANDARD
TZOFFSETFROM:+1000
TZOFFSETTO:+1000
TZNAME:AEST
DTSTART:20150101T000000
END:STANDARD
END:VTIMEZONE
BEGIN:VEVENT
DTSTART;TZID=Australia/Brisbane:20160411T133000
DTEND;TZID=Australia/Brisbane:20160411T143000
DTSTAMP:20260424T234503
CREATED:20160331T190858Z
LAST-MODIFIED:20160331T190858Z
UID:8735-1460381400-1460385000@nicolejohnston.com.au
SUMMARY:Sherwood | GOLD ~ Tai Chi Qigong
DESCRIPTION:GOLD PROGRAMME (Growing Old & Living Dangerously) – For those aged 50 years and over. \nEnjoy energy exercises with the aim of improving strength\, stability\, mental and physique health and well being. \nBookings not required.
URL:https://nicolejohnston.com.au/event/sherwood-gold-tai-chi-qigong/2016-04-11/
LOCATION:Sherwood Neighbourhood Centre\, 38 Thallon Street\, Sherwood\, Queensland\, 4075\, Australia
GEO:-27.53402;152.981098
X-APPLE-STRUCTURED-LOCATION;VALUE=URI;X-ADDRESS=Sherwood Neighbourhood Centre 38 Thallon Street Sherwood Queensland 4075 Australia;X-APPLE-RADIUS=500;X-TITLE=38 Thallon Street:geo:152.981098,-27.53402
END:VEVENT
END:VCALENDAR