BEGIN:VCALENDAR
VERSION:2.0
PRODID:-//Nicole Johnston - ECPv6.15.20//NONSGML v1.0//EN
CALSCALE:GREGORIAN
METHOD:PUBLISH
X-ORIGINAL-URL:https://nicolejohnston.com.au
X-WR-CALDESC:Events for Nicole Johnston
REFRESH-INTERVAL;VALUE=DURATION:PT1H
X-Robots-Tag:noindex
X-PUBLISHED-TTL:PT1H
BEGIN:VTIMEZONE
TZID:Australia/Brisbane
BEGIN:STANDARD
TZOFFSETFROM:+1000
TZOFFSETTO:+1000
TZNAME:AEST
DTSTART:20240101T000000
END:STANDARD
END:VTIMEZONE
BEGIN:VEVENT
DTSTART;TZID=Australia/Brisbane:20250603T100000
DTEND;TZID=Australia/Brisbane:20250603T110000
DTSTAMP:20260424T145056
CREATED:20241113T051127Z
LAST-MODIFIED:20241113T051127Z
UID:29120-1748944800-1748948400@nicolejohnston.com.au
SUMMARY:Sherwood | Meditation and Relaxation
DESCRIPTION:Bookings essential. Learn techniques and skills to assist with relaxation and relieve stress in daily life. No prior experience is required. \n\n\nThis is a GOLD event suitable for seniors. \n\n\nTo book email Sherwood Neighbourhood Centre. For more information phone 3379 6963.
URL:https://nicolejohnston.com.au/event/sherwood-meditation-and-relaxation/2025-06-03/
LOCATION:Sherwood Neighbourhood Centre\, 38 Thallon Street\, Sherwood\, Queensland\, 4075\, Australia
GEO:-27.53402;152.981098
X-APPLE-STRUCTURED-LOCATION;VALUE=URI;X-ADDRESS=Sherwood Neighbourhood Centre 38 Thallon Street Sherwood Queensland 4075 Australia;X-APPLE-RADIUS=500;X-TITLE=38 Thallon Street:geo:152.981098,-27.53402
END:VEVENT
BEGIN:VEVENT
DTSTART;TZID=Australia/Brisbane:20250527T100000
DTEND;TZID=Australia/Brisbane:20250527T110000
DTSTAMP:20260424T145056
CREATED:20241113T051127Z
LAST-MODIFIED:20241113T051127Z
UID:29119-1748340000-1748343600@nicolejohnston.com.au
SUMMARY:Sherwood | Meditation and Relaxation
DESCRIPTION:Bookings essential. Learn techniques and skills to assist with relaxation and relieve stress in daily life. No prior experience is required. \n\n\nThis is a GOLD event suitable for seniors. \n\n\nTo book email Sherwood Neighbourhood Centre. For more information phone 3379 6963.
URL:https://nicolejohnston.com.au/event/sherwood-meditation-and-relaxation/2025-05-27/
LOCATION:Sherwood Neighbourhood Centre\, 38 Thallon Street\, Sherwood\, Queensland\, 4075\, Australia
GEO:-27.53402;152.981098
X-APPLE-STRUCTURED-LOCATION;VALUE=URI;X-ADDRESS=Sherwood Neighbourhood Centre 38 Thallon Street Sherwood Queensland 4075 Australia;X-APPLE-RADIUS=500;X-TITLE=38 Thallon Street:geo:152.981098,-27.53402
END:VEVENT
BEGIN:VEVENT
DTSTART;TZID=Australia/Brisbane:20250520T100000
DTEND;TZID=Australia/Brisbane:20250520T110000
DTSTAMP:20260424T145056
CREATED:20241113T051127Z
LAST-MODIFIED:20241113T051127Z
UID:29118-1747735200-1747738800@nicolejohnston.com.au
SUMMARY:Sherwood | Meditation and Relaxation
DESCRIPTION:Bookings essential. Learn techniques and skills to assist with relaxation and relieve stress in daily life. No prior experience is required. \n\n\nThis is a GOLD event suitable for seniors. \n\n\nTo book email Sherwood Neighbourhood Centre. For more information phone 3379 6963.
URL:https://nicolejohnston.com.au/event/sherwood-meditation-and-relaxation/2025-05-20/
LOCATION:Sherwood Neighbourhood Centre\, 38 Thallon Street\, Sherwood\, Queensland\, 4075\, Australia
GEO:-27.53402;152.981098
X-APPLE-STRUCTURED-LOCATION;VALUE=URI;X-ADDRESS=Sherwood Neighbourhood Centre 38 Thallon Street Sherwood Queensland 4075 Australia;X-APPLE-RADIUS=500;X-TITLE=38 Thallon Street:geo:152.981098,-27.53402
END:VEVENT
BEGIN:VEVENT
DTSTART;TZID=Australia/Brisbane:20250513T100000
DTEND;TZID=Australia/Brisbane:20250513T110000
DTSTAMP:20260424T145056
CREATED:20241113T051127Z
LAST-MODIFIED:20241113T051127Z
UID:29117-1747130400-1747134000@nicolejohnston.com.au
SUMMARY:Sherwood | Meditation and Relaxation
DESCRIPTION:Bookings essential. Learn techniques and skills to assist with relaxation and relieve stress in daily life. No prior experience is required. \n\n\nThis is a GOLD event suitable for seniors. \n\n\nTo book email Sherwood Neighbourhood Centre. For more information phone 3379 6963.
URL:https://nicolejohnston.com.au/event/sherwood-meditation-and-relaxation/2025-05-13/
LOCATION:Sherwood Neighbourhood Centre\, 38 Thallon Street\, Sherwood\, Queensland\, 4075\, Australia
GEO:-27.53402;152.981098
X-APPLE-STRUCTURED-LOCATION;VALUE=URI;X-ADDRESS=Sherwood Neighbourhood Centre 38 Thallon Street Sherwood Queensland 4075 Australia;X-APPLE-RADIUS=500;X-TITLE=38 Thallon Street:geo:152.981098,-27.53402
END:VEVENT
BEGIN:VEVENT
DTSTART;TZID=Australia/Brisbane:20250506T100000
DTEND;TZID=Australia/Brisbane:20250506T110000
DTSTAMP:20260424T145056
CREATED:20241113T051127Z
LAST-MODIFIED:20241113T051127Z
UID:29116-1746525600-1746529200@nicolejohnston.com.au
SUMMARY:Sherwood | Meditation and Relaxation
DESCRIPTION:Bookings essential. Learn techniques and skills to assist with relaxation and relieve stress in daily life. No prior experience is required. \n\n\nThis is a GOLD event suitable for seniors. \n\n\nTo book email Sherwood Neighbourhood Centre. For more information phone 3379 6963.
URL:https://nicolejohnston.com.au/event/sherwood-meditation-and-relaxation/2025-05-06/
LOCATION:Sherwood Neighbourhood Centre\, 38 Thallon Street\, Sherwood\, Queensland\, 4075\, Australia
GEO:-27.53402;152.981098
X-APPLE-STRUCTURED-LOCATION;VALUE=URI;X-ADDRESS=Sherwood Neighbourhood Centre 38 Thallon Street Sherwood Queensland 4075 Australia;X-APPLE-RADIUS=500;X-TITLE=38 Thallon Street:geo:152.981098,-27.53402
END:VEVENT
BEGIN:VEVENT
DTSTART;TZID=Australia/Brisbane:20250429T100000
DTEND;TZID=Australia/Brisbane:20250429T110000
DTSTAMP:20260424T145056
CREATED:20241113T051127Z
LAST-MODIFIED:20241113T051127Z
UID:29115-1745920800-1745924400@nicolejohnston.com.au
SUMMARY:Sherwood | Meditation and Relaxation
DESCRIPTION:Bookings essential. Learn techniques and skills to assist with relaxation and relieve stress in daily life. No prior experience is required. \n\n\nThis is a GOLD event suitable for seniors. \n\n\nTo book email Sherwood Neighbourhood Centre. For more information phone 3379 6963.
URL:https://nicolejohnston.com.au/event/sherwood-meditation-and-relaxation/2025-04-29/
LOCATION:Sherwood Neighbourhood Centre\, 38 Thallon Street\, Sherwood\, Queensland\, 4075\, Australia
GEO:-27.53402;152.981098
X-APPLE-STRUCTURED-LOCATION;VALUE=URI;X-ADDRESS=Sherwood Neighbourhood Centre 38 Thallon Street Sherwood Queensland 4075 Australia;X-APPLE-RADIUS=500;X-TITLE=38 Thallon Street:geo:152.981098,-27.53402
END:VEVENT
BEGIN:VEVENT
DTSTART;TZID=Australia/Brisbane:20250422T100000
DTEND;TZID=Australia/Brisbane:20250422T110000
DTSTAMP:20260424T145056
CREATED:20241113T051127Z
LAST-MODIFIED:20241113T051127Z
UID:29114-1745316000-1745319600@nicolejohnston.com.au
SUMMARY:Sherwood | Meditation and Relaxation
DESCRIPTION:Bookings essential. Learn techniques and skills to assist with relaxation and relieve stress in daily life. No prior experience is required. \n\n\nThis is a GOLD event suitable for seniors. \n\n\nTo book email Sherwood Neighbourhood Centre. For more information phone 3379 6963.
URL:https://nicolejohnston.com.au/event/sherwood-meditation-and-relaxation/2025-04-22/
LOCATION:Sherwood Neighbourhood Centre\, 38 Thallon Street\, Sherwood\, Queensland\, 4075\, Australia
GEO:-27.53402;152.981098
X-APPLE-STRUCTURED-LOCATION;VALUE=URI;X-ADDRESS=Sherwood Neighbourhood Centre 38 Thallon Street Sherwood Queensland 4075 Australia;X-APPLE-RADIUS=500;X-TITLE=38 Thallon Street:geo:152.981098,-27.53402
END:VEVENT
BEGIN:VEVENT
DTSTART;TZID=Australia/Brisbane:20250401T100000
DTEND;TZID=Australia/Brisbane:20250401T110000
DTSTAMP:20260424T145056
CREATED:20241113T051127Z
LAST-MODIFIED:20250113T035934Z
UID:28803-1743501600-1743505200@nicolejohnston.com.au
SUMMARY:Sherwood | Meditation and Relaxation
DESCRIPTION:Bookings essential. Learn techniques and skills to assist with relaxation and relieve stress in daily life. No prior experience is required. \n\n\nThis is a GOLD event suitable for seniors. \n\n\nTo book email Sherwood Neighbourhood Centre. For more information phone 3379 6963.
URL:https://nicolejohnston.com.au/event/sherwood-meditation-and-relaxation/2025-04-01/
LOCATION:Sherwood Neighbourhood Centre\, 38 Thallon Street\, Sherwood\, Queensland\, 4075\, Australia
GEO:-27.53402;152.981098
X-APPLE-STRUCTURED-LOCATION;VALUE=URI;X-ADDRESS=Sherwood Neighbourhood Centre 38 Thallon Street Sherwood Queensland 4075 Australia;X-APPLE-RADIUS=500;X-TITLE=38 Thallon Street:geo:152.981098,-27.53402
END:VEVENT
BEGIN:VEVENT
DTSTART;TZID=Australia/Brisbane:20250325T100000
DTEND;TZID=Australia/Brisbane:20250325T110000
DTSTAMP:20260424T145056
CREATED:20241113T051127Z
LAST-MODIFIED:20250113T035933Z
UID:28802-1742896800-1742900400@nicolejohnston.com.au
SUMMARY:Sherwood | Meditation and Relaxation
DESCRIPTION:Bookings essential. Learn techniques and skills to assist with relaxation and relieve stress in daily life. No prior experience is required. \n\n\nThis is a GOLD event suitable for seniors. \n\n\nTo book email Sherwood Neighbourhood Centre. For more information phone 3379 6963.
URL:https://nicolejohnston.com.au/event/sherwood-meditation-and-relaxation/2025-03-25/
LOCATION:Sherwood Neighbourhood Centre\, 38 Thallon Street\, Sherwood\, Queensland\, 4075\, Australia
GEO:-27.53402;152.981098
X-APPLE-STRUCTURED-LOCATION;VALUE=URI;X-ADDRESS=Sherwood Neighbourhood Centre 38 Thallon Street Sherwood Queensland 4075 Australia;X-APPLE-RADIUS=500;X-TITLE=38 Thallon Street:geo:152.981098,-27.53402
END:VEVENT
BEGIN:VEVENT
DTSTART;TZID=Australia/Brisbane:20250318T100000
DTEND;TZID=Australia/Brisbane:20250318T110000
DTSTAMP:20260424T145056
CREATED:20241113T051127Z
LAST-MODIFIED:20250113T035933Z
UID:28801-1742292000-1742295600@nicolejohnston.com.au
SUMMARY:Sherwood | Meditation and Relaxation
DESCRIPTION:Bookings essential. Learn techniques and skills to assist with relaxation and relieve stress in daily life. No prior experience is required. \n\n\nThis is a GOLD event suitable for seniors. \n\n\nTo book email Sherwood Neighbourhood Centre. For more information phone 3379 6963.
URL:https://nicolejohnston.com.au/event/sherwood-meditation-and-relaxation/2025-03-18/
LOCATION:Sherwood Neighbourhood Centre\, 38 Thallon Street\, Sherwood\, Queensland\, 4075\, Australia
GEO:-27.53402;152.981098
X-APPLE-STRUCTURED-LOCATION;VALUE=URI;X-ADDRESS=Sherwood Neighbourhood Centre 38 Thallon Street Sherwood Queensland 4075 Australia;X-APPLE-RADIUS=500;X-TITLE=38 Thallon Street:geo:152.981098,-27.53402
END:VEVENT
BEGIN:VEVENT
DTSTART;TZID=Australia/Brisbane:20250311T100000
DTEND;TZID=Australia/Brisbane:20250311T110000
DTSTAMP:20260424T145056
CREATED:20241113T051127Z
LAST-MODIFIED:20250113T035932Z
UID:28800-1741687200-1741690800@nicolejohnston.com.au
SUMMARY:Sherwood | Meditation and Relaxation
DESCRIPTION:Bookings essential. Learn techniques and skills to assist with relaxation and relieve stress in daily life. No prior experience is required. \n\n\nThis is a GOLD event suitable for seniors. \n\n\nTo book email Sherwood Neighbourhood Centre. For more information phone 3379 6963.
URL:https://nicolejohnston.com.au/event/sherwood-meditation-and-relaxation/2025-03-11/
LOCATION:Sherwood Neighbourhood Centre\, 38 Thallon Street\, Sherwood\, Queensland\, 4075\, Australia
GEO:-27.53402;152.981098
X-APPLE-STRUCTURED-LOCATION;VALUE=URI;X-ADDRESS=Sherwood Neighbourhood Centre 38 Thallon Street Sherwood Queensland 4075 Australia;X-APPLE-RADIUS=500;X-TITLE=38 Thallon Street:geo:152.981098,-27.53402
END:VEVENT
BEGIN:VEVENT
DTSTART;TZID=Australia/Brisbane:20250304T100000
DTEND;TZID=Australia/Brisbane:20250304T110000
DTSTAMP:20260424T145056
CREATED:20241113T051127Z
LAST-MODIFIED:20250113T035932Z
UID:28799-1741082400-1741086000@nicolejohnston.com.au
SUMMARY:Sherwood | Meditation and Relaxation
DESCRIPTION:Bookings essential. Learn techniques and skills to assist with relaxation and relieve stress in daily life. No prior experience is required. \n\n\nThis is a GOLD event suitable for seniors. \n\n\nTo book email Sherwood Neighbourhood Centre. For more information phone 3379 6963.
URL:https://nicolejohnston.com.au/event/sherwood-meditation-and-relaxation/2025-03-04/
LOCATION:Sherwood Neighbourhood Centre\, 38 Thallon Street\, Sherwood\, Queensland\, 4075\, Australia
GEO:-27.53402;152.981098
X-APPLE-STRUCTURED-LOCATION;VALUE=URI;X-ADDRESS=Sherwood Neighbourhood Centre 38 Thallon Street Sherwood Queensland 4075 Australia;X-APPLE-RADIUS=500;X-TITLE=38 Thallon Street:geo:152.981098,-27.53402
END:VEVENT
BEGIN:VEVENT
DTSTART;TZID=Australia/Brisbane:20250225T100000
DTEND;TZID=Australia/Brisbane:20250225T110000
DTSTAMP:20260424T145056
CREATED:20241113T051127Z
LAST-MODIFIED:20250113T035931Z
UID:28798-1740477600-1740481200@nicolejohnston.com.au
SUMMARY:Sherwood | Meditation and Relaxation
DESCRIPTION:Bookings essential. Learn techniques and skills to assist with relaxation and relieve stress in daily life. No prior experience is required. \n\n\nThis is a GOLD event suitable for seniors. \n\n\nTo book email Sherwood Neighbourhood Centre. For more information phone 3379 6963.
URL:https://nicolejohnston.com.au/event/sherwood-meditation-and-relaxation/2025-02-25/
LOCATION:Sherwood Neighbourhood Centre\, 38 Thallon Street\, Sherwood\, Queensland\, 4075\, Australia
GEO:-27.53402;152.981098
X-APPLE-STRUCTURED-LOCATION;VALUE=URI;X-ADDRESS=Sherwood Neighbourhood Centre 38 Thallon Street Sherwood Queensland 4075 Australia;X-APPLE-RADIUS=500;X-TITLE=38 Thallon Street:geo:152.981098,-27.53402
END:VEVENT
BEGIN:VEVENT
DTSTART;TZID=Australia/Brisbane:20250218T100000
DTEND;TZID=Australia/Brisbane:20250218T110000
DTSTAMP:20260424T145056
CREATED:20241113T051127Z
LAST-MODIFIED:20250113T035927Z
UID:28797-1739872800-1739876400@nicolejohnston.com.au
SUMMARY:Sherwood | Meditation and Relaxation
DESCRIPTION:Bookings essential. Learn techniques and skills to assist with relaxation and relieve stress in daily life. No prior experience is required. \n\n\nThis is a GOLD event suitable for seniors. \n\n\nTo book email Sherwood Neighbourhood Centre. For more information phone 3379 6963.
URL:https://nicolejohnston.com.au/event/sherwood-meditation-and-relaxation/2025-02-18/
LOCATION:Sherwood Neighbourhood Centre\, 38 Thallon Street\, Sherwood\, Queensland\, 4075\, Australia
GEO:-27.53402;152.981098
X-APPLE-STRUCTURED-LOCATION;VALUE=URI;X-ADDRESS=Sherwood Neighbourhood Centre 38 Thallon Street Sherwood Queensland 4075 Australia;X-APPLE-RADIUS=500;X-TITLE=38 Thallon Street:geo:152.981098,-27.53402
END:VEVENT
BEGIN:VEVENT
DTSTART;TZID=Australia/Brisbane:20250211T100000
DTEND;TZID=Australia/Brisbane:20250211T110000
DTSTAMP:20260424T145056
CREATED:20241113T051127Z
LAST-MODIFIED:20250113T035927Z
UID:28796-1739268000-1739271600@nicolejohnston.com.au
SUMMARY:Sherwood | Meditation and Relaxation
DESCRIPTION:Bookings essential. Learn techniques and skills to assist with relaxation and relieve stress in daily life. No prior experience is required. \n\n\nThis is a GOLD event suitable for seniors. \n\n\nTo book email Sherwood Neighbourhood Centre. For more information phone 3379 6963.
URL:https://nicolejohnston.com.au/event/sherwood-meditation-and-relaxation/2025-02-11/
LOCATION:Sherwood Neighbourhood Centre\, 38 Thallon Street\, Sherwood\, Queensland\, 4075\, Australia
GEO:-27.53402;152.981098
X-APPLE-STRUCTURED-LOCATION;VALUE=URI;X-ADDRESS=Sherwood Neighbourhood Centre 38 Thallon Street Sherwood Queensland 4075 Australia;X-APPLE-RADIUS=500;X-TITLE=38 Thallon Street:geo:152.981098,-27.53402
END:VEVENT
BEGIN:VEVENT
DTSTART;TZID=Australia/Brisbane:20250204T100000
DTEND;TZID=Australia/Brisbane:20250204T110000
DTSTAMP:20260424T145056
CREATED:20241113T051127Z
LAST-MODIFIED:20250113T035926Z
UID:28795-1738663200-1738666800@nicolejohnston.com.au
SUMMARY:Sherwood | Meditation and Relaxation
DESCRIPTION:Bookings essential. Learn techniques and skills to assist with relaxation and relieve stress in daily life. No prior experience is required. \n\n\nThis is a GOLD event suitable for seniors. \n\n\nTo book email Sherwood Neighbourhood Centre. For more information phone 3379 6963.
URL:https://nicolejohnston.com.au/event/sherwood-meditation-and-relaxation/2025-02-04/
LOCATION:Sherwood Neighbourhood Centre\, 38 Thallon Street\, Sherwood\, Queensland\, 4075\, Australia
GEO:-27.53402;152.981098
X-APPLE-STRUCTURED-LOCATION;VALUE=URI;X-ADDRESS=Sherwood Neighbourhood Centre 38 Thallon Street Sherwood Queensland 4075 Australia;X-APPLE-RADIUS=500;X-TITLE=38 Thallon Street:geo:152.981098,-27.53402
END:VEVENT
BEGIN:VEVENT
DTSTART;TZID=Australia/Brisbane:20250128T100000
DTEND;TZID=Australia/Brisbane:20250128T110000
DTSTAMP:20260424T145056
CREATED:20241113T051127Z
LAST-MODIFIED:20250113T035924Z
UID:28563-1738058400-1738062000@nicolejohnston.com.au
SUMMARY:Sherwood | Meditation and Relaxation
DESCRIPTION:Bookings essential. Learn techniques and skills to assist with relaxation and relieve stress in daily life. No prior experience is required. \n\n\nThis is a GOLD event suitable for seniors. \n\n\nTo book email Sherwood Neighbourhood Centre. For more information phone 3379 6963.
URL:https://nicolejohnston.com.au/event/sherwood-meditation-and-relaxation/2025-01-28/
LOCATION:Sherwood Neighbourhood Centre\, 38 Thallon Street\, Sherwood\, Queensland\, 4075\, Australia
GEO:-27.53402;152.981098
X-APPLE-STRUCTURED-LOCATION;VALUE=URI;X-ADDRESS=Sherwood Neighbourhood Centre 38 Thallon Street Sherwood Queensland 4075 Australia;X-APPLE-RADIUS=500;X-TITLE=38 Thallon Street:geo:152.981098,-27.53402
END:VEVENT
END:VCALENDAR