BEGIN:VCALENDAR
VERSION:2.0
PRODID:-//Nicole Johnston - ECPv6.15.20//NONSGML v1.0//EN
CALSCALE:GREGORIAN
METHOD:PUBLISH
X-WR-CALNAME:Nicole Johnston
X-ORIGINAL-URL:https://nicolejohnston.com.au
X-WR-CALDESC:Events for Nicole Johnston
REFRESH-INTERVAL;VALUE=DURATION:PT1H
X-Robots-Tag:noindex
X-PUBLISHED-TTL:PT1H
BEGIN:VTIMEZONE
TZID:Australia/Brisbane
BEGIN:STANDARD
TZOFFSETFROM:+1000
TZOFFSETTO:+1000
TZNAME:AEST
DTSTART:20190101T000000
END:STANDARD
END:VTIMEZONE
BEGIN:VEVENT
DTSTART;TZID=Australia/Brisbane:20200420T093000
DTEND;TZID=Australia/Brisbane:20200420T123000
DTSTAMP:20260424T220724
CREATED:20200129T005942Z
LAST-MODIFIED:20200129T005942Z
UID:20761-1587375000-1587385800@nicolejohnston.com.au
SUMMARY:Sherwood | Painting Monet Magic
DESCRIPTION:Bookings essential. Learn how to paint a magnificent work of art\, step by step\, using acrylic paint. Take your canvas home. \nThis is a GOLD event suitable for seniors. \nBookings essential. To book email Sherwood Neighbourhood Centre. For more information phone 07 3379 6963 (from Monday – Thursday). \nBring an apron\, old clothes and enclosed shoes. All other materials and equipment provided.
URL:https://nicolejohnston.com.au/event/sherwood-painting-monet-magic/2020-04-20/
LOCATION:Sherwood Neighbourhood Centre\, 38 Thallon Street\, Sherwood\, Queensland\, 4075\, Australia
GEO:-27.53402;152.981098
X-APPLE-STRUCTURED-LOCATION;VALUE=URI;X-ADDRESS=Sherwood Neighbourhood Centre 38 Thallon Street Sherwood Queensland 4075 Australia;X-APPLE-RADIUS=500;X-TITLE=38 Thallon Street:geo:152.981098,-27.53402
END:VEVENT
END:VCALENDAR