BEGIN:VCALENDAR
VERSION:2.0
PRODID:-//Nicole Johnston - ECPv6.15.20//NONSGML v1.0//EN
CALSCALE:GREGORIAN
METHOD:PUBLISH
X-ORIGINAL-URL:https://nicolejohnston.com.au
X-WR-CALDESC:Events for Nicole Johnston
REFRESH-INTERVAL;VALUE=DURATION:PT1H
X-Robots-Tag:noindex
X-PUBLISHED-TTL:PT1H
BEGIN:VTIMEZONE
TZID:Australia/Brisbane
BEGIN:STANDARD
TZOFFSETFROM:+1000
TZOFFSETTO:+1000
TZNAME:AEST
DTSTART:20140101T000000
END:STANDARD
END:VTIMEZONE
BEGIN:VEVENT
DTSTART;TZID=Australia/Brisbane:20151112T090000
DTEND;TZID=Australia/Brisbane:20151112T120000
DTSTAMP:20260424T120003
CREATED:20151110T095724Z
LAST-MODIFIED:20200129T010233Z
UID:5396-1447318800-1447329600@nicolejohnston.com.au
SUMMARY:Sherwood | Sherwood Senior Citizens Club
DESCRIPTION:The Sherwood Senior Citizens’ Club provides a weekly meeting space for local seniors to participate in thoughtful and enjoyable activities and discussions. Morning tea is provided and then\, on days when a guest speaker isn’t contributing their own interesting perspective\, the floor is open to anyone who wants to discuss or debate current events. This is then followed by scrabble or cards.
URL:https://nicolejohnston.com.au/event/sherwood-senior-citizens-club/2015-11-12/
LOCATION:Sherwood Uniting Church Hall\, Cnr Sherwood Rd & Thallon St\, Sherwood\, Qld\, 4075\, Australia
GEO:-27.5320991;152.9806216
X-APPLE-STRUCTURED-LOCATION;VALUE=URI;X-ADDRESS=Sherwood Uniting Church Hall Cnr Sherwood Rd & Thallon St Sherwood Qld 4075 Australia;X-APPLE-RADIUS=500;X-TITLE=Cnr Sherwood Rd & Thallon St:geo:152.9806216,-27.5320991
END:VEVENT
END:VCALENDAR