BEGIN:VCALENDAR
VERSION:2.0
PRODID:-//Nicole Johnston - ECPv6.15.20//NONSGML v1.0//EN
CALSCALE:GREGORIAN
METHOD:PUBLISH
X-WR-CALNAME:Nicole Johnston
X-ORIGINAL-URL:https://nicolejohnston.com.au
X-WR-CALDESC:Events for Nicole Johnston
REFRESH-INTERVAL;VALUE=DURATION:PT1H
X-Robots-Tag:noindex
X-PUBLISHED-TTL:PT1H
BEGIN:VTIMEZONE
TZID:Australia/Brisbane
BEGIN:STANDARD
TZOFFSETFROM:+1000
TZOFFSETTO:+1000
TZNAME:AEST
DTSTART:20230101T000000
END:STANDARD
END:VTIMEZONE
BEGIN:VEVENT
DTSTART;TZID=Australia/Brisbane:20241121T090000
DTEND;TZID=Australia/Brisbane:20241121T100000
DTSTAMP:20260424T200021
CREATED:20240619T064304Z
LAST-MODIFIED:20240619T064304Z
UID:27436-1732179600-1732183200@nicolejohnston.com.au
SUMMARY:Sherwood | Tai Chi Qigong
DESCRIPTION:This dynamic activity is invigorating and will help you feel relaxed\, refreshed and calm. Rejuvenate your body and learn to create a tranquil mind. Join any week. \nFor more information phone Julia from Minds Ease on 0412 362 338.
URL:https://nicolejohnston.com.au/event/sherwood-tai-chi-qigong-2/2024-11-21/
LOCATION:Sherwood Arboretum\, 57 Dewar Terrace\, Sherwood\, Queensland\, 4075\, Australia
GEO:-27.532253;152.977305
X-APPLE-STRUCTURED-LOCATION;VALUE=URI;X-ADDRESS=Sherwood Arboretum 57 Dewar Terrace Sherwood Queensland 4075 Australia;X-APPLE-RADIUS=500;X-TITLE=57 Dewar Terrace:geo:152.977305,-27.532253
END:VEVENT
BEGIN:VEVENT
DTSTART;TZID=Australia/Brisbane:20241114T090000
DTEND;TZID=Australia/Brisbane:20241114T100000
DTSTAMP:20260424T200021
CREATED:20240619T064304Z
LAST-MODIFIED:20240619T064304Z
UID:27435-1731574800-1731578400@nicolejohnston.com.au
SUMMARY:Sherwood | Tai Chi Qigong
DESCRIPTION:This dynamic activity is invigorating and will help you feel relaxed\, refreshed and calm. Rejuvenate your body and learn to create a tranquil mind. Join any week. \nFor more information phone Julia from Minds Ease on 0412 362 338.
URL:https://nicolejohnston.com.au/event/sherwood-tai-chi-qigong-2/2024-11-14/
LOCATION:Sherwood Arboretum\, 57 Dewar Terrace\, Sherwood\, Queensland\, 4075\, Australia
GEO:-27.532253;152.977305
X-APPLE-STRUCTURED-LOCATION;VALUE=URI;X-ADDRESS=Sherwood Arboretum 57 Dewar Terrace Sherwood Queensland 4075 Australia;X-APPLE-RADIUS=500;X-TITLE=57 Dewar Terrace:geo:152.977305,-27.532253
END:VEVENT
BEGIN:VEVENT
DTSTART;TZID=Australia/Brisbane:20241107T090000
DTEND;TZID=Australia/Brisbane:20241107T100000
DTSTAMP:20260424T200021
CREATED:20240619T064304Z
LAST-MODIFIED:20240619T064304Z
UID:27434-1730970000-1730973600@nicolejohnston.com.au
SUMMARY:Sherwood | Tai Chi Qigong
DESCRIPTION:This dynamic activity is invigorating and will help you feel relaxed\, refreshed and calm. Rejuvenate your body and learn to create a tranquil mind. Join any week. \nFor more information phone Julia from Minds Ease on 0412 362 338.
URL:https://nicolejohnston.com.au/event/sherwood-tai-chi-qigong-2/2024-11-07/
LOCATION:Sherwood Arboretum\, 57 Dewar Terrace\, Sherwood\, Queensland\, 4075\, Australia
GEO:-27.532253;152.977305
X-APPLE-STRUCTURED-LOCATION;VALUE=URI;X-ADDRESS=Sherwood Arboretum 57 Dewar Terrace Sherwood Queensland 4075 Australia;X-APPLE-RADIUS=500;X-TITLE=57 Dewar Terrace:geo:152.977305,-27.532253
END:VEVENT
BEGIN:VEVENT
DTSTART;TZID=Australia/Brisbane:20241031T090000
DTEND;TZID=Australia/Brisbane:20241031T100000
DTSTAMP:20260424T200021
CREATED:20240619T064304Z
LAST-MODIFIED:20240619T064304Z
UID:27433-1730365200-1730368800@nicolejohnston.com.au
SUMMARY:Sherwood | Tai Chi Qigong
DESCRIPTION:This dynamic activity is invigorating and will help you feel relaxed\, refreshed and calm. Rejuvenate your body and learn to create a tranquil mind. Join any week. \nFor more information phone Julia from Minds Ease on 0412 362 338.
URL:https://nicolejohnston.com.au/event/sherwood-tai-chi-qigong-2/2024-10-31/
LOCATION:Sherwood Arboretum\, 57 Dewar Terrace\, Sherwood\, Queensland\, 4075\, Australia
GEO:-27.532253;152.977305
X-APPLE-STRUCTURED-LOCATION;VALUE=URI;X-ADDRESS=Sherwood Arboretum 57 Dewar Terrace Sherwood Queensland 4075 Australia;X-APPLE-RADIUS=500;X-TITLE=57 Dewar Terrace:geo:152.977305,-27.532253
END:VEVENT
BEGIN:VEVENT
DTSTART;TZID=Australia/Brisbane:20241024T090000
DTEND;TZID=Australia/Brisbane:20241024T100000
DTSTAMP:20260424T200021
CREATED:20240619T064304Z
LAST-MODIFIED:20240619T064304Z
UID:27432-1729760400-1729764000@nicolejohnston.com.au
SUMMARY:Sherwood | Tai Chi Qigong
DESCRIPTION:This dynamic activity is invigorating and will help you feel relaxed\, refreshed and calm. Rejuvenate your body and learn to create a tranquil mind. Join any week. \nFor more information phone Julia from Minds Ease on 0412 362 338.
URL:https://nicolejohnston.com.au/event/sherwood-tai-chi-qigong-2/2024-10-24/
LOCATION:Sherwood Arboretum\, 57 Dewar Terrace\, Sherwood\, Queensland\, 4075\, Australia
GEO:-27.532253;152.977305
X-APPLE-STRUCTURED-LOCATION;VALUE=URI;X-ADDRESS=Sherwood Arboretum 57 Dewar Terrace Sherwood Queensland 4075 Australia;X-APPLE-RADIUS=500;X-TITLE=57 Dewar Terrace:geo:152.977305,-27.532253
END:VEVENT
BEGIN:VEVENT
DTSTART;TZID=Australia/Brisbane:20241017T090000
DTEND;TZID=Australia/Brisbane:20241017T100000
DTSTAMP:20260424T200021
CREATED:20240619T064304Z
LAST-MODIFIED:20240619T064304Z
UID:27431-1729155600-1729159200@nicolejohnston.com.au
SUMMARY:Sherwood | Tai Chi Qigong
DESCRIPTION:This dynamic activity is invigorating and will help you feel relaxed\, refreshed and calm. Rejuvenate your body and learn to create a tranquil mind. Join any week. \nFor more information phone Julia from Minds Ease on 0412 362 338.
URL:https://nicolejohnston.com.au/event/sherwood-tai-chi-qigong-2/2024-10-17/
LOCATION:Sherwood Arboretum\, 57 Dewar Terrace\, Sherwood\, Queensland\, 4075\, Australia
GEO:-27.532253;152.977305
X-APPLE-STRUCTURED-LOCATION;VALUE=URI;X-ADDRESS=Sherwood Arboretum 57 Dewar Terrace Sherwood Queensland 4075 Australia;X-APPLE-RADIUS=500;X-TITLE=57 Dewar Terrace:geo:152.977305,-27.532253
END:VEVENT
BEGIN:VEVENT
DTSTART;TZID=Australia/Brisbane:20241010T090000
DTEND;TZID=Australia/Brisbane:20241010T100000
DTSTAMP:20260424T200021
CREATED:20240619T064304Z
LAST-MODIFIED:20240619T064304Z
UID:27430-1728550800-1728554400@nicolejohnston.com.au
SUMMARY:Sherwood | Tai Chi Qigong
DESCRIPTION:This dynamic activity is invigorating and will help you feel relaxed\, refreshed and calm. Rejuvenate your body and learn to create a tranquil mind. Join any week. \nFor more information phone Julia from Minds Ease on 0412 362 338.
URL:https://nicolejohnston.com.au/event/sherwood-tai-chi-qigong-2/2024-10-10/
LOCATION:Sherwood Arboretum\, 57 Dewar Terrace\, Sherwood\, Queensland\, 4075\, Australia
GEO:-27.532253;152.977305
X-APPLE-STRUCTURED-LOCATION;VALUE=URI;X-ADDRESS=Sherwood Arboretum 57 Dewar Terrace Sherwood Queensland 4075 Australia;X-APPLE-RADIUS=500;X-TITLE=57 Dewar Terrace:geo:152.977305,-27.532253
END:VEVENT
BEGIN:VEVENT
DTSTART;TZID=Australia/Brisbane:20241003T090000
DTEND;TZID=Australia/Brisbane:20241003T100000
DTSTAMP:20260424T200021
CREATED:20240619T064304Z
LAST-MODIFIED:20240619T064304Z
UID:27428-1727946000-1727949600@nicolejohnston.com.au
SUMMARY:Sherwood | Tai Chi Qigong
DESCRIPTION:This dynamic activity is invigorating and will help you feel relaxed\, refreshed and calm. Rejuvenate your body and learn to create a tranquil mind. Join any week. \nFor more information phone Julia from Minds Ease on 0412 362 338.
URL:https://nicolejohnston.com.au/event/sherwood-tai-chi-qigong-2/2024-10-03/
LOCATION:Sherwood Arboretum\, 57 Dewar Terrace\, Sherwood\, Queensland\, 4075\, Australia
GEO:-27.532253;152.977305
X-APPLE-STRUCTURED-LOCATION;VALUE=URI;X-ADDRESS=Sherwood Arboretum 57 Dewar Terrace Sherwood Queensland 4075 Australia;X-APPLE-RADIUS=500;X-TITLE=57 Dewar Terrace:geo:152.977305,-27.532253
END:VEVENT
BEGIN:VEVENT
DTSTART;TZID=Australia/Brisbane:20240912T090000
DTEND;TZID=Australia/Brisbane:20240912T100000
DTSTAMP:20260424T200021
CREATED:20240619T064304Z
LAST-MODIFIED:20240619T064304Z
UID:27427-1726131600-1726135200@nicolejohnston.com.au
SUMMARY:Sherwood | Tai Chi Qigong
DESCRIPTION:This dynamic activity is invigorating and will help you feel relaxed\, refreshed and calm. Rejuvenate your body and learn to create a tranquil mind. Join any week. \nFor more information phone Julia from Minds Ease on 0412 362 338.
URL:https://nicolejohnston.com.au/event/sherwood-tai-chi-qigong-2/2024-09-12/
LOCATION:Sherwood Arboretum\, 57 Dewar Terrace\, Sherwood\, Queensland\, 4075\, Australia
GEO:-27.532253;152.977305
X-APPLE-STRUCTURED-LOCATION;VALUE=URI;X-ADDRESS=Sherwood Arboretum 57 Dewar Terrace Sherwood Queensland 4075 Australia;X-APPLE-RADIUS=500;X-TITLE=57 Dewar Terrace:geo:152.977305,-27.532253
END:VEVENT
BEGIN:VEVENT
DTSTART;TZID=Australia/Brisbane:20240905T090000
DTEND;TZID=Australia/Brisbane:20240905T100000
DTSTAMP:20260424T200021
CREATED:20240619T064304Z
LAST-MODIFIED:20240619T064304Z
UID:27426-1725526800-1725530400@nicolejohnston.com.au
SUMMARY:Sherwood | Tai Chi Qigong
DESCRIPTION:This dynamic activity is invigorating and will help you feel relaxed\, refreshed and calm. Rejuvenate your body and learn to create a tranquil mind. Join any week. \nFor more information phone Julia from Minds Ease on 0412 362 338.
URL:https://nicolejohnston.com.au/event/sherwood-tai-chi-qigong-2/2024-09-05/
LOCATION:Sherwood Arboretum\, 57 Dewar Terrace\, Sherwood\, Queensland\, 4075\, Australia
GEO:-27.532253;152.977305
X-APPLE-STRUCTURED-LOCATION;VALUE=URI;X-ADDRESS=Sherwood Arboretum 57 Dewar Terrace Sherwood Queensland 4075 Australia;X-APPLE-RADIUS=500;X-TITLE=57 Dewar Terrace:geo:152.977305,-27.532253
END:VEVENT
BEGIN:VEVENT
DTSTART;TZID=Australia/Brisbane:20240829T090000
DTEND;TZID=Australia/Brisbane:20240829T100000
DTSTAMP:20260424T200021
CREATED:20240619T064304Z
LAST-MODIFIED:20240619T064304Z
UID:27425-1724922000-1724925600@nicolejohnston.com.au
SUMMARY:Sherwood | Tai Chi Qigong
DESCRIPTION:This dynamic activity is invigorating and will help you feel relaxed\, refreshed and calm. Rejuvenate your body and learn to create a tranquil mind. Join any week. \nFor more information phone Julia from Minds Ease on 0412 362 338.
URL:https://nicolejohnston.com.au/event/sherwood-tai-chi-qigong-2/2024-08-29/
LOCATION:Sherwood Arboretum\, 57 Dewar Terrace\, Sherwood\, Queensland\, 4075\, Australia
GEO:-27.532253;152.977305
X-APPLE-STRUCTURED-LOCATION;VALUE=URI;X-ADDRESS=Sherwood Arboretum 57 Dewar Terrace Sherwood Queensland 4075 Australia;X-APPLE-RADIUS=500;X-TITLE=57 Dewar Terrace:geo:152.977305,-27.532253
END:VEVENT
BEGIN:VEVENT
DTSTART;TZID=Australia/Brisbane:20240822T090000
DTEND;TZID=Australia/Brisbane:20240822T100000
DTSTAMP:20260424T200021
CREATED:20240619T064304Z
LAST-MODIFIED:20240619T064304Z
UID:27424-1724317200-1724320800@nicolejohnston.com.au
SUMMARY:Sherwood | Tai Chi Qigong
DESCRIPTION:This dynamic activity is invigorating and will help you feel relaxed\, refreshed and calm. Rejuvenate your body and learn to create a tranquil mind. Join any week. \nFor more information phone Julia from Minds Ease on 0412 362 338.
URL:https://nicolejohnston.com.au/event/sherwood-tai-chi-qigong-2/2024-08-22/
LOCATION:Sherwood Arboretum\, 57 Dewar Terrace\, Sherwood\, Queensland\, 4075\, Australia
GEO:-27.532253;152.977305
X-APPLE-STRUCTURED-LOCATION;VALUE=URI;X-ADDRESS=Sherwood Arboretum 57 Dewar Terrace Sherwood Queensland 4075 Australia;X-APPLE-RADIUS=500;X-TITLE=57 Dewar Terrace:geo:152.977305,-27.532253
END:VEVENT
BEGIN:VEVENT
DTSTART;TZID=Australia/Brisbane:20240815T090000
DTEND;TZID=Australia/Brisbane:20240815T100000
DTSTAMP:20260424T200021
CREATED:20240619T064304Z
LAST-MODIFIED:20240619T064304Z
UID:27423-1723712400-1723716000@nicolejohnston.com.au
SUMMARY:Sherwood | Tai Chi Qigong
DESCRIPTION:This dynamic activity is invigorating and will help you feel relaxed\, refreshed and calm. Rejuvenate your body and learn to create a tranquil mind. Join any week. \nFor more information phone Julia from Minds Ease on 0412 362 338.
URL:https://nicolejohnston.com.au/event/sherwood-tai-chi-qigong-2/2024-08-15/
LOCATION:Sherwood Arboretum\, 57 Dewar Terrace\, Sherwood\, Queensland\, 4075\, Australia
GEO:-27.532253;152.977305
X-APPLE-STRUCTURED-LOCATION;VALUE=URI;X-ADDRESS=Sherwood Arboretum 57 Dewar Terrace Sherwood Queensland 4075 Australia;X-APPLE-RADIUS=500;X-TITLE=57 Dewar Terrace:geo:152.977305,-27.532253
END:VEVENT
BEGIN:VEVENT
DTSTART;TZID=Australia/Brisbane:20240808T090000
DTEND;TZID=Australia/Brisbane:20240808T100000
DTSTAMP:20260424T200021
CREATED:20240619T064304Z
LAST-MODIFIED:20240619T064304Z
UID:27422-1723107600-1723111200@nicolejohnston.com.au
SUMMARY:Sherwood | Tai Chi Qigong
DESCRIPTION:This dynamic activity is invigorating and will help you feel relaxed\, refreshed and calm. Rejuvenate your body and learn to create a tranquil mind. Join any week. \nFor more information phone Julia from Minds Ease on 0412 362 338.
URL:https://nicolejohnston.com.au/event/sherwood-tai-chi-qigong-2/2024-08-08/
LOCATION:Sherwood Arboretum\, 57 Dewar Terrace\, Sherwood\, Queensland\, 4075\, Australia
GEO:-27.532253;152.977305
X-APPLE-STRUCTURED-LOCATION;VALUE=URI;X-ADDRESS=Sherwood Arboretum 57 Dewar Terrace Sherwood Queensland 4075 Australia;X-APPLE-RADIUS=500;X-TITLE=57 Dewar Terrace:geo:152.977305,-27.532253
END:VEVENT
BEGIN:VEVENT
DTSTART;TZID=Australia/Brisbane:20240801T090000
DTEND;TZID=Australia/Brisbane:20240801T100000
DTSTAMP:20260424T200021
CREATED:20240619T064304Z
LAST-MODIFIED:20240619T064304Z
UID:27421-1722502800-1722506400@nicolejohnston.com.au
SUMMARY:Sherwood | Tai Chi Qigong
DESCRIPTION:This dynamic activity is invigorating and will help you feel relaxed\, refreshed and calm. Rejuvenate your body and learn to create a tranquil mind. Join any week. \nFor more information phone Julia from Minds Ease on 0412 362 338.
URL:https://nicolejohnston.com.au/event/sherwood-tai-chi-qigong-2/2024-08-01/
LOCATION:Sherwood Arboretum\, 57 Dewar Terrace\, Sherwood\, Queensland\, 4075\, Australia
GEO:-27.532253;152.977305
X-APPLE-STRUCTURED-LOCATION;VALUE=URI;X-ADDRESS=Sherwood Arboretum 57 Dewar Terrace Sherwood Queensland 4075 Australia;X-APPLE-RADIUS=500;X-TITLE=57 Dewar Terrace:geo:152.977305,-27.532253
END:VEVENT
BEGIN:VEVENT
DTSTART;TZID=Australia/Brisbane:20240725T090000
DTEND;TZID=Australia/Brisbane:20240725T100000
DTSTAMP:20260424T200021
CREATED:20240619T064304Z
LAST-MODIFIED:20240619T064304Z
UID:27420-1721898000-1721901600@nicolejohnston.com.au
SUMMARY:Sherwood | Tai Chi Qigong
DESCRIPTION:This dynamic activity is invigorating and will help you feel relaxed\, refreshed and calm. Rejuvenate your body and learn to create a tranquil mind. Join any week. \nFor more information phone Julia from Minds Ease on 0412 362 338.
URL:https://nicolejohnston.com.au/event/sherwood-tai-chi-qigong-2/2024-07-25/
LOCATION:Sherwood Arboretum\, 57 Dewar Terrace\, Sherwood\, Queensland\, 4075\, Australia
GEO:-27.532253;152.977305
X-APPLE-STRUCTURED-LOCATION;VALUE=URI;X-ADDRESS=Sherwood Arboretum 57 Dewar Terrace Sherwood Queensland 4075 Australia;X-APPLE-RADIUS=500;X-TITLE=57 Dewar Terrace:geo:152.977305,-27.532253
END:VEVENT
BEGIN:VEVENT
DTSTART;TZID=Australia/Brisbane:20240718T090000
DTEND;TZID=Australia/Brisbane:20240718T100000
DTSTAMP:20260424T200021
CREATED:20240619T064304Z
LAST-MODIFIED:20240619T064304Z
UID:27419-1721293200-1721296800@nicolejohnston.com.au
SUMMARY:Sherwood | Tai Chi Qigong
DESCRIPTION:This dynamic activity is invigorating and will help you feel relaxed\, refreshed and calm. Rejuvenate your body and learn to create a tranquil mind. Join any week. \nFor more information phone Julia from Minds Ease on 0412 362 338.
URL:https://nicolejohnston.com.au/event/sherwood-tai-chi-qigong-2/2024-07-18/
LOCATION:Sherwood Arboretum\, 57 Dewar Terrace\, Sherwood\, Queensland\, 4075\, Australia
GEO:-27.532253;152.977305
X-APPLE-STRUCTURED-LOCATION;VALUE=URI;X-ADDRESS=Sherwood Arboretum 57 Dewar Terrace Sherwood Queensland 4075 Australia;X-APPLE-RADIUS=500;X-TITLE=57 Dewar Terrace:geo:152.977305,-27.532253
END:VEVENT
BEGIN:VEVENT
DTSTART;TZID=Australia/Brisbane:20240711T090000
DTEND;TZID=Australia/Brisbane:20240711T100000
DTSTAMP:20260424T200021
CREATED:20240619T064304Z
LAST-MODIFIED:20240619T064304Z
UID:27418-1720688400-1720692000@nicolejohnston.com.au
SUMMARY:Sherwood | Tai Chi Qigong
DESCRIPTION:This dynamic activity is invigorating and will help you feel relaxed\, refreshed and calm. Rejuvenate your body and learn to create a tranquil mind. Join any week. \nFor more information phone Julia from Minds Ease on 0412 362 338.
URL:https://nicolejohnston.com.au/event/sherwood-tai-chi-qigong-2/2024-07-11/
LOCATION:Sherwood Arboretum\, 57 Dewar Terrace\, Sherwood\, Queensland\, 4075\, Australia
GEO:-27.532253;152.977305
X-APPLE-STRUCTURED-LOCATION;VALUE=URI;X-ADDRESS=Sherwood Arboretum 57 Dewar Terrace Sherwood Queensland 4075 Australia;X-APPLE-RADIUS=500;X-TITLE=57 Dewar Terrace:geo:152.977305,-27.532253
END:VEVENT
END:VCALENDAR