BEGIN:VCALENDAR
VERSION:2.0
PRODID:-//Nicole Johnston - ECPv6.15.20//NONSGML v1.0//EN
CALSCALE:GREGORIAN
METHOD:PUBLISH
X-WR-CALNAME:Nicole Johnston
X-ORIGINAL-URL:https://nicolejohnston.com.au
X-WR-CALDESC:Events for Nicole Johnston
REFRESH-INTERVAL;VALUE=DURATION:PT1H
X-Robots-Tag:noindex
X-PUBLISHED-TTL:PT1H
BEGIN:VTIMEZONE
TZID:Australia/Brisbane
BEGIN:STANDARD
TZOFFSETFROM:+1000
TZOFFSETTO:+1000
TZNAME:AEST
DTSTART:20220101T000000
END:STANDARD
END:VTIMEZONE
BEGIN:VEVENT
DTSTART;TZID=Australia/Brisbane:20230720T090000
DTEND;TZID=Australia/Brisbane:20230720T100000
DTSTAMP:20260425T061615
CREATED:20230627T005043Z
LAST-MODIFIED:20230627T005043Z
UID:26312-1689843600-1689847200@nicolejohnston.com.au
SUMMARY:Sherwood | Tai Chi & Qigong
DESCRIPTION:Enjoy Qigong and Tai Chi in the park\, gentle exercise to improve circulation\, breathing and joint mobility. \nThis is a GOLD event suitable for seniors. \n\n\nFor more information phone Julia on 0412 362 338. \n\n\nMeet near the car park off Jolimont Street.
URL:https://nicolejohnston.com.au/event/sherwood-tai-chi-qigong/2023-07-20/
LOCATION:Sherwood Arboretum\, 57 Dewar Terrace\, Sherwood\, Queensland\, 4075\, Australia
GEO:-27.532253;152.977305
X-APPLE-STRUCTURED-LOCATION;VALUE=URI;X-ADDRESS=Sherwood Arboretum 57 Dewar Terrace Sherwood Queensland 4075 Australia;X-APPLE-RADIUS=500;X-TITLE=57 Dewar Terrace:geo:152.977305,-27.532253
END:VEVENT
END:VCALENDAR