BEGIN:VCALENDAR
VERSION:2.0
PRODID:-//Nicole Johnston - ECPv6.15.20//NONSGML v1.0//EN
CALSCALE:GREGORIAN
METHOD:PUBLISH
X-ORIGINAL-URL:https://nicolejohnston.com.au
X-WR-CALDESC:Events for Nicole Johnston
REFRESH-INTERVAL;VALUE=DURATION:PT1H
X-Robots-Tag:noindex
X-PUBLISHED-TTL:PT1H
BEGIN:VTIMEZONE
TZID:Australia/Brisbane
BEGIN:STANDARD
TZOFFSETFROM:+1000
TZOFFSETTO:+1000
TZNAME:AEST
DTSTART:20140101T000000
END:STANDARD
END:VTIMEZONE
BEGIN:VEVENT
DTSTART;TZID=Australia/Brisbane:20151217T201500
DTEND;TZID=Australia/Brisbane:20151217T202500
DTSTAMP:20260425T015615
CREATED:20151109T124439Z
LAST-MODIFIED:20151111T072801Z
UID:4776-1450383300-1450383900@nicolejohnston.com.au
SUMMARY:South Bank Christmas Firework Spectacular
DESCRIPTION:Fireworks will ignite the night sky over the Brisbane River for five special nights this Christmas. Bring the whole family along to the Clem Jones Promenade\, South Bank\, for the best view of a festive fireworks display that will take you on a magical Christmas journey.
URL:https://nicolejohnston.com.au/event/south-bank-christmas-firework-spectacular/2015-12-17/
LOCATION:South Bank Parklands\, Stanley St Plaza\, South Bank\, Qld\, 4101\, Australia
GEO:-27.4775105;153.0208706
X-APPLE-STRUCTURED-LOCATION;VALUE=URI;X-ADDRESS=South Bank Parklands Stanley St Plaza South Bank Qld 4101 Australia;X-APPLE-RADIUS=500;X-TITLE=Stanley St Plaza:geo:153.0208706,-27.4775105
END:VEVENT
END:VCALENDAR