BEGIN:VCALENDAR
VERSION:2.0
PRODID:-//Nicole Johnston - ECPv6.15.20//NONSGML v1.0//EN
CALSCALE:GREGORIAN
METHOD:PUBLISH
X-ORIGINAL-URL:https://nicolejohnston.com.au
X-WR-CALDESC:Events for Nicole Johnston
REFRESH-INTERVAL;VALUE=DURATION:PT1H
X-Robots-Tag:noindex
X-PUBLISHED-TTL:PT1H
BEGIN:VTIMEZONE
TZID:Australia/Brisbane
BEGIN:STANDARD
TZOFFSETFROM:+1000
TZOFFSETTO:+1000
TZNAME:AEST
DTSTART:20150101T000000
END:STANDARD
END:VTIMEZONE
BEGIN:VEVENT
DTSTART;TZID=Australia/Brisbane:20161126T124500
DTEND;TZID=Australia/Brisbane:20161126T133000
DTSTAMP:20260424T181746
CREATED:20161028T034411Z
LAST-MODIFIED:20161028T034411Z
UID:10581-1480164300-1480167000@nicolejohnston.com.au
SUMMARY:Yeronga | Aqua Aerobics
DESCRIPTION:A fun water workout suitable for all fitness levels.  Suitable for non swimmers\, people with arthritis and other medical conditions.
URL:https://nicolejohnston.com.au/event/yeronga-aqua-aerobics-2/2016-11-26/
LOCATION:Yeronga Park Pool\, 81 School Rd\, Yeronga\, Qld\, 4104\, Australia
GEO:-27.5210935;153.019099
X-APPLE-STRUCTURED-LOCATION;VALUE=URI;X-ADDRESS=Yeronga Park Pool 81 School Rd Yeronga Qld 4104 Australia;X-APPLE-RADIUS=500;X-TITLE=81 School Rd:geo:153.019099,-27.5210935
END:VEVENT
END:VCALENDAR