BEGIN:VCALENDAR
VERSION:2.0
PRODID:-//Nicole Johnston - ECPv6.15.20//NONSGML v1.0//EN
CALSCALE:GREGORIAN
METHOD:PUBLISH
X-ORIGINAL-URL:https://nicolejohnston.com.au
X-WR-CALDESC:Events for Nicole Johnston
REFRESH-INTERVAL;VALUE=DURATION:PT1H
X-Robots-Tag:noindex
X-PUBLISHED-TTL:PT1H
BEGIN:VTIMEZONE
TZID:Australia/Brisbane
BEGIN:STANDARD
TZOFFSETFROM:+1000
TZOFFSETTO:+1000
TZNAME:AEST
DTSTART:20150101T000000
END:STANDARD
END:VTIMEZONE
BEGIN:VEVENT
DTSTART;TZID=Australia/Brisbane:20161029T114500
DTEND;TZID=Australia/Brisbane:20161029T124500
DTSTAMP:20260424T123238
CREATED:20161026T003737Z
LAST-MODIFIED:20161026T003905Z
UID:10447-1477741500-1477745100@nicolejohnston.com.au
SUMMARY:Yeronga | Beginner Swimming Program for Adults
DESCRIPTION:An inclusive opportunity for men and women of all cultures to learn the basics of swimming\, become water safe and get ready to conquer other water activities.
URL:https://nicolejohnston.com.au/event/yeronga-beginner-swimming-program-for-adults/2016-10-29/
LOCATION:Yeronga Park Pool\, 81 School Rd\, Yeronga\, Qld\, 4104\, Australia
GEO:-27.5210935;153.019099
X-APPLE-STRUCTURED-LOCATION;VALUE=URI;X-ADDRESS=Yeronga Park Pool 81 School Rd Yeronga Qld 4104 Australia;X-APPLE-RADIUS=500;X-TITLE=81 School Rd:geo:153.019099,-27.5210935
END:VEVENT
END:VCALENDAR