BEGIN:VCALENDAR
VERSION:2.0
PRODID:-//Nicole Johnston - ECPv6.15.20//NONSGML v1.0//EN
CALSCALE:GREGORIAN
METHOD:PUBLISH
X-WR-CALNAME:Nicole Johnston
X-ORIGINAL-URL:https://nicolejohnston.com.au
X-WR-CALDESC:Events for Nicole Johnston
REFRESH-INTERVAL;VALUE=DURATION:PT1H
X-Robots-Tag:noindex
X-PUBLISHED-TTL:PT1H
BEGIN:VTIMEZONE
TZID:Australia/Brisbane
BEGIN:STANDARD
TZOFFSETFROM:+1000
TZOFFSETTO:+1000
TZNAME:AEST
DTSTART:20140101T000000
END:STANDARD
END:VTIMEZONE
BEGIN:VEVENT
DTSTART;TZID=Australia/Brisbane:20150513T100000
DTEND;TZID=Australia/Brisbane:20150513T110000
DTSTAMP:20260424T211527
CREATED:20150511T105914Z
LAST-MODIFIED:20150911T095753Z
UID:2359-1431511200-1431514800@nicolejohnston.com.au
SUMMARY:Yeronga Computer Classes
DESCRIPTION:RSVP Centre of Attendance – Limited Places Available \nLearn how to email\, use Microsoft programs\, surf the web. \nClasses will be tailored to the participants and we will help you navigate computers\, tablets and iPads. \nBring along your questions and queries and we’ll help solve your computer issues! \n*Laptops available for use or you’re welcome to bring your own.
URL:https://nicolejohnston.com.au/event/yeronga-computer-classes/2015-05-13/
LOCATION:Yeronga Community Centre\, 62 Park Rd\, Yeronga\, Queensland\, 4103\, Australia
ORGANIZER;CN="Yeronga Community Centre":MAILTO:yeronga@communityplus.org.au
GEO:-27.5178214;153.0308084
X-APPLE-STRUCTURED-LOCATION;VALUE=URI;X-ADDRESS=Yeronga Community Centre 62 Park Rd Yeronga Queensland 4103 Australia;X-APPLE-RADIUS=500;X-TITLE=62 Park Rd:geo:153.0308084,-27.5178214
END:VEVENT
END:VCALENDAR