BEGIN:VCALENDAR
VERSION:2.0
PRODID:-//Nicole Johnston - ECPv6.15.20//NONSGML v1.0//EN
CALSCALE:GREGORIAN
METHOD:PUBLISH
X-WR-CALNAME:Nicole Johnston
X-ORIGINAL-URL:https://nicolejohnston.com.au
X-WR-CALDESC:Events for Nicole Johnston
REFRESH-INTERVAL;VALUE=DURATION:PT1H
X-Robots-Tag:noindex
X-PUBLISHED-TTL:PT1H
BEGIN:VTIMEZONE
TZID:Australia/Brisbane
BEGIN:STANDARD
TZOFFSETFROM:+1000
TZOFFSETTO:+1000
TZNAME:AEST
DTSTART:20240101T000000
END:STANDARD
END:VTIMEZONE
BEGIN:VEVENT
DTSTART;TZID=Australia/Brisbane:20250405T131500
DTEND;TZID=Australia/Brisbane:20250405T141500
DTSTAMP:20260424T173825
CREATED:20241212T010029Z
LAST-MODIFIED:20241212T010029Z
UID:29167-1743858900-1743862500@nicolejohnston.com.au
SUMMARY:Yeronga | Deep Water Running
DESCRIPTION:This is an aquatic workout that uses all major muscle groups. Participants wear a buoyancy belt so there’s no need to worry about being in deep water however you do require basic swimming skills. Classes will be held in the outdoor 25m/50m pool. \nFor more information phone or text Aqua English on 0406 063 737.
URL:https://nicolejohnston.com.au/event/yeronga-deep-water-running-5/2025-04-05/
LOCATION:Yeronga Park Pool\, 81 School Rd\, Yeronga\, Qld\, 4104\, Australia
GEO:-27.5210935;153.019099
X-APPLE-STRUCTURED-LOCATION;VALUE=URI;X-ADDRESS=Yeronga Park Pool 81 School Rd Yeronga Qld 4104 Australia;X-APPLE-RADIUS=500;X-TITLE=81 School Rd:geo:153.019099,-27.5210935
END:VEVENT
BEGIN:VEVENT
DTSTART;TZID=Australia/Brisbane:20250329T131500
DTEND;TZID=Australia/Brisbane:20250329T141500
DTSTAMP:20260424T173825
CREATED:20241212T010029Z
LAST-MODIFIED:20241212T010029Z
UID:29166-1743254100-1743257700@nicolejohnston.com.au
SUMMARY:Yeronga | Deep Water Running
DESCRIPTION:This is an aquatic workout that uses all major muscle groups. Participants wear a buoyancy belt so there’s no need to worry about being in deep water however you do require basic swimming skills. Classes will be held in the outdoor 25m/50m pool. \nFor more information phone or text Aqua English on 0406 063 737.
URL:https://nicolejohnston.com.au/event/yeronga-deep-water-running-5/2025-03-29/
LOCATION:Yeronga Park Pool\, 81 School Rd\, Yeronga\, Qld\, 4104\, Australia
GEO:-27.5210935;153.019099
X-APPLE-STRUCTURED-LOCATION;VALUE=URI;X-ADDRESS=Yeronga Park Pool 81 School Rd Yeronga Qld 4104 Australia;X-APPLE-RADIUS=500;X-TITLE=81 School Rd:geo:153.019099,-27.5210935
END:VEVENT
BEGIN:VEVENT
DTSTART;TZID=Australia/Brisbane:20250322T131500
DTEND;TZID=Australia/Brisbane:20250322T141500
DTSTAMP:20260424T173825
CREATED:20241212T010029Z
LAST-MODIFIED:20250113T042023Z
UID:28766-1742649300-1742652900@nicolejohnston.com.au
SUMMARY:Yeronga | Deep Water Running
DESCRIPTION:This is an aquatic workout that uses all major muscle groups. Participants wear a buoyancy belt so there’s no need to worry about being in deep water however you do require basic swimming skills. Classes will be held in the outdoor 25m/50m pool. \nFor more information phone or text Aqua English on 0406 063 737.
URL:https://nicolejohnston.com.au/event/yeronga-deep-water-running-5/2025-03-22/
LOCATION:Yeronga Park Pool\, 81 School Rd\, Yeronga\, Qld\, 4104\, Australia
GEO:-27.5210935;153.019099
X-APPLE-STRUCTURED-LOCATION;VALUE=URI;X-ADDRESS=Yeronga Park Pool 81 School Rd Yeronga Qld 4104 Australia;X-APPLE-RADIUS=500;X-TITLE=81 School Rd:geo:153.019099,-27.5210935
END:VEVENT
BEGIN:VEVENT
DTSTART;TZID=Australia/Brisbane:20250315T131500
DTEND;TZID=Australia/Brisbane:20250315T141500
DTSTAMP:20260424T173825
CREATED:20241212T010029Z
LAST-MODIFIED:20250113T042022Z
UID:28765-1742044500-1742048100@nicolejohnston.com.au
SUMMARY:Yeronga | Deep Water Running
DESCRIPTION:This is an aquatic workout that uses all major muscle groups. Participants wear a buoyancy belt so there’s no need to worry about being in deep water however you do require basic swimming skills. Classes will be held in the outdoor 25m/50m pool. \nFor more information phone or text Aqua English on 0406 063 737.
URL:https://nicolejohnston.com.au/event/yeronga-deep-water-running-5/2025-03-15/
LOCATION:Yeronga Park Pool\, 81 School Rd\, Yeronga\, Qld\, 4104\, Australia
GEO:-27.5210935;153.019099
X-APPLE-STRUCTURED-LOCATION;VALUE=URI;X-ADDRESS=Yeronga Park Pool 81 School Rd Yeronga Qld 4104 Australia;X-APPLE-RADIUS=500;X-TITLE=81 School Rd:geo:153.019099,-27.5210935
END:VEVENT
BEGIN:VEVENT
DTSTART;TZID=Australia/Brisbane:20250308T131500
DTEND;TZID=Australia/Brisbane:20250308T141500
DTSTAMP:20260424T173825
CREATED:20241212T010029Z
LAST-MODIFIED:20250113T042021Z
UID:28764-1741439700-1741443300@nicolejohnston.com.au
SUMMARY:Yeronga | Deep Water Running
DESCRIPTION:This is an aquatic workout that uses all major muscle groups. Participants wear a buoyancy belt so there’s no need to worry about being in deep water however you do require basic swimming skills. Classes will be held in the outdoor 25m/50m pool. \nFor more information phone or text Aqua English on 0406 063 737.
URL:https://nicolejohnston.com.au/event/yeronga-deep-water-running-5/2025-03-08/
LOCATION:Yeronga Park Pool\, 81 School Rd\, Yeronga\, Qld\, 4104\, Australia
GEO:-27.5210935;153.019099
X-APPLE-STRUCTURED-LOCATION;VALUE=URI;X-ADDRESS=Yeronga Park Pool 81 School Rd Yeronga Qld 4104 Australia;X-APPLE-RADIUS=500;X-TITLE=81 School Rd:geo:153.019099,-27.5210935
END:VEVENT
BEGIN:VEVENT
DTSTART;TZID=Australia/Brisbane:20250301T131500
DTEND;TZID=Australia/Brisbane:20250301T141500
DTSTAMP:20260424T173825
CREATED:20241212T010029Z
LAST-MODIFIED:20250113T042021Z
UID:28763-1740834900-1740838500@nicolejohnston.com.au
SUMMARY:Yeronga | Deep Water Running
DESCRIPTION:This is an aquatic workout that uses all major muscle groups. Participants wear a buoyancy belt so there’s no need to worry about being in deep water however you do require basic swimming skills. Classes will be held in the outdoor 25m/50m pool. \nFor more information phone or text Aqua English on 0406 063 737.
URL:https://nicolejohnston.com.au/event/yeronga-deep-water-running-5/2025-03-01/
LOCATION:Yeronga Park Pool\, 81 School Rd\, Yeronga\, Qld\, 4104\, Australia
GEO:-27.5210935;153.019099
X-APPLE-STRUCTURED-LOCATION;VALUE=URI;X-ADDRESS=Yeronga Park Pool 81 School Rd Yeronga Qld 4104 Australia;X-APPLE-RADIUS=500;X-TITLE=81 School Rd:geo:153.019099,-27.5210935
END:VEVENT
BEGIN:VEVENT
DTSTART;TZID=Australia/Brisbane:20250222T131500
DTEND;TZID=Australia/Brisbane:20250222T141500
DTSTAMP:20260424T173825
CREATED:20241212T010029Z
LAST-MODIFIED:20250113T042020Z
UID:28762-1740230100-1740233700@nicolejohnston.com.au
SUMMARY:Yeronga | Deep Water Running
DESCRIPTION:This is an aquatic workout that uses all major muscle groups. Participants wear a buoyancy belt so there’s no need to worry about being in deep water however you do require basic swimming skills. Classes will be held in the outdoor 25m/50m pool. \nFor more information phone or text Aqua English on 0406 063 737.
URL:https://nicolejohnston.com.au/event/yeronga-deep-water-running-5/2025-02-22/
LOCATION:Yeronga Park Pool\, 81 School Rd\, Yeronga\, Qld\, 4104\, Australia
GEO:-27.5210935;153.019099
X-APPLE-STRUCTURED-LOCATION;VALUE=URI;X-ADDRESS=Yeronga Park Pool 81 School Rd Yeronga Qld 4104 Australia;X-APPLE-RADIUS=500;X-TITLE=81 School Rd:geo:153.019099,-27.5210935
END:VEVENT
BEGIN:VEVENT
DTSTART;TZID=Australia/Brisbane:20250215T131500
DTEND;TZID=Australia/Brisbane:20250215T141500
DTSTAMP:20260424T173825
CREATED:20241212T010029Z
LAST-MODIFIED:20250113T042019Z
UID:28761-1739625300-1739628900@nicolejohnston.com.au
SUMMARY:Yeronga | Deep Water Running
DESCRIPTION:This is an aquatic workout that uses all major muscle groups. Participants wear a buoyancy belt so there’s no need to worry about being in deep water however you do require basic swimming skills. Classes will be held in the outdoor 25m/50m pool. \nFor more information phone or text Aqua English on 0406 063 737.
URL:https://nicolejohnston.com.au/event/yeronga-deep-water-running-5/2025-02-15/
LOCATION:Yeronga Park Pool\, 81 School Rd\, Yeronga\, Qld\, 4104\, Australia
GEO:-27.5210935;153.019099
X-APPLE-STRUCTURED-LOCATION;VALUE=URI;X-ADDRESS=Yeronga Park Pool 81 School Rd Yeronga Qld 4104 Australia;X-APPLE-RADIUS=500;X-TITLE=81 School Rd:geo:153.019099,-27.5210935
END:VEVENT
BEGIN:VEVENT
DTSTART;TZID=Australia/Brisbane:20250208T131500
DTEND;TZID=Australia/Brisbane:20250208T141500
DTSTAMP:20260424T173825
CREATED:20241212T010029Z
LAST-MODIFIED:20250113T042019Z
UID:28760-1739020500-1739024100@nicolejohnston.com.au
SUMMARY:Yeronga | Deep Water Running
DESCRIPTION:This is an aquatic workout that uses all major muscle groups. Participants wear a buoyancy belt so there’s no need to worry about being in deep water however you do require basic swimming skills. Classes will be held in the outdoor 25m/50m pool. \nFor more information phone or text Aqua English on 0406 063 737.
URL:https://nicolejohnston.com.au/event/yeronga-deep-water-running-5/2025-02-08/
LOCATION:Yeronga Park Pool\, 81 School Rd\, Yeronga\, Qld\, 4104\, Australia
GEO:-27.5210935;153.019099
X-APPLE-STRUCTURED-LOCATION;VALUE=URI;X-ADDRESS=Yeronga Park Pool 81 School Rd Yeronga Qld 4104 Australia;X-APPLE-RADIUS=500;X-TITLE=81 School Rd:geo:153.019099,-27.5210935
END:VEVENT
BEGIN:VEVENT
DTSTART;TZID=Australia/Brisbane:20250201T131500
DTEND;TZID=Australia/Brisbane:20250201T141500
DTSTAMP:20260424T173825
CREATED:20241212T010029Z
LAST-MODIFIED:20250113T042018Z
UID:28759-1738415700-1738419300@nicolejohnston.com.au
SUMMARY:Yeronga | Deep Water Running
DESCRIPTION:This is an aquatic workout that uses all major muscle groups. Participants wear a buoyancy belt so there’s no need to worry about being in deep water however you do require basic swimming skills. Classes will be held in the outdoor 25m/50m pool. \nFor more information phone or text Aqua English on 0406 063 737.
URL:https://nicolejohnston.com.au/event/yeronga-deep-water-running-5/2025-02-01/
LOCATION:Yeronga Park Pool\, 81 School Rd\, Yeronga\, Qld\, 4104\, Australia
GEO:-27.5210935;153.019099
X-APPLE-STRUCTURED-LOCATION;VALUE=URI;X-ADDRESS=Yeronga Park Pool 81 School Rd Yeronga Qld 4104 Australia;X-APPLE-RADIUS=500;X-TITLE=81 School Rd:geo:153.019099,-27.5210935
END:VEVENT
END:VCALENDAR