BEGIN:VCALENDAR
VERSION:2.0
PRODID:-//Nicole Johnston - ECPv6.15.20//NONSGML v1.0//EN
CALSCALE:GREGORIAN
METHOD:PUBLISH
X-WR-CALNAME:Nicole Johnston
X-ORIGINAL-URL:https://nicolejohnston.com.au
X-WR-CALDESC:Events for Nicole Johnston
REFRESH-INTERVAL;VALUE=DURATION:PT1H
X-Robots-Tag:noindex
X-PUBLISHED-TTL:PT1H
BEGIN:VTIMEZONE
TZID:Australia/Brisbane
BEGIN:STANDARD
TZOFFSETFROM:+1000
TZOFFSETTO:+1000
TZNAME:AEST
DTSTART:20140101T000000
END:STANDARD
END:VTIMEZONE
BEGIN:VEVENT
DTSTART;TZID=Australia/Brisbane:20150517T150000
DTEND;TZID=Australia/Brisbane:20150517T180000
DTSTAMP:20260424T182738
CREATED:20150511T105632Z
LAST-MODIFIED:20210819T050750Z
UID:2254-1431874800-1431885600@nicolejohnston.com.au
SUMMARY:Yeronga | Yeronga Community Gardens
DESCRIPTION:Come along and help us grow… \nAll Welcome \nYeronga State High School\, cnr Oakwood and\nTaunton Streets\, Yeronga. All welcome. \nEmail YerongaCommunityGardens@outlook.com for further information.
URL:https://nicolejohnston.com.au/event/yeronga-gardening-group/2015-05-17/
LOCATION:Yeronga State High School\, 159 Villa St\, Yeronga\, Qld\, 4104\, Australia
ORGANIZER;CN="Yeronga Community Gardens":MAILTO:yerongacommunitygardens@outlook.com
GEO:-27.5175391;153.0210749
X-APPLE-STRUCTURED-LOCATION;VALUE=URI;X-ADDRESS=Yeronga State High School 159 Villa St Yeronga Qld 4104 Australia;X-APPLE-RADIUS=500;X-TITLE=159 Villa St:geo:153.0210749,-27.5175391
END:VEVENT
END:VCALENDAR