BEGIN:VCALENDAR
VERSION:2.0
PRODID:-//Nicole Johnston - ECPv6.15.20//NONSGML v1.0//EN
CALSCALE:GREGORIAN
METHOD:PUBLISH
X-ORIGINAL-URL:https://nicolejohnston.com.au
X-WR-CALDESC:Events for Nicole Johnston
REFRESH-INTERVAL;VALUE=DURATION:PT1H
X-Robots-Tag:noindex
X-PUBLISHED-TTL:PT1H
BEGIN:VTIMEZONE
TZID:Australia/Brisbane
BEGIN:STANDARD
TZOFFSETFROM:+1000
TZOFFSETTO:+1000
TZNAME:AEST
DTSTART:20150101T000000
END:STANDARD
END:VTIMEZONE
BEGIN:VEVENT
DTSTART;TZID=Australia/Brisbane:20160413T090000
DTEND;TZID=Australia/Brisbane:20160413T100000
DTSTAMP:20260424T161123
CREATED:20151012T113407Z
LAST-MODIFIED:20160331T192307Z
UID:4406-1460538000-1460541600@nicolejohnston.com.au
SUMMARY:Yeronga | Zumba Fitness
DESCRIPTION:Zumba Fitness calorie burning class with easy to follow moves to Latin and international music that will give you a total body workout and is heaps of fun. \nThen you will activate and strengthen your abs\, butts and thighs with some awesome and effective body weight exercises.  This total workout is suitable for all fitness levels and ages as you control how hard or slow you want to go. \nPlease bring a yoga mat or thick towel to each class.  Bookings not required. \nMeet outside the pool entrance at Yeronga Memorial Park.
URL:https://nicolejohnston.com.au/event/zumba-fitness-2/2016-04-13/
LOCATION:Yeronga Memorial Park\, School Road\, Yeronga\, Queensland\, 4104\, Australia
GEO:-27.5212612;153.0201362
X-APPLE-STRUCTURED-LOCATION;VALUE=URI;X-ADDRESS=Yeronga Memorial Park School Road Yeronga Queensland 4104 Australia;X-APPLE-RADIUS=500;X-TITLE=School Road:geo:153.0201362,-27.5212612
END:VEVENT
END:VCALENDAR