BEGIN:VCALENDAR
VERSION:2.0
PRODID:-//Nicole Johnston - ECPv6.15.20//NONSGML v1.0//EN
CALSCALE:GREGORIAN
METHOD:PUBLISH
X-ORIGINAL-URL:https://nicolejohnston.com.au
X-WR-CALDESC:Events for Nicole Johnston
REFRESH-INTERVAL;VALUE=DURATION:PT1H
X-Robots-Tag:noindex
X-PUBLISHED-TTL:PT1H
BEGIN:VTIMEZONE
TZID:Australia/Brisbane
BEGIN:STANDARD
TZOFFSETFROM:+1000
TZOFFSETTO:+1000
TZNAME:AEST
DTSTART:20150101T000000
END:STANDARD
END:VTIMEZONE
BEGIN:VEVENT
DTSTART;TZID=Australia/Brisbane:20160108T100000
DTEND;TZID=Australia/Brisbane:20160108T120000
DTSTAMP:20260425T032844
CREATED:20151213T193711Z
LAST-MODIFIED:20151213T193711Z
UID:6029-1452247200-1452254400@nicolejohnston.com.au
SUMMARY:Adventure Kids
DESCRIPTION:Bookings required.  Contact John on 0412 004 603 to reserve your place. \nKeep active with lots of action in the outdoors. Activities include putting up tents\, orienteering\, parachute games\, super rockets and more! \nExercise clothes\, sun protection and a water bottle are required.  Suitable for ages 10 – 17 years.
URL:https://nicolejohnston.com.au/event/adventure-kids-2/
LOCATION:Sherwood Arboretum\, 57 Dewar Terrace\, Sherwood\, Queensland\, 4075\, Australia
GEO:-27.532253;152.977305
X-APPLE-STRUCTURED-LOCATION;VALUE=URI;X-ADDRESS=Sherwood Arboretum 57 Dewar Terrace Sherwood Queensland 4075 Australia;X-APPLE-RADIUS=500;X-TITLE=57 Dewar Terrace:geo:152.977305,-27.532253
END:VEVENT
END:VCALENDAR