BEGIN:VCALENDAR
VERSION:2.0
PRODID:-//Nicole Johnston - ECPv6.15.20//NONSGML v1.0//EN
CALSCALE:GREGORIAN
METHOD:PUBLISH
X-ORIGINAL-URL:https://nicolejohnston.com.au
X-WR-CALDESC:Events for Nicole Johnston
REFRESH-INTERVAL;VALUE=DURATION:PT1H
X-Robots-Tag:noindex
X-PUBLISHED-TTL:PT1H
BEGIN:VTIMEZONE
TZID:Australia/Brisbane
BEGIN:STANDARD
TZOFFSETFROM:+1000
TZOFFSETTO:+1000
TZNAME:AEST
DTSTART:20140101T000000
END:STANDARD
END:VTIMEZONE
BEGIN:VEVENT
DTSTART;TZID=Australia/Brisbane:20150615T183000
DTEND;TZID=Australia/Brisbane:20150615T200000
DTSTAMP:20260425T015602
CREATED:20150605T042214Z
LAST-MODIFIED:20150605T042214Z
UID:3277-1434393000-1434398400@nicolejohnston.com.au
SUMMARY:Why Did the Murders Stop?
DESCRIPTION:A crime presentation about the controversial debate surrounding why the homicide rate in New York City has dropped so dramatically. \nEntry fee is payable at the door and all proceeds go to the Crime Stoppers\, Metro South division.
URL:https://nicolejohnston.com.au/event/why-did-the-murders-stop/
LOCATION:Annerley Community Bookshop\, 12/478 Ipswich Rd\, Annerley\, Queensland\, 4103\, Australia
GEO:-27.510325;153.033088
X-APPLE-STRUCTURED-LOCATION;VALUE=URI;X-ADDRESS=Annerley Community Bookshop 12/478 Ipswich Rd Annerley Queensland 4103 Australia;X-APPLE-RADIUS=500;X-TITLE=12/478 Ipswich Rd:geo:153.033088,-27.510325
END:VEVENT
END:VCALENDAR