BEGIN:VCALENDAR
VERSION:2.0
PRODID:-//Nicole Johnston - ECPv6.15.20//NONSGML v1.0//EN
CALSCALE:GREGORIAN
METHOD:PUBLISH
X-ORIGINAL-URL:https://nicolejohnston.com.au
X-WR-CALDESC:Events for Nicole Johnston
REFRESH-INTERVAL;VALUE=DURATION:PT1H
X-Robots-Tag:noindex
X-PUBLISHED-TTL:PT1H
BEGIN:VTIMEZONE
TZID:Australia/Brisbane
BEGIN:STANDARD
TZOFFSETFROM:+1000
TZOFFSETTO:+1000
TZNAME:AEST
DTSTART:20240101T000000
END:STANDARD
END:VTIMEZONE
BEGIN:VEVENT
DTSTART;TZID=Australia/Brisbane:20250912T091500
DTEND;TZID=Australia/Brisbane:20250912T094500
DTSTAMP:20260425T023449
CREATED:20250724T032305Z
LAST-MODIFIED:20250724T032305Z
UID:30449-1757668500-1757670300@nicolejohnston.com.au
SUMMARY:Annerley Library | First 5 Forever Babies\, Books and Rhymes
DESCRIPTION:Meet other parents and babies for a fun session of singing\, clapping and dancing. Learn songs and action rhymes to nurture your baby’s pre-literacy\, communication\, language and social skills. Ideal for babies aged up to one year.
URL:https://nicolejohnston.com.au/event/annerley-library-first-5-forever-babies-books-and-rhymes-47/
LOCATION:Annerley Library\, 469 Ipswich Rd\, Annerley\, Queensland\, 4103\, Australia
GEO:-27.5115338;153.0317863
X-APPLE-STRUCTURED-LOCATION;VALUE=URI;X-ADDRESS=Annerley Library 469 Ipswich Rd Annerley Queensland 4103 Australia;X-APPLE-RADIUS=500;X-TITLE=469 Ipswich Rd:geo:153.0317863,-27.5115338
END:VEVENT
BEGIN:VEVENT
DTSTART;TZID=Australia/Brisbane:20250908T110000
DTEND;TZID=Australia/Brisbane:20250908T113000
DTSTAMP:20260425T023449
CREATED:20250724T032210Z
LAST-MODIFIED:20250724T032210Z
UID:30447-1757329200-1757331000@nicolejohnston.com.au
SUMMARY:Annerley Library | First 5 Forever Children's Storytime
DESCRIPTION:Experience the magic of storytime with your child at the library. This interactive session includes stories\, songs and mark making activities for young children. Ideal for children aged 2-5 years.
URL:https://nicolejohnston.com.au/event/annerley-library-first-5-forever-childrens-storytime-38/
LOCATION:Annerley Library\, 469 Ipswich Rd\, Annerley\, Queensland\, 4103\, Australia
GEO:-27.5115338;153.0317863
X-APPLE-STRUCTURED-LOCATION;VALUE=URI;X-ADDRESS=Annerley Library 469 Ipswich Rd Annerley Queensland 4103 Australia;X-APPLE-RADIUS=500;X-TITLE=469 Ipswich Rd:geo:153.0317863,-27.5115338
END:VEVENT
BEGIN:VEVENT
DTSTART;TZID=Australia/Brisbane:20250908T091500
DTEND;TZID=Australia/Brisbane:20250908T094500
DTSTAMP:20260425T023449
CREATED:20250724T032118Z
LAST-MODIFIED:20250724T032118Z
UID:30445-1757322900-1757324700@nicolejohnston.com.au
SUMMARY:Annerley Library | First 5 Forever Toddler Time
DESCRIPTION:Meet other parents and toddlers for a fun session of singing\, clapping and dancing. Learn action rhymes and songs which will help your child’s pre-literacy\, communication\, language and social skills. Ideal for babies and toddlers aged 1-2 years.
URL:https://nicolejohnston.com.au/event/annerley-library-first-5-forever-toddler-time-46/
LOCATION:Annerley Library\, 469 Ipswich Rd\, Annerley\, Queensland\, 4103\, Australia
GEO:-27.5115338;153.0317863
X-APPLE-STRUCTURED-LOCATION;VALUE=URI;X-ADDRESS=Annerley Library 469 Ipswich Rd Annerley Queensland 4103 Australia;X-APPLE-RADIUS=500;X-TITLE=469 Ipswich Rd:geo:153.0317863,-27.5115338
END:VEVENT
BEGIN:VEVENT
DTSTART;TZID=Australia/Brisbane:20250906T110000
DTEND;TZID=Australia/Brisbane:20250906T113000
DTSTAMP:20260425T023449
CREATED:20250724T032025Z
LAST-MODIFIED:20250724T032025Z
UID:30443-1757156400-1757158200@nicolejohnston.com.au
SUMMARY:Annerley Library | Family STEAM
DESCRIPTION:Join us for a morning of games and activities exploring science\, technology\, reading and art. Ideal for children of all ages and their families. \nBookings required. Phone Annerley Library on 07 3403 1735 to reserve your place.
URL:https://nicolejohnston.com.au/event/annerley-library-family-steam-8/
LOCATION:Annerley Library\, 469 Ipswich Rd\, Annerley\, Queensland\, 4103\, Australia
GEO:-27.5115338;153.0317863
X-APPLE-STRUCTURED-LOCATION;VALUE=URI;X-ADDRESS=Annerley Library 469 Ipswich Rd Annerley Queensland 4103 Australia;X-APPLE-RADIUS=500;X-TITLE=469 Ipswich Rd:geo:153.0317863,-27.5115338
END:VEVENT
BEGIN:VEVENT
DTSTART;TZID=Australia/Brisbane:20250905T091500
DTEND;TZID=Australia/Brisbane:20250905T094500
DTSTAMP:20260425T023449
CREATED:20250724T031937Z
LAST-MODIFIED:20250724T031937Z
UID:30441-1757063700-1757065500@nicolejohnston.com.au
SUMMARY:Annerley Library | First 5 Forever Babies\, Books and Rhymes
DESCRIPTION:Meet other parents and babies for a fun session of singing\, clapping and dancing. Learn songs and action rhymes to nurture your baby’s pre-literacy\, communication\, language and social skills. Ideal for babies aged up to one year.
URL:https://nicolejohnston.com.au/event/annerley-library-first-5-forever-babies-books-and-rhymes-46/
LOCATION:Annerley Library\, 469 Ipswich Rd\, Annerley\, Queensland\, 4103\, Australia
GEO:-27.5115338;153.0317863
X-APPLE-STRUCTURED-LOCATION;VALUE=URI;X-ADDRESS=Annerley Library 469 Ipswich Rd Annerley Queensland 4103 Australia;X-APPLE-RADIUS=500;X-TITLE=469 Ipswich Rd:geo:153.0317863,-27.5115338
END:VEVENT
BEGIN:VEVENT
DTSTART;TZID=Australia/Brisbane:20250901T110000
DTEND;TZID=Australia/Brisbane:20250901T113000
DTSTAMP:20260425T023449
CREATED:20250724T031842Z
LAST-MODIFIED:20250724T031842Z
UID:30439-1756724400-1756726200@nicolejohnston.com.au
SUMMARY:Annerley Library | First 5 Forever Children's Storytime
DESCRIPTION:Experience the magic of storytime with your child at the library. This interactive session includes stories\, songs and mark making activities for young children. Ideal for children aged 2-5 years.
URL:https://nicolejohnston.com.au/event/annerley-library-first-5-forever-childrens-storytime-37/
LOCATION:Annerley Library\, 469 Ipswich Rd\, Annerley\, Queensland\, 4103\, Australia
GEO:-27.5115338;153.0317863
X-APPLE-STRUCTURED-LOCATION;VALUE=URI;X-ADDRESS=Annerley Library 469 Ipswich Rd Annerley Queensland 4103 Australia;X-APPLE-RADIUS=500;X-TITLE=469 Ipswich Rd:geo:153.0317863,-27.5115338
END:VEVENT
BEGIN:VEVENT
DTSTART;TZID=Australia/Brisbane:20250901T091500
DTEND;TZID=Australia/Brisbane:20250901T094500
DTSTAMP:20260425T023449
CREATED:20250724T031751Z
LAST-MODIFIED:20250724T031751Z
UID:30437-1756718100-1756719900@nicolejohnston.com.au
SUMMARY:Annerley Library | First 5 Forever Toddler Time
DESCRIPTION:Meet other parents and toddlers for a fun session of singing\, clapping and dancing. Learn action rhymes and songs which will help your child’s pre-literacy\, communication\, language and social skills. Ideal for babies and toddlers aged 1-2 years.
URL:https://nicolejohnston.com.au/event/annerley-library-first-5-forever-toddler-time-45/
LOCATION:Annerley Library\, 469 Ipswich Rd\, Annerley\, Queensland\, 4103\, Australia
GEO:-27.5115338;153.0317863
X-APPLE-STRUCTURED-LOCATION;VALUE=URI;X-ADDRESS=Annerley Library 469 Ipswich Rd Annerley Queensland 4103 Australia;X-APPLE-RADIUS=500;X-TITLE=469 Ipswich Rd:geo:153.0317863,-27.5115338
END:VEVENT
BEGIN:VEVENT
DTSTART;TZID=Australia/Brisbane:20250829T091500
DTEND;TZID=Australia/Brisbane:20250829T094500
DTSTAMP:20260425T023449
CREATED:20250724T031659Z
LAST-MODIFIED:20250724T031659Z
UID:30435-1756458900-1756460700@nicolejohnston.com.au
SUMMARY:Annerley Library | First 5 Forever Babies\, Books and Rhymes
DESCRIPTION:Meet other parents and babies for a fun session of singing\, clapping and dancing. Learn songs and action rhymes to nurture your baby’s pre-literacy\, communication\, language and social skills. Ideal for babies aged up to one year.
URL:https://nicolejohnston.com.au/event/annerley-library-first-5-forever-babies-books-and-rhymes-45/
LOCATION:Annerley Library\, 469 Ipswich Rd\, Annerley\, Queensland\, 4103\, Australia
GEO:-27.5115338;153.0317863
X-APPLE-STRUCTURED-LOCATION;VALUE=URI;X-ADDRESS=Annerley Library 469 Ipswich Rd Annerley Queensland 4103 Australia;X-APPLE-RADIUS=500;X-TITLE=469 Ipswich Rd:geo:153.0317863,-27.5115338
END:VEVENT
BEGIN:VEVENT
DTSTART;TZID=Australia/Brisbane:20250825T110000
DTEND;TZID=Australia/Brisbane:20250825T113000
DTSTAMP:20260425T023449
CREATED:20250724T031546Z
LAST-MODIFIED:20250724T031546Z
UID:30433-1756119600-1756121400@nicolejohnston.com.au
SUMMARY:Annerley Library | First 5 Forever Children's Storytime
DESCRIPTION:Experience the magic of storytime with your child at the library. This interactive session includes stories\, songs and mark making activities for young children. Ideal for children aged 2-5 years.
URL:https://nicolejohnston.com.au/event/annerley-library-first-5-forever-childrens-storytime-36/
LOCATION:Annerley Library\, 469 Ipswich Rd\, Annerley\, Queensland\, 4103\, Australia
GEO:-27.5115338;153.0317863
X-APPLE-STRUCTURED-LOCATION;VALUE=URI;X-ADDRESS=Annerley Library 469 Ipswich Rd Annerley Queensland 4103 Australia;X-APPLE-RADIUS=500;X-TITLE=469 Ipswich Rd:geo:153.0317863,-27.5115338
END:VEVENT
BEGIN:VEVENT
DTSTART;TZID=Australia/Brisbane:20250825T091500
DTEND;TZID=Australia/Brisbane:20250825T094500
DTSTAMP:20260425T023449
CREATED:20250724T031427Z
LAST-MODIFIED:20250724T031427Z
UID:30431-1756113300-1756115100@nicolejohnston.com.au
SUMMARY:Annerley Library | First 5 Forever Toddler Time
DESCRIPTION:Meet other parents and toddlers for a fun session of singing\, clapping and dancing. Learn action rhymes and songs which will help your child’s pre-literacy\, communication\, language and social skills. Ideal for babies and toddlers aged 1-2 years.
URL:https://nicolejohnston.com.au/event/annerley-library-first-5-forever-toddler-time-44/
LOCATION:Annerley Library\, 469 Ipswich Rd\, Annerley\, Queensland\, 4103\, Australia
GEO:-27.5115338;153.0317863
X-APPLE-STRUCTURED-LOCATION;VALUE=URI;X-ADDRESS=Annerley Library 469 Ipswich Rd Annerley Queensland 4103 Australia;X-APPLE-RADIUS=500;X-TITLE=469 Ipswich Rd:geo:153.0317863,-27.5115338
END:VEVENT
BEGIN:VEVENT
DTSTART;TZID=Australia/Brisbane:20250822T153000
DTEND;TZID=Australia/Brisbane:20250822T163000
DTSTAMP:20260425T023449
CREATED:20250724T031333Z
LAST-MODIFIED:20250724T031333Z
UID:30429-1755876600-1755880200@nicolejohnston.com.au
SUMMARY:Annerley Library | Tinker Table
DESCRIPTION:Join us for some hands-on experimenting with robots and more. Explore STEAM\, coding and robotics in an open learning environment. Ideal for children aged 4-12 years. A BNEtechkids workshop. \nBookings required. Phone Annerley Library on 07 3403 1735 to reserve your place.
URL:https://nicolejohnston.com.au/event/annerley-library-tinker-table-4/
LOCATION:Annerley Library\, 469 Ipswich Rd\, Annerley\, Queensland\, 4103\, Australia
GEO:-27.5115338;153.0317863
X-APPLE-STRUCTURED-LOCATION;VALUE=URI;X-ADDRESS=Annerley Library 469 Ipswich Rd Annerley Queensland 4103 Australia;X-APPLE-RADIUS=500;X-TITLE=469 Ipswich Rd:geo:153.0317863,-27.5115338
END:VEVENT
BEGIN:VEVENT
DTSTART;TZID=Australia/Brisbane:20250822T091500
DTEND;TZID=Australia/Brisbane:20250822T094500
DTSTAMP:20260425T023449
CREATED:20250724T031212Z
LAST-MODIFIED:20250724T031212Z
UID:30427-1755854100-1755855900@nicolejohnston.com.au
SUMMARY:Annerley Library | First 5 Forever Babies\, Books and Rhymes
DESCRIPTION:Meet other parents and babies for a fun session of singing\, clapping and dancing. Learn songs and action rhymes to nurture your baby’s pre-literacy\, communication\, language and social skills. Ideal for babies aged up to one year.
URL:https://nicolejohnston.com.au/event/annerley-library-first-5-forever-babies-books-and-rhymes-44/
LOCATION:Annerley Library\, 469 Ipswich Rd\, Annerley\, Queensland\, 4103\, Australia
GEO:-27.5115338;153.0317863
X-APPLE-STRUCTURED-LOCATION;VALUE=URI;X-ADDRESS=Annerley Library 469 Ipswich Rd Annerley Queensland 4103 Australia;X-APPLE-RADIUS=500;X-TITLE=469 Ipswich Rd:geo:153.0317863,-27.5115338
END:VEVENT
BEGIN:VEVENT
DTSTART;TZID=Australia/Brisbane:20250818T110000
DTEND;TZID=Australia/Brisbane:20250818T113000
DTSTAMP:20260425T023449
CREATED:20250724T012420Z
LAST-MODIFIED:20250724T012420Z
UID:30425-1755514800-1755516600@nicolejohnston.com.au
SUMMARY:Annerley Library | First 5 Forever Children's Storytime
DESCRIPTION:Experience the magic of storytime with your child at the library. This interactive session includes stories\, songs and mark making activities for young children. Ideal for children aged 2-5 years.
URL:https://nicolejohnston.com.au/event/annerley-library-first-5-forever-childrens-storytime-35/
LOCATION:Annerley Library\, 469 Ipswich Rd\, Annerley\, Queensland\, 4103\, Australia
GEO:-27.5115338;153.0317863
X-APPLE-STRUCTURED-LOCATION;VALUE=URI;X-ADDRESS=Annerley Library 469 Ipswich Rd Annerley Queensland 4103 Australia;X-APPLE-RADIUS=500;X-TITLE=469 Ipswich Rd:geo:153.0317863,-27.5115338
END:VEVENT
BEGIN:VEVENT
DTSTART;TZID=Australia/Brisbane:20250818T091500
DTEND;TZID=Australia/Brisbane:20250818T094500
DTSTAMP:20260425T023449
CREATED:20250724T011755Z
LAST-MODIFIED:20250724T011755Z
UID:30423-1755508500-1755510300@nicolejohnston.com.au
SUMMARY:Annerley Library | First 5 Forever Toddler Time
DESCRIPTION:Meet other parents and toddlers for a fun session of singing\, clapping and dancing. Learn action rhymes and songs which will help your child’s pre-literacy\, communication\, language and social skills. Ideal for babies and toddlers aged 1-2 years.
URL:https://nicolejohnston.com.au/event/annerley-library-first-5-forever-toddler-time-43/
LOCATION:Annerley Library\, 469 Ipswich Rd\, Annerley\, Queensland\, 4103\, Australia
GEO:-27.5115338;153.0317863
X-APPLE-STRUCTURED-LOCATION;VALUE=URI;X-ADDRESS=Annerley Library 469 Ipswich Rd Annerley Queensland 4103 Australia;X-APPLE-RADIUS=500;X-TITLE=469 Ipswich Rd:geo:153.0317863,-27.5115338
END:VEVENT
BEGIN:VEVENT
DTSTART;TZID=Australia/Brisbane:20250815T091500
DTEND;TZID=Australia/Brisbane:20250815T094500
DTSTAMP:20260425T023449
CREATED:20250724T011701Z
LAST-MODIFIED:20250724T011701Z
UID:30421-1755249300-1755251100@nicolejohnston.com.au
SUMMARY:Annerley Library | First 5 Forever Babies\, Books and Rhymes
DESCRIPTION:Meet other parents and babies for a fun session of singing\, clapping and dancing. Learn songs and action rhymes to nurture your baby’s pre-literacy\, communication\, language and social skills. Ideal for babies aged up to one year.
URL:https://nicolejohnston.com.au/event/annerley-library-first-5-forever-babies-books-and-rhymes-43/
LOCATION:Annerley Library\, 469 Ipswich Rd\, Annerley\, Queensland\, 4103\, Australia
GEO:-27.5115338;153.0317863
X-APPLE-STRUCTURED-LOCATION;VALUE=URI;X-ADDRESS=Annerley Library 469 Ipswich Rd Annerley Queensland 4103 Australia;X-APPLE-RADIUS=500;X-TITLE=469 Ipswich Rd:geo:153.0317863,-27.5115338
END:VEVENT
BEGIN:VEVENT
DTSTART;TZID=Australia/Brisbane:20250811T110000
DTEND;TZID=Australia/Brisbane:20250811T113000
DTSTAMP:20260425T023449
CREATED:20250724T011538Z
LAST-MODIFIED:20250724T011538Z
UID:30419-1754910000-1754911800@nicolejohnston.com.au
SUMMARY:Annerley Library | First 5 Forever Children's Storytime
DESCRIPTION:Experience the magic of storytime with your child at the library. This interactive session includes stories\, songs and mark making activities for young children. Ideal for children aged 2-5 years.
URL:https://nicolejohnston.com.au/event/annerley-library-first-5-forever-childrens-storytime-34/
LOCATION:Annerley Library\, 469 Ipswich Rd\, Annerley\, Queensland\, 4103\, Australia
GEO:-27.5115338;153.0317863
X-APPLE-STRUCTURED-LOCATION;VALUE=URI;X-ADDRESS=Annerley Library 469 Ipswich Rd Annerley Queensland 4103 Australia;X-APPLE-RADIUS=500;X-TITLE=469 Ipswich Rd:geo:153.0317863,-27.5115338
END:VEVENT
BEGIN:VEVENT
DTSTART;TZID=Australia/Brisbane:20250811T091500
DTEND;TZID=Australia/Brisbane:20250811T094500
DTSTAMP:20260425T023449
CREATED:20250724T011442Z
LAST-MODIFIED:20250724T011442Z
UID:30417-1754903700-1754905500@nicolejohnston.com.au
SUMMARY:Annerley Library | First 5 Forever Toddler Time
DESCRIPTION:Meet other parents and toddlers for a fun session of singing\, clapping and dancing. Learn action rhymes and songs which will help your child’s pre-literacy\, communication\, language and social skills. Ideal for babies and toddlers aged 1-2 years.
URL:https://nicolejohnston.com.au/event/annerley-library-first-5-forever-toddler-time-42/
LOCATION:Annerley Library\, 469 Ipswich Rd\, Annerley\, Queensland\, 4103\, Australia
GEO:-27.5115338;153.0317863
X-APPLE-STRUCTURED-LOCATION;VALUE=URI;X-ADDRESS=Annerley Library 469 Ipswich Rd Annerley Queensland 4103 Australia;X-APPLE-RADIUS=500;X-TITLE=469 Ipswich Rd:geo:153.0317863,-27.5115338
END:VEVENT
BEGIN:VEVENT
DTSTART;TZID=Australia/Brisbane:20250808T153000
DTEND;TZID=Australia/Brisbane:20250808T163000
DTSTAMP:20260425T023449
CREATED:20250724T011348Z
LAST-MODIFIED:20250724T011348Z
UID:30415-1754667000-1754670600@nicolejohnston.com.au
SUMMARY:Annerley Library | Tinker Table
DESCRIPTION:Join us for some hands-on experimenting with robots and more. Explore STEAM\, coding and robotics in an open learning environment. Ideal for children aged 4-12 years. A BNEtechkids workshop. \nBookings required. Phone Annerley Library on 07 3403 1735 to reserve your place.
URL:https://nicolejohnston.com.au/event/annerley-library-tinker-table-3/
LOCATION:Annerley Library\, 469 Ipswich Rd\, Annerley\, Queensland\, 4103\, Australia
GEO:-27.5115338;153.0317863
X-APPLE-STRUCTURED-LOCATION;VALUE=URI;X-ADDRESS=Annerley Library 469 Ipswich Rd Annerley Queensland 4103 Australia;X-APPLE-RADIUS=500;X-TITLE=469 Ipswich Rd:geo:153.0317863,-27.5115338
END:VEVENT
BEGIN:VEVENT
DTSTART;TZID=Australia/Brisbane:20250808T091500
DTEND;TZID=Australia/Brisbane:20250808T094500
DTSTAMP:20260425T023449
CREATED:20250724T011259Z
LAST-MODIFIED:20250724T011259Z
UID:30413-1754644500-1754646300@nicolejohnston.com.au
SUMMARY:Annerley Library | First 5 Forever Babies\, Books and Rhymes
DESCRIPTION:Meet other parents and babies for a fun session of singing\, clapping and dancing. Learn songs and action rhymes to nurture your baby’s pre-literacy\, communication\, language and social skills. Ideal for babies aged up to one year.
URL:https://nicolejohnston.com.au/event/annerley-library-first-5-forever-babies-books-and-rhymes-42/
LOCATION:Annerley Library\, 469 Ipswich Rd\, Annerley\, Queensland\, 4103\, Australia
GEO:-27.5115338;153.0317863
X-APPLE-STRUCTURED-LOCATION;VALUE=URI;X-ADDRESS=Annerley Library 469 Ipswich Rd Annerley Queensland 4103 Australia;X-APPLE-RADIUS=500;X-TITLE=469 Ipswich Rd:geo:153.0317863,-27.5115338
END:VEVENT
BEGIN:VEVENT
DTSTART;TZID=Australia/Brisbane:20250804T110000
DTEND;TZID=Australia/Brisbane:20250804T113000
DTSTAMP:20260425T023449
CREATED:20250724T011158Z
LAST-MODIFIED:20250724T011158Z
UID:30411-1754305200-1754307000@nicolejohnston.com.au
SUMMARY:Annerley Library | Aboriginal and Torres Strait Islander Children's Day Storytime
DESCRIPTION:Celebrate Aboriginal and Torres Strait Islander Children’s Day with a First 5 Forever children’s storytime\, as we share stories\, songs\, rhymes and interactive play activities. Ideal for children aged 2–5 years.
URL:https://nicolejohnston.com.au/event/annerley-library-aboriginal-and-torres-strait-islander-childrens-day-storytime/
LOCATION:Annerley Library\, 469 Ipswich Rd\, Annerley\, Queensland\, 4103\, Australia
GEO:-27.5115338;153.0317863
X-APPLE-STRUCTURED-LOCATION;VALUE=URI;X-ADDRESS=Annerley Library 469 Ipswich Rd Annerley Queensland 4103 Australia;X-APPLE-RADIUS=500;X-TITLE=469 Ipswich Rd:geo:153.0317863,-27.5115338
END:VEVENT
BEGIN:VEVENT
DTSTART;TZID=Australia/Brisbane:20250804T091500
DTEND;TZID=Australia/Brisbane:20250804T094500
DTSTAMP:20260425T023449
CREATED:20250724T011046Z
LAST-MODIFIED:20250724T011046Z
UID:30409-1754298900-1754300700@nicolejohnston.com.au
SUMMARY:Annerley Library | First 5 Forever Toddler Time
DESCRIPTION:Meet other parents and toddlers for a fun session of singing\, clapping and dancing. Learn action rhymes and songs which will help your child’s pre-literacy\, communication\, language and social skills. Ideal for babies and toddlers aged 1-2 years.
URL:https://nicolejohnston.com.au/event/annerley-library-first-5-forever-toddler-time-41/
LOCATION:Annerley Library\, 469 Ipswich Rd\, Annerley\, Queensland\, 4103\, Australia
GEO:-27.5115338;153.0317863
X-APPLE-STRUCTURED-LOCATION;VALUE=URI;X-ADDRESS=Annerley Library 469 Ipswich Rd Annerley Queensland 4103 Australia;X-APPLE-RADIUS=500;X-TITLE=469 Ipswich Rd:geo:153.0317863,-27.5115338
END:VEVENT
BEGIN:VEVENT
DTSTART;TZID=Australia/Brisbane:20250802T110000
DTEND;TZID=Australia/Brisbane:20250802T113000
DTSTAMP:20260425T023449
CREATED:20250724T010947Z
LAST-MODIFIED:20250724T010947Z
UID:30407-1754132400-1754134200@nicolejohnston.com.au
SUMMARY:Annerley Library | Family STEAM
DESCRIPTION:Join us for a morning of games and activities exploring science\, technology\, reading and art. Ideal for children of all ages and their families. \nBookings required. Phone Annerley Library on 07 3403 1735 to reserve your place.
URL:https://nicolejohnston.com.au/event/annerley-library-family-steam-7/
LOCATION:Annerley Library\, 469 Ipswich Rd\, Annerley\, Queensland\, 4103\, Australia
GEO:-27.5115338;153.0317863
X-APPLE-STRUCTURED-LOCATION;VALUE=URI;X-ADDRESS=Annerley Library 469 Ipswich Rd Annerley Queensland 4103 Australia;X-APPLE-RADIUS=500;X-TITLE=469 Ipswich Rd:geo:153.0317863,-27.5115338
END:VEVENT
BEGIN:VEVENT
DTSTART;TZID=Australia/Brisbane:20250801T091500
DTEND;TZID=Australia/Brisbane:20250801T094500
DTSTAMP:20260425T023449
CREATED:20250724T010844Z
LAST-MODIFIED:20250724T010844Z
UID:30405-1754039700-1754041500@nicolejohnston.com.au
SUMMARY:Annerley Library | First 5 Forever Babies\, Books and Rhymes
DESCRIPTION:Meet other parents and babies for a fun session of singing\, clapping and dancing. Learn songs and action rhymes to nurture your baby’s pre-literacy\, communication\, language and social skills. Ideal for babies aged up to one year.
URL:https://nicolejohnston.com.au/event/annerley-library-first-5-forever-babies-books-and-rhymes-41/
LOCATION:Annerley Library\, 469 Ipswich Rd\, Annerley\, Queensland\, 4103\, Australia
GEO:-27.5115338;153.0317863
X-APPLE-STRUCTURED-LOCATION;VALUE=URI;X-ADDRESS=Annerley Library 469 Ipswich Rd Annerley Queensland 4103 Australia;X-APPLE-RADIUS=500;X-TITLE=469 Ipswich Rd:geo:153.0317863,-27.5115338
END:VEVENT
BEGIN:VEVENT
DTSTART;TZID=Australia/Brisbane:20250728T110000
DTEND;TZID=Australia/Brisbane:20250728T113000
DTSTAMP:20260425T023449
CREATED:20250508T044115Z
LAST-MODIFIED:20250508T044115Z
UID:29679-1753700400-1753702200@nicolejohnston.com.au
SUMMARY:Annerley Library | First 5 Forever Children's Storytime
DESCRIPTION:Experience the magic of storytime with your child at the library. This interactive session includes stories\, songs and mark making activities for young children. Ideal for children aged 2-5 years.
URL:https://nicolejohnston.com.au/event/annerley-library-first-5-forever-childrens-storytime-33/
LOCATION:Annerley Library\, 469 Ipswich Rd\, Annerley\, Queensland\, 4103\, Australia
GEO:-27.5115338;153.0317863
X-APPLE-STRUCTURED-LOCATION;VALUE=URI;X-ADDRESS=Annerley Library 469 Ipswich Rd Annerley Queensland 4103 Australia;X-APPLE-RADIUS=500;X-TITLE=469 Ipswich Rd:geo:153.0317863,-27.5115338
END:VEVENT
BEGIN:VEVENT
DTSTART;TZID=Australia/Brisbane:20250728T091500
DTEND;TZID=Australia/Brisbane:20250728T094500
DTSTAMP:20260425T023449
CREATED:20250508T044018Z
LAST-MODIFIED:20250508T044018Z
UID:29677-1753694100-1753695900@nicolejohnston.com.au
SUMMARY:Annerley Library | First 5 Forever Toddler Time
DESCRIPTION:Meet other parents and toddlers for a fun session of singing\, clapping and dancing. Learn action rhymes and songs which will help your child’s pre-literacy\, communication\, language and social skills. Ideal for babies and toddlers aged 1-2 years.
URL:https://nicolejohnston.com.au/event/annerley-library-first-5-forever-toddler-time-40/
LOCATION:Annerley Library\, 469 Ipswich Rd\, Annerley\, Queensland\, 4103\, Australia
GEO:-27.5115338;153.0317863
X-APPLE-STRUCTURED-LOCATION;VALUE=URI;X-ADDRESS=Annerley Library 469 Ipswich Rd Annerley Queensland 4103 Australia;X-APPLE-RADIUS=500;X-TITLE=469 Ipswich Rd:geo:153.0317863,-27.5115338
END:VEVENT
BEGIN:VEVENT
DTSTART;TZID=Australia/Brisbane:20250725T091500
DTEND;TZID=Australia/Brisbane:20250725T094500
DTSTAMP:20260425T023449
CREATED:20250508T043923Z
LAST-MODIFIED:20250508T043923Z
UID:29675-1753434900-1753436700@nicolejohnston.com.au
SUMMARY:Annerley Library | First 5 Forever Babies\, Books and Rhymes
DESCRIPTION:Meet other parents and babies for a fun session of singing\, clapping and dancing. Learn songs and action rhymes to nurture your baby’s pre-literacy\, communication\, language and social skills. Ideal for babies aged up to one year.
URL:https://nicolejohnston.com.au/event/annerley-library-first-5-forever-babies-books-and-rhymes-40/
LOCATION:Annerley Library\, 469 Ipswich Rd\, Annerley\, Queensland\, 4103\, Australia
GEO:-27.5115338;153.0317863
X-APPLE-STRUCTURED-LOCATION;VALUE=URI;X-ADDRESS=Annerley Library 469 Ipswich Rd Annerley Queensland 4103 Australia;X-APPLE-RADIUS=500;X-TITLE=469 Ipswich Rd:geo:153.0317863,-27.5115338
END:VEVENT
BEGIN:VEVENT
DTSTART;TZID=Australia/Brisbane:20250721T110000
DTEND;TZID=Australia/Brisbane:20250721T113000
DTSTAMP:20260425T023449
CREATED:20250508T043825Z
LAST-MODIFIED:20250508T043825Z
UID:29673-1753095600-1753097400@nicolejohnston.com.au
SUMMARY:Annerley Library | First 5 Forever Children's Storytime
DESCRIPTION:Experience the magic of storytime with your child at the library. This interactive session includes stories\, songs and mark making activities for young children. Ideal for children aged 2-5 years.
URL:https://nicolejohnston.com.au/event/annerley-library-first-5-forever-childrens-storytime-32/
LOCATION:Annerley Library\, 469 Ipswich Rd\, Annerley\, Queensland\, 4103\, Australia
GEO:-27.5115338;153.0317863
X-APPLE-STRUCTURED-LOCATION;VALUE=URI;X-ADDRESS=Annerley Library 469 Ipswich Rd Annerley Queensland 4103 Australia;X-APPLE-RADIUS=500;X-TITLE=469 Ipswich Rd:geo:153.0317863,-27.5115338
END:VEVENT
BEGIN:VEVENT
DTSTART;TZID=Australia/Brisbane:20250721T091500
DTEND;TZID=Australia/Brisbane:20250721T094500
DTSTAMP:20260425T023449
CREATED:20250508T043727Z
LAST-MODIFIED:20250508T043727Z
UID:29671-1753089300-1753091100@nicolejohnston.com.au
SUMMARY:Annerley Library | First 5 Forever Toddler Time
DESCRIPTION:Meet other parents and toddlers for a fun session of singing\, clapping and dancing. Learn action rhymes and songs which will help your child’s pre-literacy\, communication\, language and social skills. Ideal for babies and toddlers aged 1-2 years.
URL:https://nicolejohnston.com.au/event/annerley-library-first-5-forever-toddler-time-39/
LOCATION:Annerley Library\, 469 Ipswich Rd\, Annerley\, Queensland\, 4103\, Australia
GEO:-27.5115338;153.0317863
X-APPLE-STRUCTURED-LOCATION;VALUE=URI;X-ADDRESS=Annerley Library 469 Ipswich Rd Annerley Queensland 4103 Australia;X-APPLE-RADIUS=500;X-TITLE=469 Ipswich Rd:geo:153.0317863,-27.5115338
END:VEVENT
BEGIN:VEVENT
DTSTART;TZID=Australia/Brisbane:20250718T091500
DTEND;TZID=Australia/Brisbane:20250718T094500
DTSTAMP:20260425T023449
CREATED:20250508T043622Z
LAST-MODIFIED:20250508T043622Z
UID:29669-1752830100-1752831900@nicolejohnston.com.au
SUMMARY:Annerley Library | First 5 Forever Babies\, Books and Rhymes
DESCRIPTION:Meet other parents and babies for a fun session of singing\, clapping and dancing. Learn songs and action rhymes to nurture your baby’s pre-literacy\, communication\, language and social skills. Ideal for babies aged up to one year.
URL:https://nicolejohnston.com.au/event/annerley-library-first-5-forever-babies-books-and-rhymes-39/
LOCATION:Annerley Library\, 469 Ipswich Rd\, Annerley\, Queensland\, 4103\, Australia
GEO:-27.5115338;153.0317863
X-APPLE-STRUCTURED-LOCATION;VALUE=URI;X-ADDRESS=Annerley Library 469 Ipswich Rd Annerley Queensland 4103 Australia;X-APPLE-RADIUS=500;X-TITLE=469 Ipswich Rd:geo:153.0317863,-27.5115338
END:VEVENT
BEGIN:VEVENT
DTSTART;TZID=Australia/Brisbane:20250714T110000
DTEND;TZID=Australia/Brisbane:20250714T113000
DTSTAMP:20260425T023449
CREATED:20250508T043507Z
LAST-MODIFIED:20250508T043507Z
UID:29667-1752490800-1752492600@nicolejohnston.com.au
SUMMARY:Annerley Library | First 5 Forever Children's Storytime
DESCRIPTION:Experience the magic of storytime with your child at the library. This interactive session includes stories\, songs and mark making activities for young children. Ideal for children aged 2-5 years.
URL:https://nicolejohnston.com.au/event/annerley-library-first-5-forever-childrens-storytime-31/
LOCATION:Annerley Library\, 469 Ipswich Rd\, Annerley\, Queensland\, 4103\, Australia
GEO:-27.5115338;153.0317863
X-APPLE-STRUCTURED-LOCATION;VALUE=URI;X-ADDRESS=Annerley Library 469 Ipswich Rd Annerley Queensland 4103 Australia;X-APPLE-RADIUS=500;X-TITLE=469 Ipswich Rd:geo:153.0317863,-27.5115338
END:VEVENT
END:VCALENDAR