BEGIN:VCALENDAR
VERSION:2.0
PRODID:-//Nicole Johnston - ECPv6.15.20//NONSGML v1.0//EN
CALSCALE:GREGORIAN
METHOD:PUBLISH
X-ORIGINAL-URL:https://nicolejohnston.com.au
X-WR-CALDESC:Events for Nicole Johnston
REFRESH-INTERVAL;VALUE=DURATION:PT1H
X-Robots-Tag:noindex
X-PUBLISHED-TTL:PT1H
BEGIN:VTIMEZONE
TZID:Australia/Brisbane
BEGIN:STANDARD
TZOFFSETFROM:+1000
TZOFFSETTO:+1000
TZNAME:AEST
DTSTART:20240101T000000
END:STANDARD
END:VTIMEZONE
BEGIN:VEVENT
DTSTART;TZID=Australia/Brisbane:20251020T110000
DTEND;TZID=Australia/Brisbane:20251020T113000
DTSTAMP:20260424T230532
CREATED:20250908T234734Z
LAST-MODIFIED:20250908T234734Z
UID:30584-1760958000-1760959800@nicolejohnston.com.au
SUMMARY:Annerley Library | Children's Storytime
DESCRIPTION:Experience the magic of storytime with your child at the library. This interactive session includes stories\, songs and mark making activities for young children. Ideal for children aged 2-5 years. \nFirst 5 Forever is an initiative of the Queensland Government\, coordinated by State Library of Queensland and delivered in partnership with local government.
URL:https://nicolejohnston.com.au/event/annerley-library-childrens-storytime-3/
LOCATION:Annerley Library\, 469 Ipswich Rd\, Annerley\, Queensland\, 4103\, Australia
GEO:-27.5115338;153.0317863
X-APPLE-STRUCTURED-LOCATION;VALUE=URI;X-ADDRESS=Annerley Library 469 Ipswich Rd Annerley Queensland 4103 Australia;X-APPLE-RADIUS=500;X-TITLE=469 Ipswich Rd:geo:153.0317863,-27.5115338
END:VEVENT
BEGIN:VEVENT
DTSTART;TZID=Australia/Brisbane:20251020T091500
DTEND;TZID=Australia/Brisbane:20251020T094500
DTSTAMP:20260424T230532
CREATED:20250908T234631Z
LAST-MODIFIED:20250908T234631Z
UID:30582-1760951700-1760953500@nicolejohnston.com.au
SUMMARY:Annerley Library | Toddler Time
DESCRIPTION:Meet other parents and toddlers for a fun session of singing\, clapping and dancing. Learn action rhymes and songs which will help your child’s pre-literacy\, communication\, language and social skills. Ideal for babies and toddlers aged 1-2 years. \nFirst 5 Forever is an initiative of the Queensland Government\, coordinated by State Library of Queensland and delivered in partnership with local government.
URL:https://nicolejohnston.com.au/event/annerley-library-toddler-time-3/
LOCATION:Annerley Library\, 469 Ipswich Rd\, Annerley\, Queensland\, 4103\, Australia
GEO:-27.5115338;153.0317863
X-APPLE-STRUCTURED-LOCATION;VALUE=URI;X-ADDRESS=Annerley Library 469 Ipswich Rd Annerley Queensland 4103 Australia;X-APPLE-RADIUS=500;X-TITLE=469 Ipswich Rd:geo:153.0317863,-27.5115338
END:VEVENT
BEGIN:VEVENT
DTSTART;TZID=Australia/Brisbane:20251017T153000
DTEND;TZID=Australia/Brisbane:20251017T163000
DTSTAMP:20260424T230532
CREATED:20250908T234537Z
LAST-MODIFIED:20250908T234537Z
UID:30580-1760715000-1760718600@nicolejohnston.com.au
SUMMARY:Annerley Library | Intelino STEAM Train Adventure
DESCRIPTION:Jump onboard Intelino\, our innovative smart train! Enjoy this interactive event where you can program Intelino to navigate fun coding challenges. Ideal for those aged 5-8 years. A BNEtechkids workshop. \nBookings required. Phone Annerley Library on 07 3403 1735 to reserve your place.
URL:https://nicolejohnston.com.au/event/annerley-library-intelino-steam-train-adventure/
LOCATION:Annerley Library\, 469 Ipswich Rd\, Annerley\, Queensland\, 4103\, Australia
GEO:-27.5115338;153.0317863
X-APPLE-STRUCTURED-LOCATION;VALUE=URI;X-ADDRESS=Annerley Library 469 Ipswich Rd Annerley Queensland 4103 Australia;X-APPLE-RADIUS=500;X-TITLE=469 Ipswich Rd:geo:153.0317863,-27.5115338
END:VEVENT
BEGIN:VEVENT
DTSTART;TZID=Australia/Brisbane:20251017T091500
DTEND;TZID=Australia/Brisbane:20251017T094500
DTSTAMP:20260424T230532
CREATED:20250908T234426Z
LAST-MODIFIED:20250908T234426Z
UID:30578-1760692500-1760694300@nicolejohnston.com.au
SUMMARY:Annerley Library | Babies\, Books and Rhymes
DESCRIPTION:Meet other parents and babies for a fun session of singing\, clapping and dancing. Learn songs and action rhymes to nurture your baby’s pre-literacy\, communication\, language and social skills. Ideal for babies aged up to one year. \nFirst 5 Forever is an initiative of the Queensland Government\, coordinated by State Library of Queensland and delivered in partnership with local government.
URL:https://nicolejohnston.com.au/event/annerley-library-babies-books-and-rhymes-2/
LOCATION:Annerley Library\, 469 Ipswich Rd\, Annerley\, Queensland\, 4103\, Australia
GEO:-27.5115338;153.0317863
X-APPLE-STRUCTURED-LOCATION;VALUE=URI;X-ADDRESS=Annerley Library 469 Ipswich Rd Annerley Queensland 4103 Australia;X-APPLE-RADIUS=500;X-TITLE=469 Ipswich Rd:geo:153.0317863,-27.5115338
END:VEVENT
BEGIN:VEVENT
DTSTART;TZID=Australia/Brisbane:20251013T110000
DTEND;TZID=Australia/Brisbane:20251013T113000
DTSTAMP:20260424T230532
CREATED:20250908T234327Z
LAST-MODIFIED:20250908T234327Z
UID:30576-1760353200-1760355000@nicolejohnston.com.au
SUMMARY:Annerley Library | Children's Storytime
DESCRIPTION:Experience the magic of storytime with your child at the library. This interactive session includes stories\, songs and mark making activities for young children. Ideal for children aged 2-5 years. \nFirst 5 Forever is an initiative of the Queensland Government\, coordinated by State Library of Queensland and delivered in partnership with local government.
URL:https://nicolejohnston.com.au/event/annerley-library-childrens-storytime-2/
LOCATION:Annerley Library\, 469 Ipswich Rd\, Annerley\, Queensland\, 4103\, Australia
GEO:-27.5115338;153.0317863
X-APPLE-STRUCTURED-LOCATION;VALUE=URI;X-ADDRESS=Annerley Library 469 Ipswich Rd Annerley Queensland 4103 Australia;X-APPLE-RADIUS=500;X-TITLE=469 Ipswich Rd:geo:153.0317863,-27.5115338
END:VEVENT
BEGIN:VEVENT
DTSTART;TZID=Australia/Brisbane:20251013T091500
DTEND;TZID=Australia/Brisbane:20251013T094500
DTSTAMP:20260424T230532
CREATED:20250908T234235Z
LAST-MODIFIED:20250908T234235Z
UID:30574-1760346900-1760348700@nicolejohnston.com.au
SUMMARY:Annerley Library | Toddler Time
DESCRIPTION:Meet other parents and toddlers for a fun session of singing\, clapping and dancing. Learn action rhymes and songs which will help your child’s pre-literacy\, communication\, language and social skills. Ideal for babies and toddlers aged 1-2 years. \nFirst 5 Forever is an initiative of the Queensland Government\, coordinated by State Library of Queensland and delivered in partnership with local government.
URL:https://nicolejohnston.com.au/event/annerley-library-toddler-time-2/
LOCATION:Annerley Library\, 469 Ipswich Rd\, Annerley\, Queensland\, 4103\, Australia
GEO:-27.5115338;153.0317863
X-APPLE-STRUCTURED-LOCATION;VALUE=URI;X-ADDRESS=Annerley Library 469 Ipswich Rd Annerley Queensland 4103 Australia;X-APPLE-RADIUS=500;X-TITLE=469 Ipswich Rd:geo:153.0317863,-27.5115338
END:VEVENT
BEGIN:VEVENT
DTSTART;TZID=Australia/Brisbane:20251010T091500
DTEND;TZID=Australia/Brisbane:20251010T094500
DTSTAMP:20260424T230532
CREATED:20250908T233232Z
LAST-MODIFIED:20250908T233232Z
UID:30569-1760087700-1760089500@nicolejohnston.com.au
SUMMARY:Annerley Library | Babies\, Books and Rhymes
DESCRIPTION:Meet other parents and babies for a fun session of singing\, clapping and dancing. Learn songs and action rhymes to nurture your baby’s pre-literacy\, communication\, language and social skills. Ideal for babies aged up to one year. \nFirst 5 Forever is an initiative of the Queensland Government\, coordinated by State Library of Queensland and delivered in partnership with local government.
URL:https://nicolejohnston.com.au/event/annerley-library-babies-books-and-rhymes/
LOCATION:Annerley Library\, 469 Ipswich Rd\, Annerley\, Queensland\, 4103\, Australia
GEO:-27.5115338;153.0317863
X-APPLE-STRUCTURED-LOCATION;VALUE=URI;X-ADDRESS=Annerley Library 469 Ipswich Rd Annerley Queensland 4103 Australia;X-APPLE-RADIUS=500;X-TITLE=469 Ipswich Rd:geo:153.0317863,-27.5115338
END:VEVENT
BEGIN:VEVENT
DTSTART;TZID=Australia/Brisbane:20251004T110000
DTEND;TZID=Australia/Brisbane:20251004T113000
DTSTAMP:20260424T230532
CREATED:20250908T232609Z
LAST-MODIFIED:20250908T232609Z
UID:30567-1759575600-1759577400@nicolejohnston.com.au
SUMMARY:Annerley Library | Family STEAM
DESCRIPTION:Join us for a morning of games and activities exploring science\, technology\, reading and art. Ideal for children of all ages and their families. \nBookings required. Phone Annerley Library on 07 3403 1735 to reserve your place.
URL:https://nicolejohnston.com.au/event/annerley-library-family-steam-9/
LOCATION:Annerley Library\, 469 Ipswich Rd\, Annerley\, Queensland\, 4103\, Australia
GEO:-27.5115338;153.0317863
X-APPLE-STRUCTURED-LOCATION;VALUE=URI;X-ADDRESS=Annerley Library 469 Ipswich Rd Annerley Queensland 4103 Australia;X-APPLE-RADIUS=500;X-TITLE=469 Ipswich Rd:geo:153.0317863,-27.5115338
END:VEVENT
BEGIN:VEVENT
DTSTART;TZID=Australia/Brisbane:20251003T110000
DTEND;TZID=Australia/Brisbane:20251003T120000
DTSTAMP:20260424T230532
CREATED:20250724T033938Z
LAST-MODIFIED:20250724T033938Z
UID:30473-1759489200-1759492800@nicolejohnston.com.au
SUMMARY:Annerley Library | Tinker Table
DESCRIPTION:This school holidays\, drop in for some hands-on experimenting with robots and more. Ideal for children aged 4–12 years. \nA BNEtechkids workshop. \nBookings required. Phone Annerley Library on 07 3403 1735 to reserve your place.
URL:https://nicolejohnston.com.au/event/annerley-library-tinker-table-6/
LOCATION:Annerley Library\, 469 Ipswich Rd\, Annerley\, Queensland\, 4103\, Australia
GEO:-27.5115338;153.0317863
X-APPLE-STRUCTURED-LOCATION;VALUE=URI;X-ADDRESS=Annerley Library 469 Ipswich Rd Annerley Queensland 4103 Australia;X-APPLE-RADIUS=500;X-TITLE=469 Ipswich Rd:geo:153.0317863,-27.5115338
END:VEVENT
BEGIN:VEVENT
DTSTART;TZID=Australia/Brisbane:20250930T110000
DTEND;TZID=Australia/Brisbane:20250930T130000
DTSTAMP:20260424T230532
CREATED:20250724T033841Z
LAST-MODIFIED:20250724T033841Z
UID:30471-1759230000-1759237200@nicolejohnston.com.au
SUMMARY:Annerley Library | Make and Create
DESCRIPTION:This school holidays\, get creative with free art and craft activities. Ideal for children aged 3–8 years. \nBookings required. Phone Annerley Library on 07 3403 1735 to reserve your place.
URL:https://nicolejohnston.com.au/event/annerley-library-make-and-create-4/
LOCATION:Annerley Library\, 469 Ipswich Rd\, Annerley\, Queensland\, 4103\, Australia
GEO:-27.5115338;153.0317863
X-APPLE-STRUCTURED-LOCATION;VALUE=URI;X-ADDRESS=Annerley Library 469 Ipswich Rd Annerley Queensland 4103 Australia;X-APPLE-RADIUS=500;X-TITLE=469 Ipswich Rd:geo:153.0317863,-27.5115338
END:VEVENT
BEGIN:VEVENT
DTSTART;TZID=Australia/Brisbane:20250926T110000
DTEND;TZID=Australia/Brisbane:20250926T120000
DTSTAMP:20260424T230532
CREATED:20250724T033734Z
LAST-MODIFIED:20250724T033734Z
UID:30469-1758884400-1758888000@nicolejohnston.com.au
SUMMARY:Annerley Library | Create a Herb Bowl
DESCRIPTION:Join in the school holiday fun at your local library! Plant and create your very own take-home herb bowl with horticulturalist Claire Bickle. We will discuss how to look after our herbs and look at other fabulous edible gardening activities to embark upon at home. Ideal for children aged 5–12 years.
URL:https://nicolejohnston.com.au/event/annerley-library-create-a-herb-bowl/
LOCATION:Annerley Library\, 469 Ipswich Rd\, Annerley\, Queensland\, 4103\, Australia
GEO:-27.5115338;153.0317863
X-APPLE-STRUCTURED-LOCATION;VALUE=URI;X-ADDRESS=Annerley Library 469 Ipswich Rd Annerley Queensland 4103 Australia;X-APPLE-RADIUS=500;X-TITLE=469 Ipswich Rd:geo:153.0317863,-27.5115338
END:VEVENT
BEGIN:VEVENT
DTSTART;TZID=Australia/Brisbane:20250926T091500
DTEND;TZID=Australia/Brisbane:20250926T094500
DTSTAMP:20260424T230532
CREATED:20250724T033611Z
LAST-MODIFIED:20250724T033611Z
UID:30467-1758878100-1758879900@nicolejohnston.com.au
SUMMARY:Annerley Library | First 5 Forever Babies\, Books and Rhymes
DESCRIPTION:Meet other parents and babies for a fun session of singing\, clapping and dancing. Learn songs and action rhymes to nurture your baby’s pre-literacy\, communication\, language and social skills. Ideal for babies aged up to one year.
URL:https://nicolejohnston.com.au/event/annerley-library-first-5-forever-babies-books-and-rhymes-49/
LOCATION:Annerley Library\, 469 Ipswich Rd\, Annerley\, Queensland\, 4103\, Australia
GEO:-27.5115338;153.0317863
X-APPLE-STRUCTURED-LOCATION;VALUE=URI;X-ADDRESS=Annerley Library 469 Ipswich Rd Annerley Queensland 4103 Australia;X-APPLE-RADIUS=500;X-TITLE=469 Ipswich Rd:geo:153.0317863,-27.5115338
END:VEVENT
BEGIN:VEVENT
DTSTART;TZID=Australia/Brisbane:20250923T110000
DTEND;TZID=Australia/Brisbane:20250923T130000
DTSTAMP:20260424T230532
CREATED:20250724T033258Z
LAST-MODIFIED:20250724T033258Z
UID:30465-1758625200-1758632400@nicolejohnston.com.au
SUMMARY:Annerley Library | Make and Create
DESCRIPTION:This school holidays\, get creative with free art and craft activities. Ideal for children aged 3–8 years. \nBookings required. Phone Annerley Library on 07 3403 1735 to reserve your place.
URL:https://nicolejohnston.com.au/event/annerley-library-make-and-create-3/
LOCATION:Annerley Library\, 469 Ipswich Rd\, Annerley\, Queensland\, 4103\, Australia
GEO:-27.5115338;153.0317863
X-APPLE-STRUCTURED-LOCATION;VALUE=URI;X-ADDRESS=Annerley Library 469 Ipswich Rd Annerley Queensland 4103 Australia;X-APPLE-RADIUS=500;X-TITLE=469 Ipswich Rd:geo:153.0317863,-27.5115338
END:VEVENT
BEGIN:VEVENT
DTSTART;TZID=Australia/Brisbane:20250922T140000
DTEND;TZID=Australia/Brisbane:20250922T150000
DTSTAMP:20260424T230532
CREATED:20250724T033148Z
LAST-MODIFIED:20250724T033148Z
UID:30463-1758549600-1758553200@nicolejohnston.com.au
SUMMARY:Annerley Library | Comic Corner Workshop
DESCRIPTION:Join in the school holiday fun at your local library! Learn the starting blocks to creating great characters\, settings and storylines with author and illustrator Brent Wilson. Ideal for children aged 8–12 years. \nBookings required. Phone Annerley Library on 07 3403 1735 to reserve your place.
URL:https://nicolejohnston.com.au/event/annerley-library-comic-corner-workshop/
LOCATION:Annerley Library\, 469 Ipswich Rd\, Annerley\, Queensland\, 4103\, Australia
GEO:-27.5115338;153.0317863
X-APPLE-STRUCTURED-LOCATION;VALUE=URI;X-ADDRESS=Annerley Library 469 Ipswich Rd Annerley Queensland 4103 Australia;X-APPLE-RADIUS=500;X-TITLE=469 Ipswich Rd:geo:153.0317863,-27.5115338
END:VEVENT
BEGIN:VEVENT
DTSTART;TZID=Australia/Brisbane:20250922T110000
DTEND;TZID=Australia/Brisbane:20250922T113000
DTSTAMP:20260424T230532
CREATED:20250724T033052Z
LAST-MODIFIED:20250724T033052Z
UID:30461-1758538800-1758540600@nicolejohnston.com.au
SUMMARY:Annerley Library | First 5 Forever Children's Storytime
DESCRIPTION:Experience the magic of storytime with your child at the library. This interactive session includes stories\, songs and mark making activities for young children. Ideal for children aged 2-5 years.
URL:https://nicolejohnston.com.au/event/annerley-library-first-5-forever-childrens-storytime-39/
LOCATION:Annerley Library\, 469 Ipswich Rd\, Annerley\, Queensland\, 4103\, Australia
GEO:-27.5115338;153.0317863
X-APPLE-STRUCTURED-LOCATION;VALUE=URI;X-ADDRESS=Annerley Library 469 Ipswich Rd Annerley Queensland 4103 Australia;X-APPLE-RADIUS=500;X-TITLE=469 Ipswich Rd:geo:153.0317863,-27.5115338
END:VEVENT
BEGIN:VEVENT
DTSTART;TZID=Australia/Brisbane:20250922T091500
DTEND;TZID=Australia/Brisbane:20250922T094500
DTSTAMP:20260424T230532
CREATED:20250724T033000Z
LAST-MODIFIED:20250724T033000Z
UID:30459-1758532500-1758534300@nicolejohnston.com.au
SUMMARY:Annerley Library | First 5 Forever Toddler Time
DESCRIPTION:Meet other parents and toddlers for a fun session of singing\, clapping and dancing. Learn action rhymes and songs which will help your child’s pre-literacy\, communication\, language and social skills. Ideal for babies and toddlers aged 1-2 years.
URL:https://nicolejohnston.com.au/event/annerley-library-first-5-forever-toddler-time-48/
LOCATION:Annerley Library\, 469 Ipswich Rd\, Annerley\, Queensland\, 4103\, Australia
GEO:-27.5115338;153.0317863
X-APPLE-STRUCTURED-LOCATION;VALUE=URI;X-ADDRESS=Annerley Library 469 Ipswich Rd Annerley Queensland 4103 Australia;X-APPLE-RADIUS=500;X-TITLE=469 Ipswich Rd:geo:153.0317863,-27.5115338
END:VEVENT
BEGIN:VEVENT
DTSTART;TZID=Australia/Brisbane:20250919T091500
DTEND;TZID=Australia/Brisbane:20250919T094500
DTSTAMP:20260424T230532
CREATED:20250724T032851Z
LAST-MODIFIED:20250724T032851Z
UID:30457-1758273300-1758275100@nicolejohnston.com.au
SUMMARY:Annerley Library | First 5 Forever Babies\, Books and Rhymes
DESCRIPTION:Meet other parents and babies for a fun session of singing\, clapping and dancing. Learn songs and action rhymes to nurture your baby’s pre-literacy\, communication\, language and social skills. Ideal for babies aged up to one year.
URL:https://nicolejohnston.com.au/event/annerley-library-first-5-forever-babies-books-and-rhymes-48/
LOCATION:Annerley Library\, 469 Ipswich Rd\, Annerley\, Queensland\, 4103\, Australia
GEO:-27.5115338;153.0317863
X-APPLE-STRUCTURED-LOCATION;VALUE=URI;X-ADDRESS=Annerley Library 469 Ipswich Rd Annerley Queensland 4103 Australia;X-APPLE-RADIUS=500;X-TITLE=469 Ipswich Rd:geo:153.0317863,-27.5115338
END:VEVENT
BEGIN:VEVENT
DTSTART;TZID=Australia/Brisbane:20250915T110000
DTEND;TZID=Australia/Brisbane:20250915T113000
DTSTAMP:20260424T230532
CREATED:20250724T032732Z
LAST-MODIFIED:20250724T032732Z
UID:30455-1757934000-1757935800@nicolejohnston.com.au
SUMMARY:Annerley Library | Kids Alive: Spring Safe Storytime
DESCRIPTION:Get ready for swimming season and enjoy an educational First 5 Forever children’s storytime focused on water safety. Ideal for children aged 2-5 years.
URL:https://nicolejohnston.com.au/event/annerley-library-kids-alive-spring-safe-storytime/
LOCATION:Annerley Library\, 469 Ipswich Rd\, Annerley\, Queensland\, 4103\, Australia
GEO:-27.5115338;153.0317863
X-APPLE-STRUCTURED-LOCATION;VALUE=URI;X-ADDRESS=Annerley Library 469 Ipswich Rd Annerley Queensland 4103 Australia;X-APPLE-RADIUS=500;X-TITLE=469 Ipswich Rd:geo:153.0317863,-27.5115338
END:VEVENT
BEGIN:VEVENT
DTSTART;TZID=Australia/Brisbane:20250915T091500
DTEND;TZID=Australia/Brisbane:20250915T094500
DTSTAMP:20260424T230532
CREATED:20250724T032514Z
LAST-MODIFIED:20250724T032514Z
UID:30453-1757927700-1757929500@nicolejohnston.com.au
SUMMARY:Annerley Library | First 5 Forever Toddler Time
DESCRIPTION:Meet other parents and toddlers for a fun session of singing\, clapping and dancing. Learn action rhymes and songs which will help your child’s pre-literacy\, communication\, language and social skills. Ideal for babies and toddlers aged 1-2 years.
URL:https://nicolejohnston.com.au/event/annerley-library-first-5-forever-toddler-time-47/
LOCATION:Annerley Library\, 469 Ipswich Rd\, Annerley\, Queensland\, 4103\, Australia
GEO:-27.5115338;153.0317863
X-APPLE-STRUCTURED-LOCATION;VALUE=URI;X-ADDRESS=Annerley Library 469 Ipswich Rd Annerley Queensland 4103 Australia;X-APPLE-RADIUS=500;X-TITLE=469 Ipswich Rd:geo:153.0317863,-27.5115338
END:VEVENT
BEGIN:VEVENT
DTSTART;TZID=Australia/Brisbane:20250912T153000
DTEND;TZID=Australia/Brisbane:20250912T163000
DTSTAMP:20260424T230532
CREATED:20250724T032405Z
LAST-MODIFIED:20250724T032405Z
UID:30451-1757691000-1757694600@nicolejohnston.com.au
SUMMARY:Annerley Library | Tinker Table
DESCRIPTION:Join us for some hands-on experimenting with robots and more. Explore STEAM\, coding and robotics in an open learning environment. Ideal for children aged 4-12 years. A BNEtechkids workshop. \nBookings required. Phone Annerley Library on 07 3403 1735 to reserve your place.
URL:https://nicolejohnston.com.au/event/annerley-library-tinker-table-5/
LOCATION:Annerley Library\, 469 Ipswich Rd\, Annerley\, Queensland\, 4103\, Australia
GEO:-27.5115338;153.0317863
X-APPLE-STRUCTURED-LOCATION;VALUE=URI;X-ADDRESS=Annerley Library 469 Ipswich Rd Annerley Queensland 4103 Australia;X-APPLE-RADIUS=500;X-TITLE=469 Ipswich Rd:geo:153.0317863,-27.5115338
END:VEVENT
BEGIN:VEVENT
DTSTART;TZID=Australia/Brisbane:20250912T091500
DTEND;TZID=Australia/Brisbane:20250912T094500
DTSTAMP:20260424T230532
CREATED:20250724T032305Z
LAST-MODIFIED:20250724T032305Z
UID:30449-1757668500-1757670300@nicolejohnston.com.au
SUMMARY:Annerley Library | First 5 Forever Babies\, Books and Rhymes
DESCRIPTION:Meet other parents and babies for a fun session of singing\, clapping and dancing. Learn songs and action rhymes to nurture your baby’s pre-literacy\, communication\, language and social skills. Ideal for babies aged up to one year.
URL:https://nicolejohnston.com.au/event/annerley-library-first-5-forever-babies-books-and-rhymes-47/
LOCATION:Annerley Library\, 469 Ipswich Rd\, Annerley\, Queensland\, 4103\, Australia
GEO:-27.5115338;153.0317863
X-APPLE-STRUCTURED-LOCATION;VALUE=URI;X-ADDRESS=Annerley Library 469 Ipswich Rd Annerley Queensland 4103 Australia;X-APPLE-RADIUS=500;X-TITLE=469 Ipswich Rd:geo:153.0317863,-27.5115338
END:VEVENT
BEGIN:VEVENT
DTSTART;TZID=Australia/Brisbane:20250908T110000
DTEND;TZID=Australia/Brisbane:20250908T113000
DTSTAMP:20260424T230532
CREATED:20250724T032210Z
LAST-MODIFIED:20250724T032210Z
UID:30447-1757329200-1757331000@nicolejohnston.com.au
SUMMARY:Annerley Library | First 5 Forever Children's Storytime
DESCRIPTION:Experience the magic of storytime with your child at the library. This interactive session includes stories\, songs and mark making activities for young children. Ideal for children aged 2-5 years.
URL:https://nicolejohnston.com.au/event/annerley-library-first-5-forever-childrens-storytime-38/
LOCATION:Annerley Library\, 469 Ipswich Rd\, Annerley\, Queensland\, 4103\, Australia
GEO:-27.5115338;153.0317863
X-APPLE-STRUCTURED-LOCATION;VALUE=URI;X-ADDRESS=Annerley Library 469 Ipswich Rd Annerley Queensland 4103 Australia;X-APPLE-RADIUS=500;X-TITLE=469 Ipswich Rd:geo:153.0317863,-27.5115338
END:VEVENT
BEGIN:VEVENT
DTSTART;TZID=Australia/Brisbane:20250908T091500
DTEND;TZID=Australia/Brisbane:20250908T094500
DTSTAMP:20260424T230532
CREATED:20250724T032118Z
LAST-MODIFIED:20250724T032118Z
UID:30445-1757322900-1757324700@nicolejohnston.com.au
SUMMARY:Annerley Library | First 5 Forever Toddler Time
DESCRIPTION:Meet other parents and toddlers for a fun session of singing\, clapping and dancing. Learn action rhymes and songs which will help your child’s pre-literacy\, communication\, language and social skills. Ideal for babies and toddlers aged 1-2 years.
URL:https://nicolejohnston.com.au/event/annerley-library-first-5-forever-toddler-time-46/
LOCATION:Annerley Library\, 469 Ipswich Rd\, Annerley\, Queensland\, 4103\, Australia
GEO:-27.5115338;153.0317863
X-APPLE-STRUCTURED-LOCATION;VALUE=URI;X-ADDRESS=Annerley Library 469 Ipswich Rd Annerley Queensland 4103 Australia;X-APPLE-RADIUS=500;X-TITLE=469 Ipswich Rd:geo:153.0317863,-27.5115338
END:VEVENT
BEGIN:VEVENT
DTSTART;TZID=Australia/Brisbane:20250906T110000
DTEND;TZID=Australia/Brisbane:20250906T113000
DTSTAMP:20260424T230532
CREATED:20250724T032025Z
LAST-MODIFIED:20250724T032025Z
UID:30443-1757156400-1757158200@nicolejohnston.com.au
SUMMARY:Annerley Library | Family STEAM
DESCRIPTION:Join us for a morning of games and activities exploring science\, technology\, reading and art. Ideal for children of all ages and their families. \nBookings required. Phone Annerley Library on 07 3403 1735 to reserve your place.
URL:https://nicolejohnston.com.au/event/annerley-library-family-steam-8/
LOCATION:Annerley Library\, 469 Ipswich Rd\, Annerley\, Queensland\, 4103\, Australia
GEO:-27.5115338;153.0317863
X-APPLE-STRUCTURED-LOCATION;VALUE=URI;X-ADDRESS=Annerley Library 469 Ipswich Rd Annerley Queensland 4103 Australia;X-APPLE-RADIUS=500;X-TITLE=469 Ipswich Rd:geo:153.0317863,-27.5115338
END:VEVENT
BEGIN:VEVENT
DTSTART;TZID=Australia/Brisbane:20250905T091500
DTEND;TZID=Australia/Brisbane:20250905T094500
DTSTAMP:20260424T230532
CREATED:20250724T031937Z
LAST-MODIFIED:20250724T031937Z
UID:30441-1757063700-1757065500@nicolejohnston.com.au
SUMMARY:Annerley Library | First 5 Forever Babies\, Books and Rhymes
DESCRIPTION:Meet other parents and babies for a fun session of singing\, clapping and dancing. Learn songs and action rhymes to nurture your baby’s pre-literacy\, communication\, language and social skills. Ideal for babies aged up to one year.
URL:https://nicolejohnston.com.au/event/annerley-library-first-5-forever-babies-books-and-rhymes-46/
LOCATION:Annerley Library\, 469 Ipswich Rd\, Annerley\, Queensland\, 4103\, Australia
GEO:-27.5115338;153.0317863
X-APPLE-STRUCTURED-LOCATION;VALUE=URI;X-ADDRESS=Annerley Library 469 Ipswich Rd Annerley Queensland 4103 Australia;X-APPLE-RADIUS=500;X-TITLE=469 Ipswich Rd:geo:153.0317863,-27.5115338
END:VEVENT
BEGIN:VEVENT
DTSTART;TZID=Australia/Brisbane:20250901T110000
DTEND;TZID=Australia/Brisbane:20250901T113000
DTSTAMP:20260424T230532
CREATED:20250724T031842Z
LAST-MODIFIED:20250724T031842Z
UID:30439-1756724400-1756726200@nicolejohnston.com.au
SUMMARY:Annerley Library | First 5 Forever Children's Storytime
DESCRIPTION:Experience the magic of storytime with your child at the library. This interactive session includes stories\, songs and mark making activities for young children. Ideal for children aged 2-5 years.
URL:https://nicolejohnston.com.au/event/annerley-library-first-5-forever-childrens-storytime-37/
LOCATION:Annerley Library\, 469 Ipswich Rd\, Annerley\, Queensland\, 4103\, Australia
GEO:-27.5115338;153.0317863
X-APPLE-STRUCTURED-LOCATION;VALUE=URI;X-ADDRESS=Annerley Library 469 Ipswich Rd Annerley Queensland 4103 Australia;X-APPLE-RADIUS=500;X-TITLE=469 Ipswich Rd:geo:153.0317863,-27.5115338
END:VEVENT
BEGIN:VEVENT
DTSTART;TZID=Australia/Brisbane:20250901T091500
DTEND;TZID=Australia/Brisbane:20250901T094500
DTSTAMP:20260424T230532
CREATED:20250724T031751Z
LAST-MODIFIED:20250724T031751Z
UID:30437-1756718100-1756719900@nicolejohnston.com.au
SUMMARY:Annerley Library | First 5 Forever Toddler Time
DESCRIPTION:Meet other parents and toddlers for a fun session of singing\, clapping and dancing. Learn action rhymes and songs which will help your child’s pre-literacy\, communication\, language and social skills. Ideal for babies and toddlers aged 1-2 years.
URL:https://nicolejohnston.com.au/event/annerley-library-first-5-forever-toddler-time-45/
LOCATION:Annerley Library\, 469 Ipswich Rd\, Annerley\, Queensland\, 4103\, Australia
GEO:-27.5115338;153.0317863
X-APPLE-STRUCTURED-LOCATION;VALUE=URI;X-ADDRESS=Annerley Library 469 Ipswich Rd Annerley Queensland 4103 Australia;X-APPLE-RADIUS=500;X-TITLE=469 Ipswich Rd:geo:153.0317863,-27.5115338
END:VEVENT
BEGIN:VEVENT
DTSTART;TZID=Australia/Brisbane:20250829T091500
DTEND;TZID=Australia/Brisbane:20250829T094500
DTSTAMP:20260424T230532
CREATED:20250724T031659Z
LAST-MODIFIED:20250724T031659Z
UID:30435-1756458900-1756460700@nicolejohnston.com.au
SUMMARY:Annerley Library | First 5 Forever Babies\, Books and Rhymes
DESCRIPTION:Meet other parents and babies for a fun session of singing\, clapping and dancing. Learn songs and action rhymes to nurture your baby’s pre-literacy\, communication\, language and social skills. Ideal for babies aged up to one year.
URL:https://nicolejohnston.com.au/event/annerley-library-first-5-forever-babies-books-and-rhymes-45/
LOCATION:Annerley Library\, 469 Ipswich Rd\, Annerley\, Queensland\, 4103\, Australia
GEO:-27.5115338;153.0317863
X-APPLE-STRUCTURED-LOCATION;VALUE=URI;X-ADDRESS=Annerley Library 469 Ipswich Rd Annerley Queensland 4103 Australia;X-APPLE-RADIUS=500;X-TITLE=469 Ipswich Rd:geo:153.0317863,-27.5115338
END:VEVENT
BEGIN:VEVENT
DTSTART;TZID=Australia/Brisbane:20250825T110000
DTEND;TZID=Australia/Brisbane:20250825T113000
DTSTAMP:20260424T230532
CREATED:20250724T031546Z
LAST-MODIFIED:20250724T031546Z
UID:30433-1756119600-1756121400@nicolejohnston.com.au
SUMMARY:Annerley Library | First 5 Forever Children's Storytime
DESCRIPTION:Experience the magic of storytime with your child at the library. This interactive session includes stories\, songs and mark making activities for young children. Ideal for children aged 2-5 years.
URL:https://nicolejohnston.com.au/event/annerley-library-first-5-forever-childrens-storytime-36/
LOCATION:Annerley Library\, 469 Ipswich Rd\, Annerley\, Queensland\, 4103\, Australia
GEO:-27.5115338;153.0317863
X-APPLE-STRUCTURED-LOCATION;VALUE=URI;X-ADDRESS=Annerley Library 469 Ipswich Rd Annerley Queensland 4103 Australia;X-APPLE-RADIUS=500;X-TITLE=469 Ipswich Rd:geo:153.0317863,-27.5115338
END:VEVENT
BEGIN:VEVENT
DTSTART;TZID=Australia/Brisbane:20250825T091500
DTEND;TZID=Australia/Brisbane:20250825T094500
DTSTAMP:20260424T230532
CREATED:20250724T031427Z
LAST-MODIFIED:20250724T031427Z
UID:30431-1756113300-1756115100@nicolejohnston.com.au
SUMMARY:Annerley Library | First 5 Forever Toddler Time
DESCRIPTION:Meet other parents and toddlers for a fun session of singing\, clapping and dancing. Learn action rhymes and songs which will help your child’s pre-literacy\, communication\, language and social skills. Ideal for babies and toddlers aged 1-2 years.
URL:https://nicolejohnston.com.au/event/annerley-library-first-5-forever-toddler-time-44/
LOCATION:Annerley Library\, 469 Ipswich Rd\, Annerley\, Queensland\, 4103\, Australia
GEO:-27.5115338;153.0317863
X-APPLE-STRUCTURED-LOCATION;VALUE=URI;X-ADDRESS=Annerley Library 469 Ipswich Rd Annerley Queensland 4103 Australia;X-APPLE-RADIUS=500;X-TITLE=469 Ipswich Rd:geo:153.0317863,-27.5115338
END:VEVENT
END:VCALENDAR