BEGIN:VCALENDAR
VERSION:2.0
PRODID:-//Nicole Johnston - ECPv6.15.20//NONSGML v1.0//EN
CALSCALE:GREGORIAN
METHOD:PUBLISH
X-ORIGINAL-URL:https://nicolejohnston.com.au
X-WR-CALDESC:Events for Nicole Johnston
REFRESH-INTERVAL;VALUE=DURATION:PT1H
X-Robots-Tag:noindex
X-PUBLISHED-TTL:PT1H
BEGIN:VTIMEZONE
TZID:Australia/Brisbane
BEGIN:STANDARD
TZOFFSETFROM:+1000
TZOFFSETTO:+1000
TZNAME:AEST
DTSTART:20240101T000000
END:STANDARD
END:VTIMEZONE
BEGIN:VEVENT
DTSTART;TZID=Australia/Brisbane:20250830T103000
DTEND;TZID=Australia/Brisbane:20250830T130000
DTSTAMP:20260424T163623
CREATED:20250730T020836Z
LAST-MODIFIED:20250730T020836Z
UID:30481-1756549800-1756558800@nicolejohnston.com.au
SUMMARY:Yeronga | Annerley Stephens History Group Villa Street Revealed Launch
DESCRIPTION:
URL:https://nicolejohnston.com.au/event/yeronga-annerley-stephens-history-group-villa-street-revealed-launch/
LOCATION:Yeronga Community Centre\, 62 Park Rd\, Yeronga\, Queensland\, 4103\, Australia
CATEGORIES:Community Event
ATTACH;FMTTYPE=image/png:https://nicolejohnston.com.au/wp-content/uploads/2025/07/ASHG-Villa-St-Revealed-Launch-poster.png
ORGANIZER;CN="Annerley Stephens History Group":MAILTO:annerleystephenshistorygroupin@gmail.com
GEO:-27.5178214;153.0308084
X-APPLE-STRUCTURED-LOCATION;VALUE=URI;X-ADDRESS=Yeronga Community Centre 62 Park Rd Yeronga Queensland 4103 Australia;X-APPLE-RADIUS=500;X-TITLE=62 Park Rd:geo:153.0308084,-27.5178214
END:VEVENT
BEGIN:VEVENT
DTSTART;TZID=Australia/Brisbane:20250602T190000
DTEND;TZID=Australia/Brisbane:20250602T200000
DTSTAMP:20260424T163623
CREATED:20250520T022942Z
LAST-MODIFIED:20250520T022942Z
UID:29824-1748890800-1748894400@nicolejohnston.com.au
SUMMARY:Yeronga | ASHG Talk: My Place
DESCRIPTION:Join Dr Michael Macklin on Monday 2 June at 7.00 pm for his presentation: My Place – the story of not only a house in Yeronga but a place from pre-colonial times to the present day.
URL:https://nicolejohnston.com.au/event/yeronga-ashg-talk-my-place/
LOCATION:Yeronga Community Centre\, 62 Park Rd\, Yeronga\, Queensland\, 4103\, Australia
CATEGORIES:Community Event
ATTACH;FMTTYPE=image/png:https://nicolejohnston.com.au/wp-content/uploads/2025/05/My-place-with-RSVP.png
ORGANIZER;CN="Annerley Stephens History Group":MAILTO:annerleystephenshistorygroupin@gmail.com
GEO:-27.5178214;153.0308084
X-APPLE-STRUCTURED-LOCATION;VALUE=URI;X-ADDRESS=Yeronga Community Centre 62 Park Rd Yeronga Queensland 4103 Australia;X-APPLE-RADIUS=500;X-TITLE=62 Park Rd:geo:153.0308084,-27.5178214
END:VEVENT
BEGIN:VEVENT
DTSTART;TZID=Australia/Brisbane:20250506T190000
DTEND;TZID=Australia/Brisbane:20250506T200000
DTSTAMP:20260424T163623
CREATED:20250401T061722Z
LAST-MODIFIED:20250401T061722Z
UID:29546-1746558000-1746561600@nicolejohnston.com.au
SUMMARY:Yeronga | Hurtling Towards Amalgamation: Reflections on Stephens Shire and the Creation of Greater Brisbane
DESCRIPTION:RSVP: annerleystephenshistorygroupin@gmail.com by Friday May 2.
URL:https://nicolejohnston.com.au/event/yeronga-hurtling-towards-amalgamation-reflections-on-stephens-shire-and-the-creation-of-greater-brisbane/
LOCATION:Yeronga Community Centre\, 62 Park Rd\, Yeronga\, Queensland\, 4103\, Australia
CATEGORIES:Community Event
ATTACH;FMTTYPE=image/jpeg:https://nicolejohnston.com.au/wp-content/uploads/2025/04/ASHG-Panel-Discussion-Hurtling-Towards-Amalgamation.jpg
ORGANIZER;CN="Annerley Stephens History Group":MAILTO:annerleystephenshistorygroupin@gmail.com
GEO:-27.5178214;153.0308084
X-APPLE-STRUCTURED-LOCATION;VALUE=URI;X-ADDRESS=Yeronga Community Centre 62 Park Rd Yeronga Queensland 4103 Australia;X-APPLE-RADIUS=500;X-TITLE=62 Park Rd:geo:153.0308084,-27.5178214
END:VEVENT
BEGIN:VEVENT
DTSTART;TZID=Australia/Brisbane:20250407T190000
DTEND;TZID=Australia/Brisbane:20250407T201500
DTSTAMP:20260424T163623
CREATED:20250331T015814Z
LAST-MODIFIED:20250331T015814Z
UID:29379-1744052400-1744056900@nicolejohnston.com.au
SUMMARY:Yeronga | Lest We Forget History Talk
DESCRIPTION:Lest We Forget – but what are we remembering? Learning and unlearning about the Great War.\n\nA special Talking History event following the ASHG general business meeting by guest speaker Dr Mark Cryle. This event will be held at the Yeronga Community Centre.\nIn 2015\, published historian Dr Mark Cryle completed a PhD entitled Making ‘the One Day of the Year’: a Genealogy of Anzac Day to 1918. In 2016 he was awarded a Q Anzac100 Fellowship from the State Library of Queensland. With Erica McWilham\, Mark recently co-wrote Somerville House: Then and Now (2024).\n\nRSVP BY Friday 4 April 2025 annerleystephenshistorygroupin@gmail.com
URL:https://nicolejohnston.com.au/event/yeronga-lest-we-forget-history-talk/
LOCATION:Yeronga Community Centre\, 62 Park Rd\, Yeronga\, Queensland\, 4103\, Australia
CATEGORIES:Community Event
ATTACH;FMTTYPE=image/jpeg:https://nicolejohnston.com.au/wp-content/uploads/2025/03/ASHG-Lest-We-Forget-Talk-April-7.jpg
ORGANIZER;CN="Annerley Stephens History Group":MAILTO:annerleystephenshistorygroupin@gmail.com
GEO:-27.5178214;153.0308084
X-APPLE-STRUCTURED-LOCATION;VALUE=URI;X-ADDRESS=Yeronga Community Centre 62 Park Rd Yeronga Queensland 4103 Australia;X-APPLE-RADIUS=500;X-TITLE=62 Park Rd:geo:153.0308084,-27.5178214
END:VEVENT
BEGIN:VEVENT
DTSTART;TZID=Australia/Brisbane:20250301T100000
DTEND;TZID=Australia/Brisbane:20250301T130000
DTSTAMP:20260424T163623
CREATED:20250227T034113Z
LAST-MODIFIED:20250227T034113Z
UID:29246-1740823200-1740834000@nicolejohnston.com.au
SUMMARY:Yeronga - A Tornado in Brisbane?
DESCRIPTION:
URL:https://nicolejohnston.com.au/event/yeronga-a-tornado-in-brisbane/
LOCATION:Yeronga Community Centre\, 62 Park Rd\, Yeronga\, Queensland\, 4103\, Australia
CATEGORIES:Community Event
ATTACH;FMTTYPE=image/png:https://nicolejohnston.com.au/wp-content/uploads/2025/02/ASHG-re-Tornado-in-Brisbane-flyer.png
ORGANIZER;CN="Annerley Stephens History Group":MAILTO:annerleystephenshistorygroupin@gmail.com
GEO:-27.5178214;153.0308084
X-APPLE-STRUCTURED-LOCATION;VALUE=URI;X-ADDRESS=Yeronga Community Centre 62 Park Rd Yeronga Queensland 4103 Australia;X-APPLE-RADIUS=500;X-TITLE=62 Park Rd:geo:153.0308084,-27.5178214
END:VEVENT
BEGIN:VEVENT
DTSTART;TZID=Australia/Brisbane:20250203T190000
DTEND;TZID=Australia/Brisbane:20250203T210000
DTSTAMP:20260424T163623
CREATED:20250121T054243Z
LAST-MODIFIED:20250121T054243Z
UID:29202-1738609200-1738616400@nicolejohnston.com.au
SUMMARY:History Alive
DESCRIPTION:Get on board for a night of fun and games with history\, as we kick 2025 off with some active history\, mixed in with meeting other members and sharing a cuppa over a light supper. FREE. All welcome. RSVP by 30 Jan 2025 for catering purposes. E: annerleystephenshistorygroupin@gmail.com PH: 0409 769 515
URL:https://nicolejohnston.com.au/event/history-alive/
LOCATION:Yeronga Community Centre\, 62 Park Rd\, Yeronga\, Queensland\, 4103\, Australia
ATTACH;FMTTYPE=application/pdf:https://nicolejohnston.com.au/wp-content/uploads/2025/01/ASHG-History-Alive-flyer.pdf
ORGANIZER;CN="Annerley Stephens History Group":MAILTO:annerleystephenshistorygroupin@gmail.com
GEO:-27.5178214;153.0308084
X-APPLE-STRUCTURED-LOCATION;VALUE=URI;X-ADDRESS=Yeronga Community Centre 62 Park Rd Yeronga Queensland 4103 Australia;X-APPLE-RADIUS=500;X-TITLE=62 Park Rd:geo:153.0308084,-27.5178214
END:VEVENT
END:VCALENDAR